Workbook

Sheet GDP CP 2019
A1: Table 1.1 Gross Domestic Product at Current Prices by Industry by Province 2019 ZWL
A2: Industry | B2: Bulawayo | C2: Manicaland | D2: Mash. Central | E2: Mash. East | F2: Mash. West | G2: Mat. North | H2: Mat. South | I2: Midlands | J2: Masvingo | K2: Harare | L2: Total
A3: Agriculture, Forestry and Fishing | B3: 9.7409277e+08 | C3: 4.0635555e+09 | D3: 6.2535292e+09 | E3: 5.0045876e+09 | F3: 4.1779402e+09 | G3: 1.0544005e+09 | H3: 9.3687492e+08 | I3: 4.8662836e+09 | J3: 4.1644021e+09 | K3: 9.7409277e+08 | L3: 3.2469759e+10
A4: Mining and Quarrying | B4: 4.4945753e+08 | C4: 4.1877792e+09 | D4: 4.4030578e+09 | E4: 1.2939295e+09 | F4: 1.0458707e+10 | G4: 3.6990552e+09 | H4: 3.9806577e+09 | I4: 7.5905731e+09 | J4: 2.9955345e+09 | K4: 7.2555287e+08 | L4: 3.9784305e+10
A5: Manufacturing | B5: 7.4546138e+09 | C5: 3.8453484e+09 | D5: 1.8722153e+09 | E5: 3.1145059e+09 | F5: 3.3914827e+09 | G5: 2.1654659e+09 | H5: 1.8136196e+09 | I5: 4.4080984e+09 | J5: 3.1954897e+09 | K5: 1.5768827e+10 | L5: 4.7029666e+10
A6: Electricity, Gas, Steam and Air Conditioning Supply | B6: 6.718097e+08 | C6: 5.7879279e+08 | D6: 3.7443144e+08 | E6: 3.6468862e+08 | F6: 3.3124106e+09 | G6: 2.0764582e+09 | H6: 3.4973077e+08 | I6: 3.8779351e+08 | J6: 4.729107e+08 | K6: 7.0219323e+08 | L6: 9.2912195e+09
A7: Water Supply; Sewerage, Waste Management & Remediation Activities | B7: 1.8255947e+08 | C7: 56714694 | D7: 12491755 | E7: 30719936 | F7: 51850111 | G7: 17473030 | H7: 19329516 | I7: 1.0017719e+08 | J7: 47289478 | K7: 3.1143837e+08 | L7: 8.3004354e+08
A8: Construction | B8: 1.5040252e+09 | C8: 5.740965e+08 | D8: 4.5951282e+08 | E8: 4.9917202e+08 | F8: 6.4477895e+08 | G8: 4.7618725e+08 | H8: 4.1879912e+08 | I8: 9.8061359e+08 | J8: 5.2243027e+08 | K8: 2.8866754e+09 | L8: 8.9662911e+09
A9: Wholesale and Retail Trade; Repair of Motor Vehicles and Motorcycles | B9: 1.3843497e+10 | C9: 6.8446211e+09 | D9: 2.4646006e+09 | E9: 2.9362934e+09 | F9: 4.1153259e+09 | G9: 2.1401134e+09 | H9: 3.5283643e+09 | I9: 5.6050077e+09 | J9: 4.7841424e+09 | K9: 1.8730977e+10 | L9: 6.4992943e+10
A10: Transportation and Storage | B10: 9.5247943e+08 | C10: 7.3704117e+08 | D10: 3.8810018e+08 | E10: 5.8429088e+08 | F10: 7.5582238e+08 | G10: 4.7625544e+08 | H10: 5.0745843e+08 | I10: 7.0487355e+08 | J10: 7.7530411e+08 | K10: 2.5898346e+09 | L10: 8.4714602e+09
A11: Accommodation and Food Service Activities | B11: 1.2737989e+09 | C11: 6.2604487e+08 | D11: 3.4599002e+08 | E11: 3.6102574e+08 | F11: 8.1888315e+08 | G11: 8.578587e+08 | H11: 3.9201464e+08 | I11: 7.6532841e+08 | J11: 5.8656975e+08 | K11: 2.2760567e+09 | L11: 8.3035709e+09
A12: Information and Communication | B12: 2.9855474e+09 | C12: 1.3487857e+09 | D12: 7.0047148e+08 | E12: 1.081151e+09 | F12: 1.3586877e+09 | G12: 7.3334983e+08 | H12: 9.4239233e+08 | I12: 1.2735283e+09 | J12: 1.3175071e+09 | K12: 4.3781191e+09 | L12: 1.611954e+10
A13: Financial and Insurance Activities | B13: 3.4901065e+09 | C13: 1.5519698e+09 | D13: 9.6803806e+08 | E13: 9.9136868e+08 | F13: 2.3934027e+09 | G13: 1.3725654e+09 | H13: 8.3706309e+08 | I13: 2.3502785e+09 | J13: 1.2505311e+09 | K13: 6.413619e+09 | L13: 2.1618943e+10
A14: Real Estate Activities | B14: 1.4203436e+09 | C14: 8.8723634e+08 | D14: 5.0237425e+08 | E14: 7.2811727e+08 | F14: 8.3590193e+08 | G14: 3.0011628e+08 | H14: 4.5534077e+08 | I14: 9.6464757e+08 | J14: 9.353295e+08 | K14: 2.6149008e+09 | L14: 9.6443083e+09
... A32: GDP at Market Prices USD | B32: 3.3783221e+09 | C32: 2.318843e+09 | D32: 1.615835e+09 | E32: 1.6890024e+09 | F32: 2.8445937e+09 | G32: 1.3175684e+09 | H32: 1.3042458e+09 | I32: 3.1517468e+09 | J32: 1.961193e+09 | K32: 6.1360603e+09 | L32: 2.5717411e+10

Sheet GDP KP 2019
A1: Table 1.2 Gross Domestic Product at Constant Prices by Industry by Province 2019 ZWL
A2: Industry | B2: Bulawayo | C2: Manicaland | D2: Mash. Central | E2: Mash. East | F2: Mash. West | G2: Mat. North | H2: Mat. South | I2: Midlands | J2: Masvingo | K2: Harare | L2: Total
A3: Agriculture, Forestry and Fishing | B3: 4.4252132e+11 | C3: 1.8460356e+12 | D3: 2.8409204e+12 | E3: 2.2735378e+12 | F3: 1.8979995e+12 | G3: 4.7900437e+11 | H3: 4.256136e+11 | I3: 2.2107076e+12 | J3: 1.8918493e+12 | K3: 4.4252132e+11 | L3: 1.4750711e+13
A4: Mining and Quarrying | B4: 2.0418439e+11 | C4: 2.0832057e+12 | D4: 1.819532e+12 | E4: 7.6855661e+11 | F4: 4.5705575e+12 | G4: 1.4997101e+12 | H4: 1.8083759e+12 | I4: 3.6290634e+12 | J4: 1.3608436e+12 | K4: 3.2961195e+11 | L4: 1.8073641e+13
A5: Manufacturing | B5: 3.386562e+12 | C5: 1.7469062e+12 | D5: 8.5053008e+11 | E5: 1.4148912e+12 | F5: 1.5407192e+12 | G5: 9.8375109e+11 | H5: 8.2391059e+11 | I5: 2.0025583e+12 | J5: 1.4516814e+12 | K5: 7.1636318e+12 | L5: 2.1365142e+13
A6: Electricity, Gas, Steam and Air Conditioning Supply | B6: 3.0519692e+11 | C6: 2.629402e+11 | D6: 1.7010073e+11 | E6: 1.6567466e+11 | F6: 1.5047974e+12 | G6: 9.4331573e+11 | H6: 1.5887945e+11 | I6: 1.76171e+11 | J6: 2.1483895e+11 | K6: 3.1899988e+11 | L6: 4.220915e+12
A7: Water Supply; Sewerage, Waste Management & Remediation Activities | B7: 8.2935075e+10 | C7: 2.576496e+10 | D7: 5.6748886e+09 | E7: 1.3955782e+10 | F7: 2.3555025e+10 | G7: 7.9378357e+09 | H7: 8.78122e+09 | I7: 4.5509568e+10 | J7: 2.1483172e+10 | K7: 1.4148357e+11 | L7: 3.7708109e+11
A8: Construction | B8: 6.8326469e+11 | C8: 2.6080672e+11 | D8: 2.0875242e+11 | E8: 2.2676923e+11 | F8: 2.929171e+11 | G8: 2.1632746e+11 | H8: 1.9025656e+11 | I8: 4.4548367e+11 | J8: 2.3733523e+11 | K8: 1.3113899e+12 | L8: 4.073303e+12
A9: Wholesale and Retail Trade; Repair of Motor Vehicles and Motorcycles | B9: 6.2889724e+12 | C9: 3.109448e+12 | D9: 1.1196452e+12 | E9: 1.3339309e+12 | F9: 1.8695544e+12 | G9: 9.7223369e+11 | H9: 1.6029032e+12 | I9: 2.5463031e+12 | J9: 2.1733916e+12 | K9: 8.5093094e+12 | L9: 2.9525692e+13
A10: Transportation and Storage | B10: 4.3270258e+11 | C10: 3.3483097e+11 | D10: 1.7631031e+11 | E10: 2.6543794e+11 | F10: 3.4336311e+11 | G10: 2.1635844e+11 | H10: 2.3053366e+11 | I10: 3.2021752e+11 | J10: 3.5221347e+11 | K10: 1.1765379e+12 | L10: 3.8485059e+12
A11: Accommodation and Food Service Activities | B11: 5.7867502e+11 | C11: 2.8440638e+11 | D11: 1.5718006e+11 | E11: 1.6401065e+11 | F11: 3.7201103e+11 | G11: 3.8971726e+11 | H11: 1.7808862e+11 | I11: 3.4768161e+11 | J11: 2.664732e+11 | K11: 1.0339915e+12 | L11: 3.7722353e+12
A12: Information and Communication | B12: 1.3563065e+12 | C12: 6.1274084e+11 | D12: 3.1821771e+11 | E12: 4.9115687e+11 | F12: 6.1723923e+11 | G12: 3.3315403e+11 | H12: 4.281201e+11 | I12: 5.7855212e+11 | J12: 5.9853125e+11 | K12: 1.9889389e+12 | L12: 7.3229576e+12
A13: Financial and Insurance Activities | B13: 1.5855231e+12 | C13: 7.0504548e+11 | D13: 4.3977072e+11 | E13: 4.5036961e+11 | F13: 1.0873007e+12 | G13: 6.2354375e+11 | H13: 3.8027001e+11 | I13: 1.0677098e+12 | J13: 5.6810471e+11 | K13: 2.9136477e+12 | L13: 9.8212855e+12
A14: Real Estate Activities | B14: 6.4524894e+11 | C14: 4.0306325e+11 | D14: 2.2822397e+11 | E14: 3.3077693e+11 | F14: 3.797425e+11 | G14: 1.3634005e+11 | H14: 2.0685709e+11 | I14: 4.3823045e+11 | J14: 4.2491153e+11 | K14: 1.1879252e+12 | L14: 4.3813199e+12
... A29: GDP per Capita | B29: 31728876 | C29: 7371606 | D29: 7408712.8 | E29: 5987973.6 | F29: 9685283.7 | G29: 10089203 | H29: 11150448 | I29: 9778623.7 | J29: 7681258.8 | K29: 15809069 | L29: 10581890

Sheet GDP CP 2019 Contr Industry
A1: Table 1.4 Gross Domestic Product by Industry by Province 2019
A2: Industry | B2: Bulawayo | C2: Manicaland | D2: Mash. Central | E2: Mash. East | F2: Mash. West | G2: Mat. North | H2: Mat. South | I2: Midlands | J2: Masvingo | K2: Harare | L2: Total
A3: Agriculture, Forestry and Fishing | B3: ='GDP CP 2019'!B3/'GDP CP 2019'!$L$3*100 -> 3 | C3: ='GDP CP 2019'!C3/'GDP CP 2019'!$L$3*100 -> 12.514893 | D3: ='GDP CP 2019'!D3/'GDP CP 2019'!$L$3*100 -> 19.259549 | E3: ='GDP CP 2019'!E3/'GDP CP 2019'!$L$3*100 -> 15.413073 | F3: ='GDP CP 2019'!F3/'GDP CP 2019'!$L$3*100 -> 12.867173 | G3: ='GDP CP 2019'!G3/'GDP CP 2019'!$L$3*100 -> 3.2473308 | H3: ='GDP CP 2019'!H3/'GDP CP 2019'!$L$3*100 -> 2.8853769 | I3: ='GDP CP 2019'!I3/'GDP CP 2019'!$L$3*100 -> 14.987126 | ... L3: ='GDP CP 2019'!L3/'GDP CP 2019'!$L$3*100 -> 100
A4: Mining and Quarrying | B4: ='GDP CP 2019'!B4/'GDP CP 2019'!$L$4*100 -> 1.1297358 | C4: ='GDP CP 2019'!C4/'GDP CP 2019'!$L$4*100 -> 10.526209 | D4: ='GDP CP 2019'!D4/'GDP CP 2019'!$L$4*100 -> 11.067324 | E4: ='GDP CP 2019'!E4/'GDP CP 2019'!$L$4*100 -> 3.2523618 | F4: ='GDP CP 2019'!F4/'GDP CP 2019'!$L$4*100 -> 26.288526 | G4: ='GDP CP 2019'!G4/'GDP CP 2019'!$L$4*100 -> 9.297775 | H4: ='GDP CP 2019'!H4/'GDP CP 2019'!$L$4*100 -> 10.005598 | I4: ='GDP CP 2019'!I4/'GDP CP 2019'!$L$4*100 -> 19.079316 | ... L4: ='GDP CP 2019'!L4/'GDP CP 2019'!$L$4*100 -> 100
A5: Manufacturing | B5: ='GDP CP 2019'!B5/'GDP CP 2019'!$L$5*100 -> 15.850875 | C5: ='GDP CP 2019'!C5/'GDP CP 2019'!$L$5*100 -> 8.1764314 | D5: ='GDP CP 2019'!D5/'GDP CP 2019'!$L$5*100 -> 3.9809241 | E5: ='GDP CP 2019'!E5/'GDP CP 2019'!$L$5*100 -> 6.6224282 | F5: ='GDP CP 2019'!F5/'GDP CP 2019'!$L$5*100 -> 7.2113689 | G5: ='GDP CP 2019'!G5/'GDP CP 2019'!$L$5*100 -> 4.6044679 | H5: ='GDP CP 2019'!H5/'GDP CP 2019'!$L$5*100 -> 3.856331 | I5: ='GDP CP 2019'!I5/'GDP CP 2019'!$L$5*100 -> 9.3730165 | ... L5: ='GDP CP 2019'!L5/'GDP CP 2019'!$L$5*100 -> 100
A6: Electricity, Gas, Steam and Air Conditioning Supply | B6: ='GDP CP 2019'!B6/'GDP CP 2019'!$L$6*100 -> 7.2305869 | C6: ='GDP CP 2019'!C6/'GDP CP 2019'!$L$6*100 -> 6.2294598 | D6: ='GDP CP 2019'!D6/'GDP CP 2019'!$L$6*100 -> 4.0299493 | E6: ='GDP CP 2019'!E6/'GDP CP 2019'!$L$6*100 -> 3.9250888 | F6: ='GDP CP 2019'!F6/'GDP CP 2019'!$L$6*100 -> 35.650977 | G6: ='GDP CP 2019'!G6/'GDP CP 2019'!$L$6*100 -> 22.348608 | H6: ='GDP CP 2019'!H6/'GDP CP 2019'!$L$6*100 -> 3.7640997 | I6: ='GDP CP 2019'!I6/'GDP CP 2019'!$L$6*100 -> 4.1737633 | ... L6: ='GDP CP 2019'!L6/'GDP CP 2019'!$L$6*100 -> 100
A7: Water Supply; Sewerage, Waste Management & Remediation Activities | B7: ='GDP CP 2019'!B7/'GDP CP 2019'!$L$7*100 -> 21.993963 | C7: ='GDP CP 2019'!C7/'GDP CP 2019'!$L$7*100 -> 6.8327372 | D7: ='GDP CP 2019'!D7/'GDP CP 2019'!$L$7*100 -> 1.5049518 | E7: ='GDP CP 2019'!E7/'GDP CP 2019'!$L$7*100 -> 3.7010029 | F7: ='GDP CP 2019'!F7/'GDP CP 2019'!$L$7*100 -> 6.2466737 | G7: ='GDP CP 2019'!G7/'GDP CP 2019'!$L$7*100 -> 2.1050739 | H7: ='GDP CP 2019'!H7/'GDP CP 2019'!$L$7*100 -> 2.3287352 | I7: ='GDP CP 2019'!I7/'GDP CP 2019'!$L$7*100 -> 12.068907 | ... L7: ='GDP CP 2019'!L7/'GDP CP 2019'!$L$7*100 -> 100
A8: Construction | B8: ='GDP CP 2019'!B8/'GDP CP 2019'!$L$8*100 -> 16.774217 | C8: ='GDP CP 2019'!C8/'GDP CP 2019'!$L$8*100 -> 6.4028314 | D8: ='GDP CP 2019'!D8/'GDP CP 2019'!$L$8*100 -> 5.124893 | E8: ='GDP CP 2019'!E8/'GDP CP 2019'!$L$8*100 -> 5.5672074 | F8: ='GDP CP 2019'!F8/'GDP CP 2019'!$L$8*100 -> 7.1911445 | G8: ='GDP CP 2019'!G8/'GDP CP 2019'!$L$8*100 -> 5.3108609 | H8: ='GDP CP 2019'!H8/'GDP CP 2019'!$L$8*100 -> 4.6708178 | I8: ='GDP CP 2019'!I8/'GDP CP 2019'!$L$8*100 -> 10.936669 | ... L8: ='GDP CP 2019'!L8/'GDP CP 2019'!$L$8*100 -> 100
A9: Wholesale and Retail Trade; Repair of Motor Vehicles and Motorcycles | B9: ='GDP CP 2019'!B9/'GDP CP 2019'!$L$9*100 -> 21.3 | C9: ='GDP CP 2019'!C9/'GDP CP 2019'!$L$9*100 -> 10.53133 | D9: ='GDP CP 2019'!D9/'GDP CP 2019'!$L$9*100 -> 3.7921049 | E9: ='GDP CP 2019'!E9/'GDP CP 2019'!$L$9*100 -> 4.517865 | F9: ='GDP CP 2019'!F9/'GDP CP 2019'!$L$9*100 -> 6.3319581 | G9: ='GDP CP 2019'!G9/'GDP CP 2019'!$L$9*100 -> 3.2928397 | H9: ='GDP CP 2019'!H9/'GDP CP 2019'!$L$9*100 -> 5.4288422 | I9: ='GDP CP 2019'!I9/'GDP CP 2019'!$L$9*100 -> 8.6240251 | ... L9: ='GDP CP 2019'!L9/'GDP CP 2019'!$L$9*100 -> 100
A10: Transportation and Storage | B10: ='GDP CP 2019'!B10/'GDP CP 2019'!$L$10*100 -> 11.243391 | C10: ='GDP CP 2019'!C10/'GDP CP 2019'!$L$10*100 -> 8.7002848 | D10: ='GDP CP 2019'!D10/'GDP CP 2019'!$L$10*100 -> 4.5812666 | E10: ='GDP CP 2019'!E10/'GDP CP 2019'!$L$10*100 -> 6.8971685 | F10: ='GDP CP 2019'!F10/'GDP CP 2019'!$L$10*100 -> 8.9219847 | G10: ='GDP CP 2019'!G10/'GDP CP 2019'!$L$10*100 -> 5.6218814 | H10: ='GDP CP 2019'!H10/'GDP CP 2019'!$L$10*100 -> 5.9902121 | I10: ='GDP CP 2019'!I10/'GDP CP 2019'!$L$10*100 -> 8.3205674 | ... L10: ='GDP CP 2019'!L10/'GDP CP 2019'!$L$10*100 -> 100
A11: Accommodation and Food Service Activities | B11: ='GDP CP 2019'!B11/'GDP CP 2019'!$L$11*100 -> 15.340374 | C11: ='GDP CP 2019'!C11/'GDP CP 2019'!$L$11*100 -> 7.5394656 | D11: ='GDP CP 2019'!D11/'GDP CP 2019'!$L$11*100 -> 4.1667618 | E11: ='GDP CP 2019'!E11/'GDP CP 2019'!$L$11*100 -> 4.3478372 | F11: ='GDP CP 2019'!F11/'GDP CP 2019'!$L$11*100 -> 9.8618193 | G11: ='GDP CP 2019'!G11/'GDP CP 2019'!$L$11*100 -> 10.331202 | H11: ='GDP CP 2019'!H11/'GDP CP 2019'!$L$11*100 -> 4.7210369 | I11: ='GDP CP 2019'!I11/'GDP CP 2019'!$L$11*100 -> 9.2168589 | ... L11: ='GDP CP 2019'!L11/'GDP CP 2019'!$L$11*100 -> 100
A12: Information and Communication | B12: ='GDP CP 2019'!B12/'GDP CP 2019'!$L$12*100 -> 18.521294 | C12: ='GDP CP 2019'!C12/'GDP CP 2019'!$L$12*100 -> 8.3673957 | D12: ='GDP CP 2019'!D12/'GDP CP 2019'!$L$12*100 -> 4.3454807 | E12: ='GDP CP 2019'!E12/'GDP CP 2019'!$L$12*100 -> 6.7070833 | F12: ='GDP CP 2019'!F12/'GDP CP 2019'!$L$12*100 -> 8.4288242 | G12: ='GDP CP 2019'!G12/'GDP CP 2019'!$L$12*100 -> 4.5494464 | H12: ='GDP CP 2019'!H12/'GDP CP 2019'!$L$12*100 -> 5.8462732 | I12: ='GDP CP 2019'!I12/'GDP CP 2019'!$L$12*100 -> 7.9005253 | ... L12: ='GDP CP 2019'!L12/'GDP CP 2019'!$L$12*100 -> 100
A13: Financial and Insurance Activities | B13: ='GDP CP 2019'!B13/'GDP CP 2019'!$L$13*100 -> 16.143743 | C13: ='GDP CP 2019'!C13/'GDP CP 2019'!$L$13*100 -> 7.1787495 | D13: ='GDP CP 2019'!D13/'GDP CP 2019'!$L$13*100 -> 4.4777308 | E13: ='GDP CP 2019'!E13/'GDP CP 2019'!$L$13*100 -> 4.5856483 | F13: ='GDP CP 2019'!F13/'GDP CP 2019'!$L$13*100 -> 11.070859 | G13: ='GDP CP 2019'!G13/'GDP CP 2019'!$L$13*100 -> 6.3489016 | H13: ='GDP CP 2019'!H13/'GDP CP 2019'!$L$13*100 -> 3.8718965 | I13: ='GDP CP 2019'!I13/'GDP CP 2019'!$L$13*100 -> 10.871385 | ... L13: ='GDP CP 2019'!L13/'GDP CP 2019'!$L$13*100 -> 100
A14: Real Estate Activities | B14: ='GDP CP 2019'!B14/'GDP CP 2019'!$L$14*100 -> 14.727273 | C14: ='GDP CP 2019'!C14/'GDP CP 2019'!$L$14*100 -> 9.199585 | D14: ='GDP CP 2019'!D14/'GDP CP 2019'!$L$14*100 -> 5.2090231 | E14: ='GDP CP 2019'!E14/'GDP CP 2019'!$L$14*100 -> 7.5497096 | F14: ='GDP CP 2019'!F14/'GDP CP 2019'!$L$14*100 -> 8.6673083 | G14: ='GDP CP 2019'!G14/'GDP CP 2019'!$L$14*100 -> 3.1118487 | H14: ='GDP CP 2019'!H14/'GDP CP 2019'!$L$14*100 -> 4.7213419 | I14: ='GDP CP 2019'!I14/'GDP CP 2019'!$L$14*100 -> 10.002247 | ... L14: ='GDP CP 2019'!L14/'GDP CP 2019'!$L$14*100 -> 100
A15: Professional, Scientific and Technical Activities | B15: ='GDP CP 2019'!B15/'GDP CP 2019'!$L$15*100 -> 24.324637 | C15: ='GDP CP 2019'!C15/'GDP CP 2019'!$L$15*100 -> 0.90773459 | D15: ='GDP CP 2019'!D15/'GDP CP 2019'!$L$15*100 -> 0.049534255 | E15: ='GDP CP 2019'!E15/'GDP CP 2019'!$L$15*100 -> 1.8709775 | F15: ='GDP CP 2019'!F15/'GDP CP 2019'!$L$15*100 -> 2.4588958 | G15: ='GDP CP 2019'!G15/'GDP CP 2019'!$L$15*100 -> 1.4147281 | H15: ='GDP CP 2019'!H15/'GDP CP 2019'!$L$15*100 -> 0.041888882 | I15: ='GDP CP 2019'!I15/'GDP CP 2019'!$L$15*100 -> 3.4737579 | ... L15: ='GDP CP 2019'!L15/'GDP CP 2019'!$L$15*100 -> 100
A16: Administrative and support service activities | B16: ='GDP CP 2019'!B16/'GDP CP 2019'!$L$16*100 -> 11.178858 | C16: ='GDP CP 2019'!C16/'GDP CP 2019'!$L$16*100 -> 9.1398118 | D16: ='GDP CP 2019'!D16/'GDP CP 2019'!$L$16*100 -> 5.5199796 | E16: ='GDP CP 2019'!E16/'GDP CP 2019'!$L$16*100 -> 7.6919456 | F16: ='GDP CP 2019'!F16/'GDP CP 2019'!$L$16*100 -> 8.8014845 | G16: ='GDP CP 2019'!G16/'GDP CP 2019'!$L$16*100 -> 3.7000116 | H16: ='GDP CP 2019'!H16/'GDP CP 2019'!$L$16*100 -> 3.7695965 | I16: ='GDP CP 2019'!I16/'GDP CP 2019'!$L$16*100 -> 9.8175823 | ... L16: ='GDP CP 2019'!L16/'GDP CP 2019'!$L$16*100 -> 100
A17: Public Administration and Defence; Compulsory Social Security | B17: ='GDP CP 2019'!B17/'GDP CP 2019'!$L$17*100 -> 13.36578 | C17: ='GDP CP 2019'!C17/'GDP CP 2019'!$L$17*100 -> 9.096496 | D17: ='GDP CP 2019'!D17/'GDP CP 2019'!$L$17*100 -> 4.6016575 | E17: ='GDP CP 2019'!E17/'GDP CP 2019'!$L$17*100 -> 4.481921 | F17: ='GDP CP 2019'!F17/'GDP CP 2019'!$L$17*100 -> 10.611337 | G17: ='GDP CP 2019'!G17/'GDP CP 2019'!$L$17*100 -> 4.2230715 | H17: ='GDP CP 2019'!H17/'GDP CP 2019'!$L$17*100 -> 4.2980931 | I17: ='GDP CP 2019'!I17/'GDP CP 2019'!$L$17*100 -> 10.940736 | ... L17: ='GDP CP 2019'!L17/'GDP CP 2019'!$L$17*100 -> 100
A18: Education | B18: ='GDP CP 2019'!B18/'GDP CP 2019'!$L$18*100 -> 10.621081 | C18: ='GDP CP 2019'!C18/'GDP CP 2019'!$L$18*100 -> 8.3571804 | D18: ='GDP CP 2019'!D18/'GDP CP 2019'!$L$18*100 -> 2.9730384 | E18: ='GDP CP 2019'!E18/'GDP CP 2019'!$L$18*100 -> 6.3795944 | F18: ='GDP CP 2019'!F18/'GDP CP 2019'!$L$18*100 -> 9.0371608 | G18: ='GDP CP 2019'!G18/'GDP CP 2019'!$L$18*100 -> 1.6747664 | H18: ='GDP CP 2019'!H18/'GDP CP 2019'!$L$18*100 -> 9.2887216 | I18: ='GDP CP 2019'!I18/'GDP CP 2019'!$L$18*100 -> 10.307969 | ... L18: ='GDP CP 2019'!L18/'GDP CP 2019'!$L$18*100 -> 100
A19: Human Health and Social Work Activities | B19: ='GDP CP 2019'!B19/'GDP CP 2019'!$L$19*100 -> 12.674759 | C19: ='GDP CP 2019'!C19/'GDP CP 2019'!$L$19*100 -> 8.9691903 | D19: ='GDP CP 2019'!D19/'GDP CP 2019'!$L$19*100 -> 3.5651481 | E19: ='GDP CP 2019'!E19/'GDP CP 2019'!$L$19*100 -> 7.528541 | F19: ='GDP CP 2019'!F19/'GDP CP 2019'!$L$19*100 -> 7.9664262 | G19: ='GDP CP 2019'!G19/'GDP CP 2019'!$L$19*100 -> 2.1710385 | H19: ='GDP CP 2019'!H19/'GDP CP 2019'!$L$19*100 -> 4.9967133 | I19: ='GDP CP 2019'!I19/'GDP CP 2019'!$L$19*100 -> 5.2215725 | ... L19: ='GDP CP 2019'!L19/'GDP CP 2019'!$L$19*100 -> 100
A20: Arts, Entertainment and Recreation | B20: ='GDP CP 2019'!B20/'GDP CP 2019'!$L$20*100 -> 16.232863 | C20: ='GDP CP 2019'!C20/'GDP CP 2019'!$L$20*100 -> 8.8684988 | D20: ='GDP CP 2019'!D20/'GDP CP 2019'!$L$20*100 -> 5.1910865 | E20: ='GDP CP 2019'!E20/'GDP CP 2019'!$L$20*100 -> 4.9909681 | F20: ='GDP CP 2019'!F20/'GDP CP 2019'!$L$20*100 -> 5.7397072 | G20: ='GDP CP 2019'!G20/'GDP CP 2019'!$L$20*100 -> 7.66458 | H20: ='GDP CP 2019'!H20/'GDP CP 2019'!$L$20*100 -> 6.2581483 | I20: ='GDP CP 2019'!I20/'GDP CP 2019'!$L$20*100 -> 8.3325496 | ... L20: ='GDP CP 2019'!L20/'GDP CP 2019'!$L$20*100 -> 100
A21: Other Services | B21: ='GDP CP 2019'!B21/'GDP CP 2019'!$L$21*100 -> 11.106978 | C21: ='GDP CP 2019'!C21/'GDP CP 2019'!$L$21*100 -> 8.5616285 | D21: ='GDP CP 2019'!D21/'GDP CP 2019'!$L$21*100 -> 4.2722382 | E21: ='GDP CP 2019'!E21/'GDP CP 2019'!$L$21*100 -> 8.0686158 | F21: ='GDP CP 2019'!F21/'GDP CP 2019'!$L$21*100 -> 10.642425 | G21: ='GDP CP 2019'!G21/'GDP CP 2019'!$L$21*100 -> 2.9101808 | H21: ='GDP CP 2019'!H21/'GDP CP 2019'!$L$21*100 -> 3.4264765 | I21: ='GDP CP 2019'!I21/'GDP CP 2019'!$L$21*100 -> 8.5354701 | ... L21: ='GDP CP 2019'!L21/'GDP CP 2019'!$L$21*100 -> 100
A22: Activities of Households as Employers, | B22: ='GDP CP 2019'!B22/'GDP CP 2019'!$L$22*100 -> 16.615565 | C22: ='GDP CP 2019'!C22/'GDP CP 2019'!$L$22*100 -> 4.9840789 | D22: ='GDP CP 2019'!D22/'GDP CP 2019'!$L$22*100 -> 1.7580454 | E22: ='GDP CP 2019'!E22/'GDP CP 2019'!$L$22*100 -> 3.6024448 | F22: ='GDP CP 2019'!F22/'GDP CP 2019'!$L$22*100 -> 5.0016238 | G22: ='GDP CP 2019'!G22/'GDP CP 2019'!$L$22*100 -> 2.6553531 | H22: ='GDP CP 2019'!H22/'GDP CP 2019'!$L$22*100 -> 4.6970299 | I22: ='GDP CP 2019'!I22/'GDP CP 2019'!$L$22*100 -> 6.291297 | ... L22: ='GDP CP 2019'!L22/'GDP CP 2019'!$L$22*100 -> 100
A23: GDP at Basic Prices | B23: ='GDP CP 2019'!B23/'GDP CP 2019'!$L$23*100 -> 13.156234 | C23: ='GDP CP 2019'!C23/'GDP CP 2019'!$L$23*100 -> 9.2457982 | D23: ='GDP CP 2019'!D23/'GDP CP 2019'!$L$23*100 -> 6.5217474 | E23: ='GDP CP 2019'!E23/'GDP CP 2019'!$L$23*100 -> 6.3193079 | F23: ='GDP CP 2019'!F23/'GDP CP 2019'!$L$23*100 -> 11.56794 | G23: ='GDP CP 2019'!G23/'GDP CP 2019'!$L$23*100 -> 5.3307748 | H23: ='GDP CP 2019'!H23/'GDP CP 2019'!$L$23*100 -> 5.2914461 | I23: ='GDP CP 2019'!I23/'GDP CP 2019'!$L$23*100 -> 10.826007 | ... L23: ='GDP CP 2019'!L23/'GDP CP 2019'!$L$23*100 -> 100
A24: Net Taxes on Products | B24: ='GDP CP 2019'!B24/'GDP CP 2019'!$L$24*100 -> 13.136323 | C24: ='GDP CP 2019'!C24/'GDP CP 2019'!$L$24*100 -> 9.0166271 | D24: ='GDP CP 2019'!D24/'GDP CP 2019'!$L$24*100 -> 6.2830394 | E24: ='GDP CP 2019'!E24/'GDP CP 2019'!$L$24*100 -> 6.5675447 | F24: ='GDP CP 2019'!F24/'GDP CP 2019'!$L$24*100 -> 11.060965 | G24: ='GDP CP 2019'!G24/'GDP CP 2019'!$L$24*100 -> 5.1232544 | H24: ='GDP CP 2019'!H24/'GDP CP 2019'!$L$24*100 -> 5.0714506 | I24: ='GDP CP 2019'!I24/'GDP CP 2019'!$L$24*100 -> 12.255304 | ... L24: ='GDP CP 2019'!L24/'GDP CP 2019'!$L$24*100 -> 100
A25: Taxes on Products | B25: ='GDP CP 2019'!B25/'GDP CP 2019'!$L$25*100 -> 13.136323 | C25: ='GDP CP 2019'!C25/'GDP CP 2019'!$L$25*100 -> 9.0166271 | D25: ='GDP CP 2019'!D25/'GDP CP 2019'!$L$25*100 -> 6.2830394 | E25: ='GDP CP 2019'!E25/'GDP CP 2019'!$L$25*100 -> 6.5675447 | F25: ='GDP CP 2019'!F25/'GDP CP 2019'!$L$25*100 -> 11.060965 | G25: ='GDP CP 2019'!G25/'GDP CP 2019'!$L$25*100 -> 5.1232544 | H25: ='GDP CP 2019'!H25/'GDP CP 2019'!$L$25*100 -> 5.0714506 | I25: ='GDP CP 2019'!I25/'GDP CP 2019'!$L$25*100 -> 12.255304 | ... L25: ='GDP CP 2019'!L25/'GDP CP 2019'!$L$25*100 -> 100
A26: Less Subsidies on Products | B26: ='GDP CP 2019'!B26/'GDP CP 2019'!$L$26*100 -> 13.136323 | C26: ='GDP CP 2019'!C26/'GDP CP 2019'!$L$26*100 -> 9.0166271 | D26: ='GDP CP 2019'!D26/'GDP CP 2019'!$L$26*100 -> 6.2830394 | E26: ='GDP CP 2019'!E26/'GDP CP 2019'!$L$26*100 -> 6.5675447 | F26: ='GDP CP 2019'!F26/'GDP CP 2019'!$L$26*100 -> 11.060965 | G26: ='GDP CP 2019'!G26/'GDP CP 2019'!$L$26*100 -> 5.1232544 | H26: ='GDP CP 2019'!H26/'GDP CP 2019'!$L$26*100 -> 5.0714506 | I26: ='GDP CP 2019'!I26/'GDP CP 2019'!$L$26*100 -> 12.255304 | ... L26: ='GDP CP 2019'!L26/'GDP CP 2019'!$L$26*100 -> 100
A27: GDP at Market Prices | B27: ='GDP CP 2019'!B27/'GDP CP 2019'!$L$27*100 -> 13.15552 | C27: ='GDP CP 2019'!C27/'GDP CP 2019'!$L$27*100 -> 9.2375825 | D27: ='GDP CP 2019'!D27/'GDP CP 2019'!$L$27*100 -> 6.5131898 | E27: ='GDP CP 2019'!E27/'GDP CP 2019'!$L$27*100 -> 6.328207 | F27: ='GDP CP 2019'!F27/'GDP CP 2019'!$L$27*100 -> 11.549765 | G27: ='GDP CP 2019'!G27/'GDP CP 2019'!$L$27*100 -> 5.3233353 | H27: ='GDP CP 2019'!H27/'GDP CP 2019'!$L$27*100 -> 5.2835594 | I27: ='GDP CP 2019'!I27/'GDP CP 2019'!$L$27*100 -> 10.877247 | ... L27: ='GDP CP 2019'!L27/'GDP CP 2019'!$L$27*100 -> 100

Sheet GDP KP 2019 Cont Province
A1: Table 1.3 Gross Domestic Product Contribution at Constant Prices by Industry by Province 2019
A2: Industry | B2: Bulawayo | C2: Manicaland | D2: Mash. Central | E2: Mash. East | F2: Mash. West | G2: Mat. North | H2: Mat. South | I2: Midlands | J2: Masvingo | K2: Harare | L2: Total
A3: Agriculture, Forestry and Fishing | B3: ='GDP KP 2019'!B3/'GDP KP 2019'!$B$27*100 -> 2.2279669 | C3: ='GDP KP 2019'!C3/'GDP KP 2019'!$C$27*100 -> 13.074022 | D3: ='GDP KP 2019'!D3/'GDP KP 2019'!$D$27*100 -> 29.455938 | E3: ='GDP KP 2019'!E3/'GDP KP 2019'!$E$27*100 -> 23.332108 | F3: ='GDP KP 2019'!F3/'GDP KP 2019'!$F$27*100 -> 11.009595 | G3: ='GDP KP 2019'!G3/'GDP KP 2019'!$G$27*100 -> 6.1025406 | H3: ='GDP KP 2019'!H3/'GDP KP 2019'!$H$27*100 -> 5.3405335 | I3: ='GDP KP 2019'!I3/'GDP KP 2019'!$I$27*100 -> 13.273648 | J3: ='GDP KP 2019'!J3/'GDP KP 2019'!$J$27*100 -> 15.990882 | K3: ='GDP KP 2019'!K3/'GDP KP 2019'!$K$27*100 -> 1.2268428 | L3: ='GDP KP 2019'!L3/'GDP KP 2019'!$L$27*100 -> 9.7696707 | N3: 100
A4: Mining and Quarrying | B4: ='GDP KP 2019'!B4/'GDP KP 2019'!$B$27*100 -> 1.0280094 | C4: ='GDP KP 2019'!C4/'GDP KP 2019'!$C$27*100 -> 14.753712 | D4: ='GDP KP 2019'!D4/'GDP KP 2019'!$D$27*100 -> 18.865724 | E4: ='GDP KP 2019'!E4/'GDP KP 2019'!$E$27*100 -> 7.8872874 | F4: ='GDP KP 2019'!F4/'GDP KP 2019'!$F$27*100 -> 26.512116 | G4: ='GDP KP 2019'!G4/'GDP KP 2019'!$G$27*100 -> 19.106384 | H4: ='GDP KP 2019'!H4/'GDP KP 2019'!$H$27*100 -> 22.691221 | I4: ='GDP KP 2019'!I4/'GDP KP 2019'!$I$27*100 -> 21.789815 | J4: ='GDP KP 2019'!J4/'GDP KP 2019'!$J$27*100 -> 11.502549 | K4: ='GDP KP 2019'!K4/'GDP KP 2019'!$K$27*100 -> 0.91381372 | L4: ='GDP KP 2019'!L4/'GDP KP 2019'!$L$27*100 -> 11.970509
A5: Manufacturing | B5: ='GDP KP 2019'!B5/'GDP KP 2019'!$B$27*100 -> 17.05036 | C5: ='GDP KP 2019'!C5/'GDP KP 2019'!$C$27*100 -> 12.371966 | D5: ='GDP KP 2019'!D5/'GDP KP 2019'!$D$27*100 -> 8.8186778 | E5: ='GDP KP 2019'!E5/'GDP KP 2019'!$E$27*100 -> 14.520275 | F5: ='GDP KP 2019'!F5/'GDP KP 2019'!$F$27*100 -> 8.9371432 | G5: ='GDP KP 2019'!G5/'GDP KP 2019'!$G$27*100 -> 12.53304 | H5: ='GDP KP 2019'!H5/'GDP KP 2019'!$H$27*100 -> 10.338302 | I5: ='GDP KP 2019'!I5/'GDP KP 2019'!$I$27*100 -> 12.023867 | J5: ='GDP KP 2019'!J5/'GDP KP 2019'!$J$27*100 -> 12.270357 | K5: ='GDP KP 2019'!K5/'GDP KP 2019'!$K$27*100 -> 19.8604 | L5: ='GDP KP 2019'!L5/'GDP KP 2019'!$L$27*100 -> 14.150532
A6: Electricity, Gas, Steam and Air Conditioning Supply | B6: ='GDP KP 2019'!B6/'GDP KP 2019'!$B$27*100 -> 1.5365782 | C6: ='GDP KP 2019'!C6/'GDP KP 2019'!$C$27*100 -> 1.8621992 | D6: ='GDP KP 2019'!D6/'GDP KP 2019'!$D$27*100 -> 1.7636808 | E6: ='GDP KP 2019'!E6/'GDP KP 2019'!$E$27*100 -> 1.7002308 | F6: ='GDP KP 2019'!F6/'GDP KP 2019'!$F$27*100 -> 8.7287744 | G6: ='GDP KP 2019'!G6/'GDP KP 2019'!$G$27*100 -> 12.017891 | H6: ='GDP KP 2019'!H6/'GDP KP 2019'!$H$27*100 -> 1.9935947 | I6: ='GDP KP 2019'!I6/'GDP KP 2019'!$I$27*100 -> 1.0577753 | J6: ='GDP KP 2019'!J6/'GDP KP 2019'!$J$27*100 -> 1.8159292 | K6: ='GDP KP 2019'!K6/'GDP KP 2019'!$K$27*100 -> 0.88439291 | L6: ='GDP KP 2019'!L6/'GDP KP 2019'!$L$27*100 -> 2.7955907
A7: Water Supply; Sewerage, Waste Management & Remediation Activities | B7: ='GDP KP 2019'!B7/'GDP KP 2019'!$B$27*100 -> 0.41755411 | C7: ='GDP KP 2019'!C7/'GDP KP 2019'!$C$27*100 -> 0.182473 | D7: ='GDP KP 2019'!D7/'GDP KP 2019'!$D$27*100 -> 0.058839793 | E7: ='GDP KP 2019'!E7/'GDP KP 2019'!$E$27*100 -> 0.14322076 | F7: ='GDP KP 2019'!F7/'GDP KP 2019'!$F$27*100 -> 0.13663401 | G7: ='GDP KP 2019'!G7/'GDP KP 2019'!$G$27*100 -> 0.10112844 | H7: ='GDP KP 2019'!H7/'GDP KP 2019'!$H$27*100 -> 0.11018539 | I7: ='GDP KP 2019'!I7/'GDP KP 2019'!$I$27*100 -> 0.27325096 | J7: ='GDP KP 2019'!J7/'GDP KP 2019'!$J$27*100 -> 0.1815868 | K7: ='GDP KP 2019'!K7/'GDP KP 2019'!$K$27*100 -> 0.39224799 | L7: ='GDP KP 2019'!L7/'GDP KP 2019'!$L$27*100 -> 0.24974784
A8: Construction | B8: ='GDP KP 2019'!B8/'GDP KP 2019'!$B$27*100 -> 3.4400401 | C8: ='GDP KP 2019'!C8/'GDP KP 2019'!$C$27*100 -> 1.8470894 | D8: ='GDP KP 2019'!D8/'GDP KP 2019'!$D$27*100 -> 2.1644388 | E8: ='GDP KP 2019'!E8/'GDP KP 2019'!$E$27*100 -> 2.3272119 | F8: ='GDP KP 2019'!F8/'GDP KP 2019'!$F$27*100 -> 1.699104 | G8: ='GDP KP 2019'!G8/'GDP KP 2019'!$G$27*100 -> 2.7560231 | H8: ='GDP KP 2019'!H8/'GDP KP 2019'!$H$27*100 -> 2.3873098 | I8: ='GDP KP 2019'!I8/'GDP KP 2019'!$I$27*100 -> 2.6747967 | J8: ='GDP KP 2019'!J8/'GDP KP 2019'!$J$27*100 -> 2.0060793 | K8: ='GDP KP 2019'!K8/'GDP KP 2019'!$K$27*100 -> 3.6356876 | L8: ='GDP KP 2019'!L8/'GDP KP 2019'!$L$27*100 -> 2.6978245
A9: Wholesale and Retail Trade; Repair of Motor Vehicles and Motorcycles | B9: ='GDP KP 2019'!B9/'GDP KP 2019'!$B$27*100 -> 31.663157 | C9: ='GDP KP 2019'!C9/'GDP KP 2019'!$C$27*100 -> 22.021781 | D9: ='GDP KP 2019'!D9/'GDP KP 2019'!$D$27*100 -> 11.608984 | E9: ='GDP KP 2019'!E9/'GDP KP 2019'!$E$27*100 -> 13.689423 | F9: ='GDP KP 2019'!F9/'GDP KP 2019'!$F$27*100 -> 10.844595 | G9: ='GDP KP 2019'!G9/'GDP KP 2019'!$G$27*100 -> 12.386308 | H9: ='GDP KP 2019'!H9/'GDP KP 2019'!$H$27*100 -> 20.112981 | I9: ='GDP KP 2019'!I9/'GDP KP 2019'!$I$27*100 -> 15.288648 | J9: ='GDP KP 2019'!J9/'GDP KP 2019'!$J$27*100 -> 18.370622 | K9: ='GDP KP 2019'!K9/'GDP KP 2019'!$K$27*100 -> 23.591146 | L9: ='GDP KP 2019'!L9/'GDP KP 2019'!$L$27*100 -> 19.555416
A10: Transportation and Storage | B10: ='GDP KP 2019'!B10/'GDP KP 2019'!$B$27*100 -> 2.1785323 | C10: ='GDP KP 2019'!C10/'GDP KP 2019'!$C$27*100 -> 2.3713451 | D10: ='GDP KP 2019'!D10/'GDP KP 2019'!$D$27*100 -> 1.8280645 | E10: ='GDP KP 2019'!E10/'GDP KP 2019'!$E$27*100 -> 2.7240482 | F10: ='GDP KP 2019'!F10/'GDP KP 2019'!$F$27*100 -> 1.9917226 | G10: ='GDP KP 2019'!G10/'GDP KP 2019'!$G$27*100 -> 2.7564177 | H10: ='GDP KP 2019'!H10/'GDP KP 2019'!$H$27*100 -> 2.8927007 | I10: ='GDP KP 2019'!I10/'GDP KP 2019'!$I$27*100 -> 1.9226671 | J10: ='GDP KP 2019'!J10/'GDP KP 2019'!$J$27*100 -> 2.9770892 | K10: ='GDP KP 2019'!K10/'GDP KP 2019'!$K$27*100 -> 3.2618249 | L10: ='GDP KP 2019'!L10/'GDP KP 2019'!$L$27*100 -> 2.5489372
A11: Accommodation and Food Service Activities | B11: ='GDP KP 2019'!B11/'GDP KP 2019'!$B$27*100 -> 2.9134614 | C11: ='GDP KP 2019'!C11/'GDP KP 2019'!$C$27*100 -> 2.0142273 | D11: ='GDP KP 2019'!D11/'GDP KP 2019'!$D$27*100 -> 1.6297134 | E11: ='GDP KP 2019'!E11/'GDP KP 2019'!$E$27*100 -> 1.683154 | F11: ='GDP KP 2019'!F11/'GDP KP 2019'!$F$27*100 -> 2.1578986 | G11: ='GDP KP 2019'!G11/'GDP KP 2019'!$G$27*100 -> 4.9650182 | H11: ='GDP KP 2019'!H11/'GDP KP 2019'!$H$27*100 -> 2.2346284 | I11: ='GDP KP 2019'!I11/'GDP KP 2019'!$I$27*100 -> 2.0875684 | J11: ='GDP KP 2019'!J11/'GDP KP 2019'!$J$27*100 -> 2.2523684 | K11: ='GDP KP 2019'!K11/'GDP KP 2019'!$K$27*100 -> 2.8666303 | L11: ='GDP KP 2019'!L11/'GDP KP 2019'!$L$27*100 -> 2.4984218
A12: Information and Communication | B12: ='GDP KP 2019'!B12/'GDP KP 2019'!$B$27*100 -> 6.828611 | C12: ='GDP KP 2019'!C12/'GDP KP 2019'!$C$27*100 -> 4.3395627 | D12: ='GDP KP 2019'!D12/'GDP KP 2019'!$D$27*100 -> 3.299424 | E12: ='GDP KP 2019'!E12/'GDP KP 2019'!$E$27*100 -> 5.0404815 | F12: ='GDP KP 2019'!F12/'GDP KP 2019'!$F$27*100 -> 3.5803769 | G12: ='GDP KP 2019'!G12/'GDP KP 2019'!$G$27*100 -> 4.2443997 | H12: ='GDP KP 2019'!H12/'GDP KP 2019'!$H$27*100 -> 5.3719847 | I12: ='GDP KP 2019'!I12/'GDP KP 2019'!$I$27*100 -> 3.4737734 | J12: ='GDP KP 2019'!J12/'GDP KP 2019'!$J$27*100 -> 5.0590936 | K12: ='GDP KP 2019'!K12/'GDP KP 2019'!$K$27*100 -> 5.5141196 | L12: ='GDP KP 2019'!L12/'GDP KP 2019'!$L$27*100 -> 4.8501313
A13: Financial and Insurance Activities | B13: ='GDP KP 2019'!B13/'GDP KP 2019'!$B$27*100 -> 7.9826499 | C13: ='GDP KP 2019'!C13/'GDP KP 2019'!$C$27*100 -> 4.9932841 | D13: ='GDP KP 2019'!D13/'GDP KP 2019'!$D$27*100 -> 4.5597403 | E13: ='GDP KP 2019'!E13/'GDP KP 2019'!$E$27*100 -> 4.6219035 | F13: ='GDP KP 2019'!F13/'GDP KP 2019'!$F$27*100 -> 6.3070298 | G13: ='GDP KP 2019'!G13/'GDP KP 2019'!$G$27*100 -> 7.9439798 | H13: ='GDP KP 2019'!H13/'GDP KP 2019'!$H$27*100 -> 4.7715691 | I13: ='GDP KP 2019'!I13/'GDP KP 2019'!$I$27*100 -> 6.4107997 | J13: ='GDP KP 2019'!J13/'GDP KP 2019'!$J$27*100 -> 4.8019128 | K13: ='GDP KP 2019'!K13/'GDP KP 2019'!$K$27*100 -> 8.0777753 | L13: ='GDP KP 2019'!L13/'GDP KP 2019'!$L$27*100 -> 6.5048204
A14: Real Estate Activities | B14: ='GDP KP 2019'!B14/'GDP KP 2019'!$B$27*100 -> 3.2486418 | C14: ='GDP KP 2019'!C14/'GDP KP 2019'!$C$27*100 -> 2.8545808 | D14: ='GDP KP 2019'!D14/'GDP KP 2019'!$D$27*100 -> 2.3663286 | E14: ='GDP KP 2019'!E14/'GDP KP 2019'!$E$27*100 -> 3.3945875 | F14: ='GDP KP 2019'!F14/'GDP KP 2019'!$F$27*100 -> 2.2027461 | G14: ='GDP KP 2019'!G14/'GDP KP 2019'!$G$27*100 -> 1.7369793 | H14: ='GDP KP 2019'!H14/'GDP KP 2019'!$H$27*100 -> 2.5956107 | I14: ='GDP KP 2019'!I14/'GDP KP 2019'!$I$27*100 -> 2.6312466 | J14: ='GDP KP 2019'!J14/'GDP KP 2019'!$J$27*100 -> 3.5915705 | K14: ='GDP KP 2019'!K14/'GDP KP 2019'!$K$27*100 -> 3.293395 | L14: ='GDP KP 2019'!L14/'GDP KP 2019'!$L$27*100 -> 2.9018298
A15: Professional, Scientific and Technical Activities | B15: ='GDP KP 2019'!B15/'GDP KP 2019'!$B$27*100 -> 2.3264396 | C15: ='GDP KP 2019'!C15/'GDP KP 2019'!$C$27*100 -> 0.12212341 | D15: ='GDP KP 2019'!D15/'GDP KP 2019'!$D$27*100 -> 0.0097564162 | E15: ='GDP KP 2019'!E15/'GDP KP 2019'!$E$27*100 -> 0.36474659 | F15: ='GDP KP 2019'!F15/'GDP KP 2019'!$F$27*100 -> 0.27094818 | G15: ='GDP KP 2019'!G15/'GDP KP 2019'!$G$27*100 -> 0.34238527 | H15: ='GDP KP 2019'!H15/'GDP KP 2019'!$H$27*100 -> 0.009984787 | I15: ='GDP KP 2019'!I15/'GDP KP 2019'!$I$27*100 -> 0.39621364 | J15: ='GDP KP 2019'!J15/'GDP KP 2019'!$J$27*100 -> 0.10988363 | K15: ='GDP KP 2019'!K15/'GDP KP 2019'!$K$27*100 -> 3.4113241 | L15: ='GDP KP 2019'!L15/'GDP KP 2019'!$L$27*100 -> 1.2581658
... A27: GDP at Market Prices | B27: ='GDP KP 2019'!B27/'GDP KP 2019'!$B$27*100 -> 100 | C27: ='GDP KP 2019'!C27/'GDP KP 2019'!$C$27*100 -> 100 | D27: ='GDP KP 2019'!D27/'GDP KP 2019'!$D$27*100 -> 100 | E27: ='GDP KP 2019'!E27/'GDP KP 2019'!$E$27*100 -> 100 | F27: ='GDP KP 2019'!F27/'GDP KP 2019'!$F$27*100 -> 100 | G27: ='GDP KP 2019'!G27/'GDP KP 2019'!$G$27*100 -> 100 | H27: ='GDP KP 2019'!H27/'GDP KP 2019'!$H$27*100 -> 100 | I27: ='GDP KP 2019'!I27/'GDP KP 2019'!$I$27*100 -> 100 | J27: ='GDP KP 2019'!J27/'GDP KP 2019'!$J$27*100 -> 100 | K27: ='GDP KP 2019'!K27/'GDP KP 2019'!$K$27*100 -> 100 | L27: ='GDP KP 2019'!L27/'GDP KP 2019'!$L$27*100 -> 100

Sheet GDP CP 2020
A1: Table 2.1 Gross Domestic Product at Current Prices by Industry by Province 2020 ZWL
A2: Industry | B2: Bulawayo | C2: Manicaland | D2: Mash. Central | E2: Mash. East | F2: Mash. West | G2: Mat. North | H2: Mat. South | I2: Midlands | J2: Masvingo | K2: Harare | L2: Total
A3: Agriculture, Forestry and Fishing | B3: 5.4993783e+09 | C3: 2.2930571e+10 | D3: 3.2439043e+10 | E3: 3.1536367e+10 | F3: 4.0398372e+10 | G3: 8.8728766e+09 | H3: 3.4013717e+09 | I3: 1.5856867e+10 | J3: 1.8711512e+10 | K3: 3.6662522e+09 | L3: 1.8331261e+11
A4: Mining and Quarrying | B4: 3.0664415e+09 | C4: 2.8492138e+10 | D4: 2.2610074e+10 | E4: 1.3097171e+10 | F4: 6.3058899e+10 | G4: 2.0691145e+10 | H4: 2.4949735e+10 | I4: 5.0069329e+10 | J4: 1.8027163e+10 | K4: 5.2956512e+09 | L4: 2.4935775e+11
A5: Manufacturing | B5: 5.1988719e+10 | C5: 2.6817585e+10 | D5: 1.3056891e+10 | E5: 2.1720666e+10 | F5: 2.3652311e+10 | G5: 1.510203e+10 | H5: 1.2648242e+10 | I5: 3.0742222e+10 | J5: 2.2285449e+10 | K5: 1.0997231e+11 | L5: 3.2798643e+11
A6: Electricity, Gas, Steam and Air Conditioning Supply | B6: 3.9694065e+09 | C6: 3.4198134e+09 | D6: 2.2123387e+09 | E6: 2.1547729e+09 | F6: 1.9571471e+10 | G6: 1.2268812e+10 | H6: 2.0663941e+09 | I6: 2.2912889e+09 | J6: 2.7942062e+09 | K6: 4.1489284e+09 | L6: 5.4897432e+10
A7: Water Supply; Sewerage, Waste Management & Remediation Activities | B7: 1.2906337e+09 | C7: 4.0095371e+08 | D7: 88312485 | E7: 2.1717956e+08 | F7: 3.6656276e+08 | G7: 1.2352841e+08 | H7: 1.3665314e+08 | I7: 7.0821884e+08 | J7: 3.3432062e+08 | K7: 2.201764e+09 | L7: 5.8681272e+09
A8: Construction | B8: 7.8136745e+09 | C8: 2.982532e+09 | D8: 2.3872497e+09 | E8: 2.5932862e+09 | F8: 3.3497397e+09 | G8: 2.4738763e+09 | H8: 2.1757349e+09 | I8: 5.0944596e+09 | J8: 2.7141169e+09 | K8: 1.4996785e+10 | L8: 4.6581455e+10
A9: Wholesale and Retail Trade; Repair of Motor Vehicles and Motorcycles | B9: 9.2964484e+10 | C9: 4.5964302e+10 | D9: 1.6550755e+10 | E9: 1.9718356e+10 | F9: 2.763602e+10 | G9: 1.4371697e+10 | H9: 2.3694343e+10 | I9: 3.7639814e+10 | J9: 3.2127383e+10 | K9: 1.2578582e+11 | L9: 4.3645298e+11
A10: Transportation and Storage | B10: 6.9329887e+09 | C10: 5.3648382e+09 | D10: 2.8249367e+09 | E10: 4.2529864e+09 | F10: 5.5015445e+09 | G10: 3.4666088e+09 | H10: 3.6937318e+09 | I10: 5.1306938e+09 | J10: 5.6433498e+09 | K10: 1.8851109e+10 | L10: 6.1662788e+10
A11: Accommodation and Food Service Activities | B11: 5.431608e+09 | C11: 2.6695191e+09 | D11: 1.4753367e+09 | E11: 1.5394505e+09 | F11: 3.4918011e+09 | G11: 3.6579968e+09 | H11: 1.6715903e+09 | I11: 3.2634382e+09 | J11: 2.5011931e+09 | K11: 9.7053376e+09 | L11: 3.5407271e+10
A12: Information and Communication | B12: 1.8368644e+10 | C12: 8.2984327e+09 | D12: 4.3096658e+09 | E12: 6.6518044e+09 | F12: 8.3593549e+09 | G12: 4.5119505e+09 | H12: 5.7980889e+09 | I12: 7.8354102e+09 | J12: 8.1059903e+09 | K12: 2.6936471e+10 | L12: 9.9175813e+10
A13: Financial and Insurance Activities | B13: 2.3366781e+10 | C13: 1.0390668e+10 | D13: 6.4811586e+09 | E13: 6.6373606e+09 | F13: 1.6024187e+10 | G13: 9.1895292e+09 | H13: 5.6042617e+09 | I13: 1.5735464e+10 | J13: 8.3724917e+09 | K13: 4.2940132e+10 | L13: 1.4474203e+11
A14: Real Estate Activities | B14: 8.1738419e+09 | C14: 5.105898e+09 | D14: 2.8910805e+09 | E14: 4.1901941e+09 | F14: 4.810477e+09 | G14: 1.7271195e+09 | H14: 2.6204106e+09 | I14: 5.5513868e+09 | J14: 5.3826662e+09 | K14: 1.504832e+10 | L14: 5.5501395e+10
... A22: Activities of Households as Employers, undifferentiated goods - and services - Producing Activities of Households for Own Use | B22: 1.1592427e+08 | C22: 34773160 | D22: 12265615 | E22: 25133709 | F22: 34895568 | G22: 18525994 | H22: 32770462 | I22: 43893421 | J22: 63142545 | K22: 3.1636003e+08 | L22: 6.9768478e+08
A23: GDP at Basic Prices | B23: =SUM(B3:B22) -> 2.6484448e+11 | C23: =SUM(C3:C22) -> 1.8461543e+11 | D23: =SUM(D3:D22) -> 1.1716023e+11 | E23: =SUM(E3:E22) -> 1.3081024e+11 | F23: =SUM(F3:F22) -> 2.397624e+11 | G23: =SUM(G3:G22) -> 1.0407739e+11 | H23: =SUM(H3:H22) -> 1.0231275e+11 | I23: =SUM(I3:I22) -> 2.0298507e+11 | ... L23: =SUM(L3:L22) -> 1.9732166e+12
A24: Net Taxes on Products | B24: =B25-B26 -> 1.0277592e+10 | C24: =C25-C26 -> 6.9196055e+09 | D24: =D25-D26 -> 4.5696272e+09 | E24: =E25-E26 -> 5.0836999e+09 | F24: =F25-F26 -> 9.0374192e+09 | G24: =G25-G26 -> 3.9874711e+09 | H24: =H25-H26 -> 3.8123191e+09 | I24: =I25-I26 -> 8.8883599e+09 | ... L24: =L25-L26 -> 7.6758238e+10
A25: Taxes on Products | B25: 1.0934441e+10 | C25: 7.3618434e+09 | D25: 4.861676e+09 | E25: 5.4086036e+09 | F25: 9.6150084e+09 | G25: 4.2423138e+09 | H25: 4.0559677e+09 | I25: 9.4564226e+09 | J25: 5.9661615e+09 | K25: 1.9761485e+10 | L25: 8.1663923e+10
A26: Less Subsidies on Products | B26: 6.5684971e+08 | C26: 4.4223794e+08 | D26: 2.920488e+08 | E26: 3.2490363e+08 | F26: 5.7758923e+08 | G26: 2.548427e+08 | H26: 2.4364859e+08 | I26: 5.6806272e+08 | J26: 3.5839705e+08 | K26: 1.1871046e+09 | L26: 4905684987
A27: GDP at Market Prices ZWL | B27: =B23+B24 -> 2.7512207e+11 | C27: =C23+C24 -> 1.9153504e+11 | D27: =D23+D24 -> 1.2172985e+11 | E27: =E23+E24 -> 1.3589394e+11 | F27: =F23+F24 -> 2.4879982e+11 | G27: =G23+G24 -> 1.0806487e+11 | H27: =H23+H24 -> 1.0612507e+11 | I27: =I23+I24 -> 2.1187343e+11 | ... L27: =L23+L24 -> 2.0499748e+12
A28: Population (absolute figures) | B28: 639313.92 | C28: 1956194.9 | D28: 1329495.4 | E28: 1661926.1 | F28: 1817840.6 | G28: 794539.2 | H28: 729931.2 | I28: 1739428.8 | J28: 1572986.9 | K28: 2330141.8 | L28: 14571799
A29: GDP per Capita | B29: 430339.56 | C29: 97912.044 | D29: 91560.947 | E29: 81768.944 | F29: 136865.58 | G29: 136009.48 | H29: 145390.51 | I29: 121806.33 | J29: 97514.358 | K29: 213481.4 | L29: 140680.97
A30: Exchange Rate ZW :1 USD | B30: 60.745 | C30: 60.745 | D30: 60.745 | E30: 60.745 | F30: 60.745 | G30: 60.745 | H30: 60.745 | I30: 60.745 | J30: 60.745 | K30: 60.745 | L30: 60.745
A31: Per Capita GDP in USD | B31: 7084.3618 | C31: 1611.8536 | D31: 1507.3001 | E31: 1346.1016 | F31: 2253.1169 | G31: 2239.0235 | H31: 2393.4564 | I31: 2005.2075 | J31: 1605.3067 | K31: 3514.3864 | L31: 2315.9268

Sheet GDP KP 2020
A1: Table 2.2 Gross Domestic Product at Constant Prices by Industry by Province 2020 ZWL
A2: Industry | B2: Bulawayo | C2: Manicaland | D2: Mash. Central | E2: Mash. East | F2: Mash. West | G2: Mat. North | H2: Mat. South | I2: Midlands | J2: Masvingo | K2: Harare | L2: Total
A3: Agriculture, Forestry and Fishing | B3: 3.841397e+11 | C3: 1.8452532e+12 | D3: 2.9435679e+12 | E3: 2.7142481e+12 | F3: 2.9840814e+12 | G3: 6.2616856e+11 | H3: 4.3876489e+11 | I3: 1.5536205e+12 | J3: 1.5684321e+12 | K3: 3.0731181e+11 | L3: 1.5365588e+13
A4: Mining and Quarrying | B4: 2.2283735e+11 | C4: 2.0705148e+12 | D4: 1.6430671e+12 | E4: 9.5176736e+11 | F4: 4.7636781e+12 | G4: 1.3224116e+12 | H4: 1.994297e+12 | I4: 3.8197301e+12 | J4: 9.4761336e+11 | K4: 3.8483339e+11 | L4: 1.812075e+13
A5: Manufacturing | B5: 2.7781205e+12 | C5: 1.3718166e+12 | D5: 6.4109653e+11 | E5: 1.1011601e+12 | F5: 1.0818172e+12 | G5: 9.761149e+11 | H5: 6.3681321e+11 | I5: 1.6673062e+12 | J5: 1.2182349e+12 | K5: 5.9442484e+12 | L5: 1.7416728e+13
A6: Electricity, Gas, Steam and Air Conditioning Supply | B6: 3.2547317e+11 | C6: 2.6611209e+11 | D6: 1.1981736e+11 | E6: 1.6312394e+11 | F6: 1.4888833e+12 | G6: 9.2330542e+11 | H6: 1.2116782e+11 | I6: 1.255044e+11 | J6: 1.6173111e+11 | K6: 2.5931606e+11 | L6: 3.9544346e+12
A7: Water Supply; Sewerage, Waste Management & Remediation Activities | B7: 8.298075e+10 | C7: 2.548812e+10 | D7: 5.3989143e+09 | E7: 1.4990678e+10 | F7: 1.6319013e+10 | G7: 8.8578815e+09 | H7: 8.1802513e+09 | I7: 5.0220877e+10 | J7: 2.5735946e+10 | K7: 1.4610514e+11 | L7: 3.8427757e+11
A8: Construction | B8: 7.2570491e+11 | C8: 2.9511927e+11 | D8: 2.1387325e+11 | E8: 2.209155e+11 | F8: 2.347649e+11 | G8: 2.4937871e+11 | H8: 2.082866e+11 | I8: 4.0046185e+11 | J8: 2.6441504e+11 | K8: 1.4622061e+12 | L8: 4.2751262e+12
A9: Wholesale and Retail Trade; Repair of Motor Vehicles and Motorcycles | B9: 5.9437349e+12 | C9: 2.6039124e+12 | D9: 1.0327518e+12 | E9: 1.2518633e+12 | F9: 1.9455007e+12 | G9: 1.1390849e+12 | H9: 1.1751725e+12 | I9: 2.208741e+12 | J9: 1.8736081e+12 | K9: 7.3601625e+12 | L9: 2.6534532e+13
A10: Transportation and Storage | B10: 3.1542008e+11 | C10: 2.2025448e+11 | D10: 1.0962024e+11 | E10: 1.7182391e+11 | F10: 1.8860608e+11 | G10: 1.375705e+11 | H10: 1.4746363e+11 | I10: 2.3691487e+11 | J10: 2.5924538e+11 | K10: 8.9901785e+11 | L10: 2.685937e+12
A11: Accommodation and Food Service Activities | B11: 2.345521e+11 | C11: 1.0652396e+11 | D11: 5.9839718e+10 | E11: 6.1032689e+10 | F11: 1.4069587e+11 | G11: 1.2700245e+11 | H11: 7.2409812e+10 | I11: 1.6946298e+11 | J11: 1.1130025e+11 | K11: 3.8861429e+11 | L11: 1.4714341e+12
A12: Information and Communication | B12: 1.4374032e+12 | C12: 7.0727569e+11 | D12: 3.8648221e+11 | E12: 4.9508551e+11 | F12: 7.1217531e+11 | G12: 2.5120418e+11 | H12: 4.2642611e+11 | I12: 6.7003746e+11 | J12: 7.2370321e+11 | K12: 2.1663451e+12 | L12: 7.976138e+12
A13: Financial and Insurance Activities | B13: 1.8846972e+12 | C13: 7.3422827e+11 | D13: 5.4722679e+11 | E13: 5.590907e+11 | F13: 8.8726982e+11 | G13: 6.4299895e+11 | H13: 4.806244e+11 | I13: 1.1731586e+12 | J13: 7.678325e+11 | K13: 3.3163724e+12 | L13: 1.09935e+13
A14: Real Estate Activities | B14: 6.2819682e+11 | C14: 4.0840995e+11 | D14: 2.5207854e+11 | E14: 3.1127576e+11 | F14: 3.6062267e+11 | G14: 1.5947904e+11 | H14: 1.8639085e+11 | I14: 4.6363121e+11 | J14: 4.0614346e+11 | K14: 1.2392127e+12 | L14: 4.415441e+12
... A22: Activities of Households as Employers, undifferentiated goods - and services - Producing Activities of Households for Own Use | B22: 4.1311678e+10 | C22: 1.1388758e+10 | D22: 3.5479377e+09 | E22: 5.9347506e+09 | F22: 6.8450591e+09 | G22: 1.4945014e+09 | H22: 1.2079623e+10 | I22: 2.1188357e+10 | J22: 2.1778995e+10 | K22: 1.0248541e+11 | L22: 2.2805507e+11
A23: GDP at Basic Prices | B23: =SUM(B3:B22) -> 1.7279424e+13 | C23: =SUM(C3:C22) -> 1.20616e+13 | D23: =SUM(D3:D22) -> 8.636565e+12 | E23: =SUM(E3:E22) -> 9.0210282e+12 | F23: =SUM(F3:F22) -> 1.6131677e+13 | G23: =SUM(G3:G22) -> 7.0035665e+12 | H23: =SUM(H3:H22) -> 6.846634e+12 | I23: =SUM(I3:I22) -> 1.4088032e+13 | ... L23: =SUM(L3:L22) -> 1.3105071e+14
A24: Net Taxes on Products | B24: =B25-B26 -> 1.0484843e+12 | C24: =C25-C26 -> 7.3625043e+11 | D24: =D25-D26 -> 5.1798212e+11 | E24: =E25-E26 -> 5.5990943e+11 | F24: =F25-F26 -> 1.007866e+12 | G24: =G25-G26 -> 4.2966433e+11 | H24: =H25-H26 -> 4.0155495e+11 | I24: =I25-I26 -> 9.6141802e+11 | ... L24: =L25-L26 -> 8.1316184e+12
A25: Taxes on Products | B25: 1.0730973e+12 | C25: 7.5353382e+11 | D25: 5.3014169e+11 | E25: 5.7305323e+11 | F25: 1.0315255e+12 | G25: 4.3975065e+11 | H25: 4.109814e+11 | I25: 9.8398719e+11 | J25: 6.1119338e+11 | K25: 1.9152429e+12 | L25: 8.3225071e+12
A26: Less Subsidies on Products | B26: 2.4613042e+10 | C26: 1.728339e+10 | D26: 1.2159567e+10 | E26: 1.3143806e+10 | F26: 2.3659531e+10 | G26: 1.0086318e+10 | H26: 9.4264537e+09 | I26: 2.2569172e+10 | J26: 1.4018605e+10 | K26: 4.3928871e+10 | L26: 1.9088876e+11
A27: GDP at Market Prices | B27: =B23+B24 -> 1.8327908e+13 | C27: =C23+C24 -> 1.2797851e+13 | D27: =D23+D24 -> 9.1545471e+12 | E27: =E23+E24 -> 9.5809376e+12 | F27: =F23+F24 -> 1.7139543e+13 | G27: =G23+G24 -> 7.4332308e+12 | H27: =H23+H24 -> 7.2481889e+12 | I27: =I23+I24 -> 1.504945e+13 | ... L27: =L23+L24 -> 1.3918233e+14
A28: Population (absolute figures) | B28: 639313.92 | C28: 1956194.9 | D28: 1329495.4 | E28: 1661926.1 | F28: 1817840.6 | G28: 794539.2 | H28: 729931.2 | I28: 1739428.8 | J28: 1572986.9 | K28: 2330141.8 | L28: 14571799
A29: GDP per Capita | B29: 28668089 | C29: 6542216.5 | D29: 6885730.8 | E29: 5764960.1 | F29: 9428518.1 | G29: 9355398.5 | H29: 9929961.8 | I29: 8651949.6 | J29: 6560569.6 | K29: 13789281 | L29: 9551485.7

Sheet GDP CP 2020  Cont Industry
A1: Table 2.4 Gross Domestic Product by Industry by Province 2020
A2: Industry | B2: Bulawayo | C2: Manicaland | D2: Mash. Central | E2: Mash. East | F2: Mash. West | G2: Mat. North | H2: Mat. South | I2: Midlands | J2: Masvingo | K2: Harare | L2: Total
A3: Agriculture, Forestry and Fishing | B3: ='GDP CP 2020'!B3/'GDP CP 2020'!$L$3*100 -> 3 | C3: ='GDP CP 2020'!C3/'GDP CP 2020'!$L$3*100 -> 12.508998 | D3: ='GDP CP 2020'!D3/'GDP CP 2020'!$L$3*100 -> 17.696024 | E3: ='GDP CP 2020'!E3/'GDP CP 2020'!$L$3*100 -> 17.203599 | F3: ='GDP CP 2020'!F3/'GDP CP 2020'!$L$3*100 -> 22.037966 | G3: ='GDP CP 2020'!G3/'GDP CP 2020'!$L$3*100 -> 4.840298 | H3: ='GDP CP 2020'!H3/'GDP CP 2020'!$L$3*100 -> 1.8555034 | I3: ='GDP CP 2020'!I3/'GDP CP 2020'!$L$3*100 -> 8.6501782 | ... L3: ='GDP CP 2020'!L3/'GDP CP 2020'!$L$3*100 -> 100 | Y3: #REF!
A4: Mining and Quarrying | B4: ='GDP CP 2020'!B4/'GDP CP 2020'!$L$4*100 -> 1.2297358 | C4: ='GDP CP 2020'!C4/'GDP CP 2020'!$L$4*100 -> 11.426209 | D4: ='GDP CP 2020'!D4/'GDP CP 2020'!$L$4*100 -> 9.0673237 | E4: ='GDP CP 2020'!E4/'GDP CP 2020'!$L$4*100 -> 5.2523618 | F4: ='GDP CP 2020'!F4/'GDP CP 2020'!$L$4*100 -> 25.288526 | G4: ='GDP CP 2020'!G4/'GDP CP 2020'!$L$4*100 -> 8.297775 | H4: ='GDP CP 2020'!H4/'GDP CP 2020'!$L$4*100 -> 10.005598 | I4: ='GDP CP 2020'!I4/'GDP CP 2020'!$L$4*100 -> 20.079316 | ... L4: ='GDP CP 2020'!L4/'GDP CP 2020'!$L$4*100 -> 100
A5: Manufacturing | B5: ='GDP CP 2020'!B5/'GDP CP 2020'!$L$5*100 -> 15.850875 | C5: ='GDP CP 2020'!C5/'GDP CP 2020'!$L$5*100 -> 8.1764314 | D5: ='GDP CP 2020'!D5/'GDP CP 2020'!$L$5*100 -> 3.9809241 | E5: ='GDP CP 2020'!E5/'GDP CP 2020'!$L$5*100 -> 6.6224282 | F5: ='GDP CP 2020'!F5/'GDP CP 2020'!$L$5*100 -> 7.2113689 | G5: ='GDP CP 2020'!G5/'GDP CP 2020'!$L$5*100 -> 4.6044679 | H5: ='GDP CP 2020'!H5/'GDP CP 2020'!$L$5*100 -> 3.856331 | I5: ='GDP CP 2020'!I5/'GDP CP 2020'!$L$5*100 -> 9.3730165 | ... L5: ='GDP CP 2020'!L5/'GDP CP 2020'!$L$5*100 -> 100
A6: Electricity, Gas, Steam and Air Conditioning Supply | B6: ='GDP CP 2020'!B6/'GDP CP 2020'!$L$6*100 -> 7.2305869 | C6: ='GDP CP 2020'!C6/'GDP CP 2020'!$L$6*100 -> 6.2294598 | D6: ='GDP CP 2020'!D6/'GDP CP 2020'!$L$6*100 -> 4.0299493 | E6: ='GDP CP 2020'!E6/'GDP CP 2020'!$L$6*100 -> 3.9250888 | F6: ='GDP CP 2020'!F6/'GDP CP 2020'!$L$6*100 -> 35.650977 | G6: ='GDP CP 2020'!G6/'GDP CP 2020'!$L$6*100 -> 22.348608 | H6: ='GDP CP 2020'!H6/'GDP CP 2020'!$L$6*100 -> 3.7640997 | I6: ='GDP CP 2020'!I6/'GDP CP 2020'!$L$6*100 -> 4.1737633 | ... L6: ='GDP CP 2020'!L6/'GDP CP 2020'!$L$6*100 -> 100
A7: Water Supply; Sewerage, Waste Management & Remediation Activities | B7: ='GDP CP 2020'!B7/'GDP CP 2020'!$L$7*100 -> 21.993963 | C7: ='GDP CP 2020'!C7/'GDP CP 2020'!$L$7*100 -> 6.8327372 | D7: ='GDP CP 2020'!D7/'GDP CP 2020'!$L$7*100 -> 1.5049518 | E7: ='GDP CP 2020'!E7/'GDP CP 2020'!$L$7*100 -> 3.7010029 | F7: ='GDP CP 2020'!F7/'GDP CP 2020'!$L$7*100 -> 6.2466737 | G7: ='GDP CP 2020'!G7/'GDP CP 2020'!$L$7*100 -> 2.1050739 | H7: ='GDP CP 2020'!H7/'GDP CP 2020'!$L$7*100 -> 2.3287352 | I7: ='GDP CP 2020'!I7/'GDP CP 2020'!$L$7*100 -> 12.068907 | ... L7: ='GDP CP 2020'!L7/'GDP CP 2020'!$L$7*100 -> 100
A8: Construction | B8: ='GDP CP 2020'!B8/'GDP CP 2020'!$L$8*100 -> 16.774217 | C8: ='GDP CP 2020'!C8/'GDP CP 2020'!$L$8*100 -> 6.4028314 | D8: ='GDP CP 2020'!D8/'GDP CP 2020'!$L$8*100 -> 5.124893 | E8: ='GDP CP 2020'!E8/'GDP CP 2020'!$L$8*100 -> 5.5672074 | F8: ='GDP CP 2020'!F8/'GDP CP 2020'!$L$8*100 -> 7.1911445 | G8: ='GDP CP 2020'!G8/'GDP CP 2020'!$L$8*100 -> 5.3108609 | H8: ='GDP CP 2020'!H8/'GDP CP 2020'!$L$8*100 -> 4.6708178 | I8: ='GDP CP 2020'!I8/'GDP CP 2020'!$L$8*100 -> 10.936669 | ... L8: ='GDP CP 2020'!L8/'GDP CP 2020'!$L$8*100 -> 100
A9: Wholesale and Retail Trade; Repair of Motor Vehicles and Motorcycles | B9: ='GDP CP 2020'!B9/'GDP CP 2020'!$L$9*100 -> 21.3 | C9: ='GDP CP 2020'!C9/'GDP CP 2020'!$L$9*100 -> 10.53133 | D9: ='GDP CP 2020'!D9/'GDP CP 2020'!$L$9*100 -> 3.7921049 | E9: ='GDP CP 2020'!E9/'GDP CP 2020'!$L$9*100 -> 4.517865 | F9: ='GDP CP 2020'!F9/'GDP CP 2020'!$L$9*100 -> 6.3319581 | G9: ='GDP CP 2020'!G9/'GDP CP 2020'!$L$9*100 -> 3.2928397 | H9: ='GDP CP 2020'!H9/'GDP CP 2020'!$L$9*100 -> 5.4288422 | I9: ='GDP CP 2020'!I9/'GDP CP 2020'!$L$9*100 -> 8.6240251 | ... L9: ='GDP CP 2020'!L9/'GDP CP 2020'!$L$9*100 -> 100
A10: Transportation and Storage | B10: ='GDP CP 2020'!B10/'GDP CP 2020'!$L$10*100 -> 11.243391 | C10: ='GDP CP 2020'!C10/'GDP CP 2020'!$L$10*100 -> 8.7002848 | D10: ='GDP CP 2020'!D10/'GDP CP 2020'!$L$10*100 -> 4.5812666 | E10: ='GDP CP 2020'!E10/'GDP CP 2020'!$L$10*100 -> 6.8971685 | F10: ='GDP CP 2020'!F10/'GDP CP 2020'!$L$10*100 -> 8.9219847 | G10: ='GDP CP 2020'!G10/'GDP CP 2020'!$L$10*100 -> 5.6218814 | H10: ='GDP CP 2020'!H10/'GDP CP 2020'!$L$10*100 -> 5.9902121 | I10: ='GDP CP 2020'!I10/'GDP CP 2020'!$L$10*100 -> 8.3205674 | ... L10: ='GDP CP 2020'!L10/'GDP CP 2020'!$L$10*100 -> 100
A11: Accommodation and Food Service Activities | B11: ='GDP CP 2020'!B11/'GDP CP 2020'!$L$11*100 -> 15.340374 | C11: ='GDP CP 2020'!C11/'GDP CP 2020'!$L$11*100 -> 7.5394656 | D11: ='GDP CP 2020'!D11/'GDP CP 2020'!$L$11*100 -> 4.1667618 | E11: ='GDP CP 2020'!E11/'GDP CP 2020'!$L$11*100 -> 4.3478372 | F11: ='GDP CP 2020'!F11/'GDP CP 2020'!$L$11*100 -> 9.8618193 | G11: ='GDP CP 2020'!G11/'GDP CP 2020'!$L$11*100 -> 10.331202 | H11: ='GDP CP 2020'!H11/'GDP CP 2020'!$L$11*100 -> 4.7210369 | I11: ='GDP CP 2020'!I11/'GDP CP 2020'!$L$11*100 -> 9.2168589 | ... L11: ='GDP CP 2020'!L11/'GDP CP 2020'!$L$11*100 -> 100
A12: Information and Communication | B12: ='GDP CP 2020'!B12/'GDP CP 2020'!$L$12*100 -> 18.521294 | C12: ='GDP CP 2020'!C12/'GDP CP 2020'!$L$12*100 -> 8.3673957 | D12: ='GDP CP 2020'!D12/'GDP CP 2020'!$L$12*100 -> 4.3454807 | E12: ='GDP CP 2020'!E12/'GDP CP 2020'!$L$12*100 -> 6.7070833 | F12: ='GDP CP 2020'!F12/'GDP CP 2020'!$L$12*100 -> 8.4288242 | G12: ='GDP CP 2020'!G12/'GDP CP 2020'!$L$12*100 -> 4.5494464 | H12: ='GDP CP 2020'!H12/'GDP CP 2020'!$L$12*100 -> 5.8462732 | I12: ='GDP CP 2020'!I12/'GDP CP 2020'!$L$12*100 -> 7.9005253 | ... L12: ='GDP CP 2020'!L12/'GDP CP 2020'!$L$12*100 -> 100
A13: Financial and Insurance Activities | B13: ='GDP CP 2020'!B13/'GDP CP 2020'!$L$13*100 -> 16.143743 | C13: ='GDP CP 2020'!C13/'GDP CP 2020'!$L$13*100 -> 7.1787495 | D13: ='GDP CP 2020'!D13/'GDP CP 2020'!$L$13*100 -> 4.4777308 | E13: ='GDP CP 2020'!E13/'GDP CP 2020'!$L$13*100 -> 4.5856483 | F13: ='GDP CP 2020'!F13/'GDP CP 2020'!$L$13*100 -> 11.070859 | G13: ='GDP CP 2020'!G13/'GDP CP 2020'!$L$13*100 -> 6.3489016 | H13: ='GDP CP 2020'!H13/'GDP CP 2020'!$L$13*100 -> 3.8718965 | I13: ='GDP CP 2020'!I13/'GDP CP 2020'!$L$13*100 -> 10.871385 | ... L13: ='GDP CP 2020'!L13/'GDP CP 2020'!$L$13*100 -> 100
A14: Real Estate Activities | B14: ='GDP CP 2020'!B14/'GDP CP 2020'!$L$14*100 -> 14.727273 | C14: ='GDP CP 2020'!C14/'GDP CP 2020'!$L$14*100 -> 9.199585 | D14: ='GDP CP 2020'!D14/'GDP CP 2020'!$L$14*100 -> 5.2090231 | E14: ='GDP CP 2020'!E14/'GDP CP 2020'!$L$14*100 -> 7.5497096 | F14: ='GDP CP 2020'!F14/'GDP CP 2020'!$L$14*100 -> 8.6673083 | G14: ='GDP CP 2020'!G14/'GDP CP 2020'!$L$14*100 -> 3.1118487 | H14: ='GDP CP 2020'!H14/'GDP CP 2020'!$L$14*100 -> 4.7213419 | I14: ='GDP CP 2020'!I14/'GDP CP 2020'!$L$14*100 -> 10.002247 | ... L14: ='GDP CP 2020'!L14/'GDP CP 2020'!$L$14*100 -> 100
A15: Professional, Scientific and Technical Activities | B15: ='GDP CP 2020'!B15/'GDP CP 2020'!$L$15*100 -> 24.324637 | C15: ='GDP CP 2020'!C15/'GDP CP 2020'!$L$15*100 -> 0.90773459 | D15: ='GDP CP 2020'!D15/'GDP CP 2020'!$L$15*100 -> 0.049534255 | E15: ='GDP CP 2020'!E15/'GDP CP 2020'!$L$15*100 -> 1.8709775 | F15: ='GDP CP 2020'!F15/'GDP CP 2020'!$L$15*100 -> 2.4588958 | G15: ='GDP CP 2020'!G15/'GDP CP 2020'!$L$15*100 -> 1.4147281 | H15: ='GDP CP 2020'!H15/'GDP CP 2020'!$L$15*100 -> 0.041888882 | I15: ='GDP CP 2020'!I15/'GDP CP 2020'!$L$15*100 -> 3.4737579 | ... L15: ='GDP CP 2020'!L15/'GDP CP 2020'!$L$15*100 -> 100
A16: Administrative and support service activities | B16: ='GDP CP 2020'!B16/'GDP CP 2020'!$L$16*100 -> 11.178858 | C16: ='GDP CP 2020'!C16/'GDP CP 2020'!$L$16*100 -> 9.1398118 | D16: ='GDP CP 2020'!D16/'GDP CP 2020'!$L$16*100 -> 5.5199796 | E16: ='GDP CP 2020'!E16/'GDP CP 2020'!$L$16*100 -> 7.6919456 | F16: ='GDP CP 2020'!F16/'GDP CP 2020'!$L$16*100 -> 8.8014845 | G16: ='GDP CP 2020'!G16/'GDP CP 2020'!$L$16*100 -> 3.7000116 | H16: ='GDP CP 2020'!H16/'GDP CP 2020'!$L$16*100 -> 3.7695965 | I16: ='GDP CP 2020'!I16/'GDP CP 2020'!$L$16*100 -> 9.8175823 | ... L16: ='GDP CP 2020'!L16/'GDP CP 2020'!$L$16*100 -> 100
A17: Public Administration and Defence; Compulsory Social Security | B17: ='GDP CP 2020'!B17/'GDP CP 2020'!$L$17*100 -> 13.36578 | C17: ='GDP CP 2020'!C17/'GDP CP 2020'!$L$17*100 -> 9.096496 | D17: ='GDP CP 2020'!D17/'GDP CP 2020'!$L$17*100 -> 4.6016575 | E17: ='GDP CP 2020'!E17/'GDP CP 2020'!$L$17*100 -> 4.481921 | F17: ='GDP CP 2020'!F17/'GDP CP 2020'!$L$17*100 -> 10.611337 | G17: ='GDP CP 2020'!G17/'GDP CP 2020'!$L$17*100 -> 4.2230715 | H17: ='GDP CP 2020'!H17/'GDP CP 2020'!$L$17*100 -> 4.2980931 | I17: ='GDP CP 2020'!I17/'GDP CP 2020'!$L$17*100 -> 10.940736 | ... L17: ='GDP CP 2020'!L17/'GDP CP 2020'!$L$17*100 -> 100
A18: Education | B18: ='GDP CP 2020'!B18/'GDP CP 2020'!$L$18*100 -> 10.621081 | C18: ='GDP CP 2020'!C18/'GDP CP 2020'!$L$18*100 -> 8.3571804 | D18: ='GDP CP 2020'!D18/'GDP CP 2020'!$L$18*100 -> 2.9730384 | E18: ='GDP CP 2020'!E18/'GDP CP 2020'!$L$18*100 -> 6.3795944 | F18: ='GDP CP 2020'!F18/'GDP CP 2020'!$L$18*100 -> 9.0371608 | G18: ='GDP CP 2020'!G18/'GDP CP 2020'!$L$18*100 -> 1.6747664 | H18: ='GDP CP 2020'!H18/'GDP CP 2020'!$L$18*100 -> 9.2887216 | I18: ='GDP CP 2020'!I18/'GDP CP 2020'!$L$18*100 -> 10.307969 | ... L18: ='GDP CP 2020'!L18/'GDP CP 2020'!$L$18*100 -> 100
A19: Human Health and Social Work Activities | B19: ='GDP CP 2020'!B19/'GDP CP 2020'!$L$19*100 -> 12.674759 | C19: ='GDP CP 2020'!C19/'GDP CP 2020'!$L$19*100 -> 8.9691903 | D19: ='GDP CP 2020'!D19/'GDP CP 2020'!$L$19*100 -> 3.5651481 | E19: ='GDP CP 2020'!E19/'GDP CP 2020'!$L$19*100 -> 7.528541 | F19: ='GDP CP 2020'!F19/'GDP CP 2020'!$L$19*100 -> 7.9664262 | G19: ='GDP CP 2020'!G19/'GDP CP 2020'!$L$19*100 -> 2.1710385 | H19: ='GDP CP 2020'!H19/'GDP CP 2020'!$L$19*100 -> 4.9967133 | I19: ='GDP CP 2020'!I19/'GDP CP 2020'!$L$19*100 -> 5.2215725 | ... L19: ='GDP CP 2020'!L19/'GDP CP 2020'!$L$19*100 -> 100
A20: Arts, Entertainment and Recreation | B20: ='GDP CP 2020'!B20/'GDP CP 2020'!$L$20*100 -> 16.232863 | C20: ='GDP CP 2020'!C20/'GDP CP 2020'!$L$20*100 -> 8.8684988 | D20: ='GDP CP 2020'!D20/'GDP CP 2020'!$L$20*100 -> 5.1910865 | E20: ='GDP CP 2020'!E20/'GDP CP 2020'!$L$20*100 -> 4.9909681 | F20: ='GDP CP 2020'!F20/'GDP CP 2020'!$L$20*100 -> 5.7397072 | G20: ='GDP CP 2020'!G20/'GDP CP 2020'!$L$20*100 -> 7.66458 | H20: ='GDP CP 2020'!H20/'GDP CP 2020'!$L$20*100 -> 6.2581483 | I20: ='GDP CP 2020'!I20/'GDP CP 2020'!$L$20*100 -> 8.3325496 | ... L20: ='GDP CP 2020'!L20/'GDP CP 2020'!$L$20*100 -> 100
A21: Other Services | B21: ='GDP CP 2020'!B21/'GDP CP 2020'!$L$21*100 -> 11.106978 | C21: ='GDP CP 2020'!C21/'GDP CP 2020'!$L$21*100 -> 8.5616285 | D21: ='GDP CP 2020'!D21/'GDP CP 2020'!$L$21*100 -> 4.2722382 | E21: ='GDP CP 2020'!E21/'GDP CP 2020'!$L$21*100 -> 8.0686158 | F21: ='GDP CP 2020'!F21/'GDP CP 2020'!$L$21*100 -> 10.642425 | G21: ='GDP CP 2020'!G21/'GDP CP 2020'!$L$21*100 -> 2.9101808 | H21: ='GDP CP 2020'!H21/'GDP CP 2020'!$L$21*100 -> 3.4264765 | I21: ='GDP CP 2020'!I21/'GDP CP 2020'!$L$21*100 -> 8.5354701 | ... L21: ='GDP CP 2020'!L21/'GDP CP 2020'!$L$21*100 -> 100
A22: Activities of Households as Employers, undifferentiated goods - and services - Producing Activities of Households for Own Use | B22: ='GDP CP 2020'!B22/'GDP CP 2020'!$L$22*100 -> 16.615565 | C22: ='GDP CP 2020'!C22/'GDP CP 2020'!$L$22*100 -> 4.9840789 | D22: ='GDP CP 2020'!D22/'GDP CP 2020'!$L$22*100 -> 1.7580454 | E22: ='GDP CP 2020'!E22/'GDP CP 2020'!$L$22*100 -> 3.6024448 | F22: ='GDP CP 2020'!F22/'GDP CP 2020'!$L$22*100 -> 5.0016238 | G22: ='GDP CP 2020'!G22/'GDP CP 2020'!$L$22*100 -> 2.6553531 | H22: ='GDP CP 2020'!H22/'GDP CP 2020'!$L$22*100 -> 4.6970299 | I22: ='GDP CP 2020'!I22/'GDP CP 2020'!$L$22*100 -> 6.291297 | ... L22: ='GDP CP 2020'!L22/'GDP CP 2020'!$L$22*100 -> 100
A23: GDP at Basic Prices | B23: ='GDP CP 2020'!B23/'GDP CP 2020'!$L$23*100 -> 13.421967 | C23: ='GDP CP 2020'!C23/'GDP CP 2020'!$L$23*100 -> 9.3560654 | D23: ='GDP CP 2020'!D23/'GDP CP 2020'!$L$23*100 -> 5.9375249 | E23: ='GDP CP 2020'!E23/'GDP CP 2020'!$L$23*100 -> 6.6292895 | F23: ='GDP CP 2020'!F23/'GDP CP 2020'!$L$23*100 -> 12.15084 | G23: ='GDP CP 2020'!G23/'GDP CP 2020'!$L$23*100 -> 5.2745043 | H23: ='GDP CP 2020'!H23/'GDP CP 2020'!$L$23*100 -> 5.1850745 | I23: ='GDP CP 2020'!I23/'GDP CP 2020'!$L$23*100 -> 10.287014 | ... L23: ='GDP CP 2020'!L23/'GDP CP 2020'!$L$23*100 -> 100
A24: Net Taxes on Products | B24: ='GDP CP 2020'!B24/'GDP CP 2020'!$L$24*100 -> 13.389562 | C24: ='GDP CP 2020'!C24/'GDP CP 2020'!$L$24*100 -> 9.014805 | D24: ='GDP CP 2020'!D24/'GDP CP 2020'!$L$24*100 -> 5.9532726 | E24: ='GDP CP 2020'!E24/'GDP CP 2020'!$L$24*100 -> 6.6230024 | F24: ='GDP CP 2020'!F24/'GDP CP 2020'!$L$24*100 -> 11.773875 | G24: ='GDP CP 2020'!G24/'GDP CP 2020'!$L$24*100 -> 5.1948444 | H24: ='GDP CP 2020'!H24/'GDP CP 2020'!$L$24*100 -> 4.9666579 | I24: ='GDP CP 2020'!I24/'GDP CP 2020'!$L$24*100 -> 11.579682 | ... L24: ='GDP CP 2020'!L24/'GDP CP 2020'!$L$24*100 -> 100
A25: Taxes on Products | B25: ='GDP CP 2020'!B25/'GDP CP 2020'!$L$25*100 -> 13.389562 | C25: ='GDP CP 2020'!C25/'GDP CP 2020'!$L$25*100 -> 9.014805 | D25: ='GDP CP 2020'!D25/'GDP CP 2020'!$L$25*100 -> 5.9532726 | E25: ='GDP CP 2020'!E25/'GDP CP 2020'!$L$25*100 -> 6.6230024 | F25: ='GDP CP 2020'!F25/'GDP CP 2020'!$L$25*100 -> 11.773875 | G25: ='GDP CP 2020'!G25/'GDP CP 2020'!$L$25*100 -> 5.1948444 | H25: ='GDP CP 2020'!H25/'GDP CP 2020'!$L$25*100 -> 4.9666579 | I25: ='GDP CP 2020'!I25/'GDP CP 2020'!$L$25*100 -> 11.579682 | ... L25: ='GDP CP 2020'!L25/'GDP CP 2020'!$L$25*100 -> 100
A26: Less Subsidies on Products | B26: ='GDP CP 2020'!B26/'GDP CP 2020'!$L$26*100 -> 13.389562 | C26: ='GDP CP 2020'!C26/'GDP CP 2020'!$L$26*100 -> 9.014805 | D26: ='GDP CP 2020'!D26/'GDP CP 2020'!$L$26*100 -> 5.9532726 | E26: ='GDP CP 2020'!E26/'GDP CP 2020'!$L$26*100 -> 6.6230024 | F26: ='GDP CP 2020'!F26/'GDP CP 2020'!$L$26*100 -> 11.773875 | G26: ='GDP CP 2020'!G26/'GDP CP 2020'!$L$26*100 -> 5.1948444 | H26: ='GDP CP 2020'!H26/'GDP CP 2020'!$L$26*100 -> 4.9666579 | I26: ='GDP CP 2020'!I26/'GDP CP 2020'!$L$26*100 -> 11.579682 | ... L26: ='GDP CP 2020'!L26/'GDP CP 2020'!$L$26*100 -> 100
A27: GDP at Market Prices | B27: ='GDP CP 2020'!B27/'GDP CP 2020'!$L$27*100 -> 13.420754 | C27: ='GDP CP 2020'!C27/'GDP CP 2020'!$L$27*100 -> 9.3432874 | D27: ='GDP CP 2020'!D27/'GDP CP 2020'!$L$27*100 -> 5.9381146 | E27: ='GDP CP 2020'!E27/'GDP CP 2020'!$L$27*100 -> 6.6290541 | F27: ='GDP CP 2020'!F27/'GDP CP 2020'!$L$27*100 -> 12.136726 | G27: ='GDP CP 2020'!G27/'GDP CP 2020'!$L$27*100 -> 5.2715215 | H27: ='GDP CP 2020'!H27/'GDP CP 2020'!$L$27*100 -> 5.1768962 | I27: ='GDP CP 2020'!I27/'GDP CP 2020'!$L$27*100 -> 10.335416 | ... L27: ='GDP CP 2020'!L27/'GDP CP 2020'!$L$27*100 -> 100

Sheet GDP KP 2020 Contr Provi
A1: Table 2.3 Gross Domestic Product Percent Contribution at Constant Prices by Province 2020
A2: Industry | B2: Bulawayo | C2: Manicaland | D2: Mash. Central | E2: Mash. East | F2: Mash. West | G2: Mat. North | H2: Mat. South | I2: Midlands | J2: Masvingo | K2: Harare | L2: Total
A3: Agriculture, Forestry and Fishing | B3: ='GDP KP 2020'!B3/'GDP KP 2020'!$B$27*100 -> 2.0959277 | C3: ='GDP KP 2020'!C3/'GDP KP 2020'!$C$27*100 -> 14.418462 | D3: ='GDP KP 2020'!D3/'GDP KP 2020'!$D$27*100 -> 32.154162 | E3: ='GDP KP 2020'!E3/'GDP KP 2020'!$E$27*100 -> 28.329671 | F3: ='GDP KP 2020'!F3/'GDP KP 2020'!$F$27*100 -> 17.410507 | G3: ='GDP KP 2020'!G3/'GDP KP 2020'!$G$27*100 -> 8.4239085 | H3: ='GDP KP 2020'!H3/'GDP KP 2020'!$H$27*100 -> 6.0534417 | I3: ='GDP KP 2020'!I3/'GDP KP 2020'!$I$27*100 -> 10.323437 | J3: ='GDP KP 2020'!J3/'GDP KP 2020'!$J$27*100 -> 15.198442 | K3: ='GDP KP 2020'!K3/'GDP KP 2020'!$K$27*100 -> 0.9564346 | L3: ='GDP KP 2020'!L3/'GDP KP 2020'!$L$27*100 -> 11.039899
A4: Mining and Quarrying | B4: ='GDP KP 2020'!B4/'GDP KP 2020'!$B$27*100 -> 1.2158362 | C4: ='GDP KP 2020'!C4/'GDP KP 2020'!$C$27*100 -> 16.178614 | D4: ='GDP KP 2020'!D4/'GDP KP 2020'!$D$27*100 -> 17.948098 | E4: ='GDP KP 2020'!E4/'GDP KP 2020'!$E$27*100 -> 9.9339688 | F4: ='GDP KP 2020'!F4/'GDP KP 2020'!$F$27*100 -> 27.793495 | G4: ='GDP KP 2020'!G4/'GDP KP 2020'!$G$27*100 -> 17.790536 | H4: ='GDP KP 2020'!H4/'GDP KP 2020'!$H$27*100 -> 27.514418 | I4: ='GDP KP 2020'!I4/'GDP KP 2020'!$I$27*100 -> 25.381194 | J4: ='GDP KP 2020'!J4/'GDP KP 2020'!$J$27*100 -> 9.1825759 | K4: ='GDP KP 2020'!K4/'GDP KP 2020'!$K$27*100 -> 1.197702 | L4: ='GDP KP 2020'!L4/'GDP KP 2020'!$L$27*100 -> 13.019433
A5: Manufacturing | B5: ='GDP KP 2020'!B5/'GDP KP 2020'!$B$27*100 -> 15.15787 | C5: ='GDP KP 2020'!C5/'GDP KP 2020'!$C$27*100 -> 10.719117 | D5: ='GDP KP 2020'!D5/'GDP KP 2020'!$D$27*100 -> 7.0030392 | E5: ='GDP KP 2020'!E5/'GDP KP 2020'!$E$27*100 -> 11.493239 | F5: ='GDP KP 2020'!F5/'GDP KP 2020'!$F$27*100 -> 6.3118204 | G5: ='GDP KP 2020'!G5/'GDP KP 2020'!$G$27*100 -> 13.131772 | H5: ='GDP KP 2020'!H5/'GDP KP 2020'!$H$27*100 -> 8.7858252 | I5: ='GDP KP 2020'!I5/'GDP KP 2020'!$I$27*100 -> 11.078851 | J5: ='GDP KP 2020'!J5/'GDP KP 2020'!$J$27*100 -> 11.804956 | K5: ='GDP KP 2020'!K5/'GDP KP 2020'!$K$27*100 -> 18.500053 | L5: ='GDP KP 2020'!L5/'GDP KP 2020'!$L$27*100 -> 12.513606
A6: Electricity, Gas, Steam and Air Conditioning Supply | B6: ='GDP KP 2020'!B6/'GDP KP 2020'!$B$27*100 -> 1.7758337 | C6: ='GDP KP 2020'!C6/'GDP KP 2020'!$C$27*100 -> 2.0793499 | D6: ='GDP KP 2020'!D6/'GDP KP 2020'!$D$27*100 -> 1.308829 | E6: ='GDP KP 2020'!E6/'GDP KP 2020'!$E$27*100 -> 1.7025885 | F6: ='GDP KP 2020'!F6/'GDP KP 2020'!$F$27*100 -> 8.6868316 | G6: ='GDP KP 2020'!G6/'GDP KP 2020'!$G$27*100 -> 12.42132 | H6: ='GDP KP 2020'!H6/'GDP KP 2020'!$H$27*100 -> 1.6716978 | I6: ='GDP KP 2020'!I6/'GDP KP 2020'!$I$27*100 -> 0.83394671 | J6: ='GDP KP 2020'!J6/'GDP KP 2020'!$J$27*100 -> 1.567209 | K6: ='GDP KP 2020'!K6/'GDP KP 2020'!$K$27*100 -> 0.80705927 | L6: ='GDP KP 2020'!L6/'GDP KP 2020'!$L$27*100 -> 2.8411902
A7: Water Supply; Sewerage, Waste Management & Remediation Activities | B7: ='GDP KP 2020'!B7/'GDP KP 2020'!$B$27*100 -> 0.45275625 | C7: ='GDP KP 2020'!C7/'GDP KP 2020'!$C$27*100 -> 0.19915938 | D7: ='GDP KP 2020'!D7/'GDP KP 2020'!$D$27*100 -> 0.05897522 | E7: ='GDP KP 2020'!E7/'GDP KP 2020'!$E$27*100 -> 0.15646358 | F7: ='GDP KP 2020'!F7/'GDP KP 2020'!$F$27*100 -> 0.09521265 | G7: ='GDP KP 2020'!G7/'GDP KP 2020'!$G$27*100 -> 0.11916597 | H7: ='GDP KP 2020'!H7/'GDP KP 2020'!$H$27*100 -> 0.11285925 | I7: ='GDP KP 2020'!I7/'GDP KP 2020'!$I$27*100 -> 0.33370573 | J7: ='GDP KP 2020'!J7/'GDP KP 2020'!$J$27*100 -> 0.24938681 | K7: ='GDP KP 2020'!K7/'GDP KP 2020'!$K$27*100 -> 0.45471734 | L7: ='GDP KP 2020'!L7/'GDP KP 2020'!$L$27*100 -> 0.27609653
A8: Construction | B8: ='GDP KP 2020'!B8/'GDP KP 2020'!$B$27*100 -> 3.9595621 | C8: ='GDP KP 2020'!C8/'GDP KP 2020'!$C$27*100 -> 2.3060065 | D8: ='GDP KP 2020'!D8/'GDP KP 2020'!$D$27*100 -> 2.3362516 | E8: ='GDP KP 2020'!E8/'GDP KP 2020'!$E$27*100 -> 2.3057817 | F8: ='GDP KP 2020'!F8/'GDP KP 2020'!$F$27*100 -> 1.3697267 | G8: ='GDP KP 2020'!G8/'GDP KP 2020'!$G$27*100 -> 3.3549168 | H8: ='GDP KP 2020'!H8/'GDP KP 2020'!$H$27*100 -> 2.8736365 | I8: ='GDP KP 2020'!I8/'GDP KP 2020'!$I$27*100 -> 2.6609733 | J8: ='GDP KP 2020'!J8/'GDP KP 2020'!$J$27*100 -> 2.5622383 | K8: ='GDP KP 2020'!K8/'GDP KP 2020'!$K$27*100 -> 4.5507672 | L8: ='GDP KP 2020'!L8/'GDP KP 2020'!$L$27*100 -> 3.0716013
A9: Wholesale and Retail Trade; Repair of Motor Vehicles and Motorcycles | B9: ='GDP KP 2020'!B9/'GDP KP 2020'!$B$27*100 -> 32.429969 | C9: ='GDP KP 2020'!C9/'GDP KP 2020'!$C$27*100 -> 20.346482 | D9: ='GDP KP 2020'!D9/'GDP KP 2020'!$D$27*100 -> 11.281298 | E9: ='GDP KP 2020'!E9/'GDP KP 2020'!$E$27*100 -> 13.066188 | F9: ='GDP KP 2020'!F9/'GDP KP 2020'!$F$27*100 -> 11.350948 | G9: ='GDP KP 2020'!G9/'GDP KP 2020'!$G$27*100 -> 15.324223 | H9: ='GDP KP 2020'!H9/'GDP KP 2020'!$H$27*100 -> 16.213326 | I9: ='GDP KP 2020'!I9/'GDP KP 2020'!$I$27*100 -> 14.676556 | J9: ='GDP KP 2020'!J9/'GDP KP 2020'!$J$27*100 -> 18.155663 | K9: ='GDP KP 2020'!K9/'GDP KP 2020'!$K$27*100 -> 22.906747 | L9: ='GDP KP 2020'!L9/'GDP KP 2020'!$L$27*100 -> 19.064584
A10: Transportation and Storage | B10: ='GDP KP 2020'!B10/'GDP KP 2020'!$B$27*100 -> 1.7209825 | C10: ='GDP KP 2020'!C10/'GDP KP 2020'!$C$27*100 -> 1.7210271 | D10: ='GDP KP 2020'!D10/'GDP KP 2020'!$D$27*100 -> 1.1974404 | E10: ='GDP KP 2020'!E10/'GDP KP 2020'!$E$27*100 -> 1.7933935 | F10: ='GDP KP 2020'!F10/'GDP KP 2020'!$F$27*100 -> 1.1004148 | G10: ='GDP KP 2020'!G10/'GDP KP 2020'!$G$27*100 -> 1.8507498 | H10: ='GDP KP 2020'!H10/'GDP KP 2020'!$H$27*100 -> 2.0344894 | I10: ='GDP KP 2020'!I10/'GDP KP 2020'!$I$27*100 -> 1.5742427 | J10: ='GDP KP 2020'!J10/'GDP KP 2020'!$J$27*100 -> 2.5121432 | K10: ='GDP KP 2020'!K10/'GDP KP 2020'!$K$27*100 -> 2.7979783 | L10: ='GDP KP 2020'!L10/'GDP KP 2020'!$L$27*100 -> 1.9297975
A11: Accommodation and Food Service Activities | B11: ='GDP KP 2020'!B11/'GDP KP 2020'!$B$27*100 -> 1.2797538 | C11: ='GDP KP 2020'!C11/'GDP KP 2020'!$C$27*100 -> 0.83235823 | D11: ='GDP KP 2020'!D11/'GDP KP 2020'!$D$27*100 -> 0.65366115 | E11: ='GDP KP 2020'!E11/'GDP KP 2020'!$E$27*100 -> 0.63702209 | F11: ='GDP KP 2020'!F11/'GDP KP 2020'!$F$27*100 -> 0.82088456 | G11: ='GDP KP 2020'!G11/'GDP KP 2020'!$G$27*100 -> 1.7085767 | H11: ='GDP KP 2020'!H11/'GDP KP 2020'!$H$27*100 -> 0.99900559 | I11: ='GDP KP 2020'!I11/'GDP KP 2020'!$I$27*100 -> 1.126041 | J11: ='GDP KP 2020'!J11/'GDP KP 2020'!$J$27*100 -> 1.0785232 | K11: ='GDP KP 2020'!K11/'GDP KP 2020'!$K$27*100 -> 1.2094691 | L11: ='GDP KP 2020'!L11/'GDP KP 2020'!$L$27*100 -> 1.057199
A12: Information and Communication | B12: ='GDP KP 2020'!B12/'GDP KP 2020'!$B$27*100 -> 7.8427021 | C12: ='GDP KP 2020'!C12/'GDP KP 2020'!$C$27*100 -> 5.5265194 | D12: ='GDP KP 2020'!D12/'GDP KP 2020'!$D$27*100 -> 4.2217513 | E12: ='GDP KP 2020'!E12/'GDP KP 2020'!$E$27*100 -> 5.1674015 | F12: ='GDP KP 2020'!F12/'GDP KP 2020'!$F$27*100 -> 4.1551592 | G12: ='GDP KP 2020'!G12/'GDP KP 2020'!$G$27*100 -> 3.3794751 | H12: ='GDP KP 2020'!H12/'GDP KP 2020'!$H$27*100 -> 5.8832091 | I12: ='GDP KP 2020'!I12/'GDP KP 2020'!$I$27*100 -> 4.4522388 | J12: ='GDP KP 2020'!J12/'GDP KP 2020'!$J$27*100 -> 7.0128387 | K12: ='GDP KP 2020'!K12/'GDP KP 2020'!$K$27*100 -> 6.7422315 | L12: ='GDP KP 2020'!L12/'GDP KP 2020'!$L$27*100 -> 5.7307118
A13: Financial and Insurance Activities | B13: ='GDP KP 2020'!B13/'GDP KP 2020'!$B$27*100 -> 10.28321 | C13: ='GDP KP 2020'!C13/'GDP KP 2020'!$C$27*100 -> 5.7371218 | D13: ='GDP KP 2020'!D13/'GDP KP 2020'!$D$27*100 -> 5.9776501 | E13: ='GDP KP 2020'!E13/'GDP KP 2020'!$E$27*100 -> 5.8354487 | F13: ='GDP KP 2020'!F13/'GDP KP 2020'!$F$27*100 -> 5.1767413 | G13: ='GDP KP 2020'!G13/'GDP KP 2020'!$G$27*100 -> 8.6503293 | H13: ='GDP KP 2020'!H13/'GDP KP 2020'!$H$27*100 -> 6.6309586 | I13: ='GDP KP 2020'!I13/'GDP KP 2020'!$I$27*100 -> 7.7953587 | J13: ='GDP KP 2020'!J13/'GDP KP 2020'!$J$27*100 -> 7.440461 | K13: ='GDP KP 2020'!K13/'GDP KP 2020'!$K$27*100 -> 10.321417 | L13: ='GDP KP 2020'!L13/'GDP KP 2020'!$L$27*100 -> 7.8986319
A14: Real Estate Activities | B14: ='GDP KP 2020'!B14/'GDP KP 2020'!$B$27*100 -> 3.4275424 | C14: ='GDP KP 2020'!C14/'GDP KP 2020'!$C$27*100 -> 3.1912387 | D14: ='GDP KP 2020'!D14/'GDP KP 2020'!$D$27*100 -> 2.7535883 | E14: ='GDP KP 2020'!E14/'GDP KP 2020'!$E$27*100 -> 3.248907 | F14: ='GDP KP 2020'!F14/'GDP KP 2020'!$F$27*100 -> 2.1040389 | G14: ='GDP KP 2020'!G14/'GDP KP 2020'!$G$27*100 -> 2.1454876 | H14: ='GDP KP 2020'!H14/'GDP KP 2020'!$H$27*100 -> 2.5715507 | I14: ='GDP KP 2020'!I14/'GDP KP 2020'!$I$27*100 -> 3.0807186 | J14: ='GDP KP 2020'!J14/'GDP KP 2020'!$J$27*100 -> 3.9356169 | K14: ='GDP KP 2020'!K14/'GDP KP 2020'!$K$27*100 -> 3.8567536 | L14: ='GDP KP 2020'!L14/'GDP KP 2020'!$L$27*100 -> 3.172415
... A27: GDP at Market Prices | B27: ='GDP KP 2020'!B27/'GDP KP 2020'!$B$27*100 -> 100 | C27: ='GDP KP 2020'!C27/'GDP KP 2020'!$C$27*100 -> 100 | D27: ='GDP KP 2020'!D27/'GDP KP 2020'!$D$27*100 -> 100 | E27: ='GDP KP 2020'!E27/'GDP KP 2020'!$E$27*100 -> 100 | F27: ='GDP KP 2020'!F27/'GDP KP 2020'!$F$27*100 -> 100 | G27: ='GDP KP 2020'!G27/'GDP KP 2020'!$G$27*100 -> 100 | H27: ='GDP KP 2020'!H27/'GDP KP 2020'!$H$27*100 -> 100 | I27: ='GDP KP 2020'!I27/'GDP KP 2020'!$I$27*100 -> 100 | J27: ='GDP KP 2020'!J27/'GDP KP 2020'!$J$27*100 -> 100 | K27: ='GDP KP 2020'!K27/'GDP KP 2020'!$K$27*100 -> 100 | L27: ='GDP KP 2020'!L27/'GDP KP 2020'!$L$27*100 -> 100

Sheet GDP KP 2020 Growth 
A1: Table 1.5: Gross Domestic Growth Rates, 2020
A2: Industry | B2: Bulawayo | C2: Manicaland | D2: Mash. Central | E2: Mash. East | F2: Mash. West | G2: Mat. North | H2: Mat. South | I2: Midlands | J2: Masvingo | K2: Harare | L2: Total
A3: Agriculture, Forestry and Fishing | B3: ='GDP KP 2020'!B3/'GDP KP 2019'!B3*100-100 -> -13.19295 | C3: ='GDP KP 2020'!C3/'GDP KP 2019'!C3*100-100 -> -0.042383912 | D3: ='GDP KP 2020'!D3/'GDP KP 2019'!D3*100-100 -> 3.6131803 | E3: ='GDP KP 2020'!E3/'GDP KP 2019'!E3*100-100 -> 19.384342 | F3: ='GDP KP 2020'!F3/'GDP KP 2019'!F3*100-100 -> 57.22245 | G3: ='GDP KP 2020'!G3/'GDP KP 2019'!G3*100-100 -> 30.722932 | H3: ='GDP KP 2020'!H3/'GDP KP 2019'!H3*100-100 -> 3.0899605 | I3: ='GDP KP 2020'!I3/'GDP KP 2019'!I3*100-100 -> -29.722928 | ... L3: ='GDP KP 2020'!L3/'GDP KP 2019'!L3*100-100 -> 4.1684598
A4: Mining and Quarrying | B4: ='GDP KP 2020'!B4/'GDP KP 2019'!B4*100-100 -> 9.1353491 | C4: ='GDP KP 2020'!C4/'GDP KP 2019'!C4*100-100 -> -0.60919915 | D4: ='GDP KP 2020'!D4/'GDP KP 2019'!D4*100-100 -> -9.6983671 | E4: ='GDP KP 2020'!E4/'GDP KP 2019'!E4*100-100 -> 23.838289 | F4: ='GDP KP 2020'!F4/'GDP KP 2019'!F4*100-100 -> 4.2253197 | G4: ='GDP KP 2020'!G4/'GDP KP 2019'!G4*100-100 -> -11.822185 | H4: ='GDP KP 2020'!H4/'GDP KP 2019'!H4*100-100 -> 10.281105 | I4: ='GDP KP 2020'!I4/'GDP KP 2019'!I4*100-100 -> 5.2538806 | ... L4: ='GDP KP 2020'!L4/'GDP KP 2019'!L4*100-100 -> 0.26065049
A5: Manufacturing | B5: ='GDP KP 2020'!B5/'GDP KP 2019'!B5*100-100 -> -17.966347 | C5: ='GDP KP 2020'!C5/'GDP KP 2019'!C5*100-100 -> -21.471649 | D5: ='GDP KP 2020'!D5/'GDP KP 2019'!D5*100-100 -> -24.623886 | E5: ='GDP KP 2020'!E5/'GDP KP 2019'!E5*100-100 -> -22.173513 | F5: ='GDP KP 2020'!F5/'GDP KP 2019'!F5*100-100 -> -29.784921 | G5: ='GDP KP 2020'!G5/'GDP KP 2019'!G5*100-100 -> -0.77623199 | H5: ='GDP KP 2020'!H5/'GDP KP 2019'!H5*100-100 -> -22.708457 | I5: ='GDP KP 2020'!I5/'GDP KP 2019'!I5*100-100 -> -16.741189 | ... L5: ='GDP KP 2020'!L5/'GDP KP 2019'!L5*100-100 -> -18.480632
A6: Electricity, Gas, Steam and Air Conditioning Supply | B6: ='GDP KP 2020'!B6/'GDP KP 2019'!B6*100-100 -> 6.6436619 | C6: ='GDP KP 2020'!C6/'GDP KP 2019'!C6*100-100 -> 1.2063145 | D6: ='GDP KP 2020'!D6/'GDP KP 2019'!D6*100-100 -> -29.560937 | E6: ='GDP KP 2020'!E6/'GDP KP 2019'!E6*100-100 -> -1.5395968 | F6: ='GDP KP 2020'!F6/'GDP KP 2019'!F6*100-100 -> -1.0575618 | G6: ='GDP KP 2020'!G6/'GDP KP 2019'!G6*100-100 -> -2.1212734 | H6: ='GDP KP 2020'!H6/'GDP KP 2019'!H6*100-100 -> -23.736002 | I6: ='GDP KP 2020'!I6/'GDP KP 2019'!I6*100-100 -> -28.759901 | ... L6: ='GDP KP 2020'!L6/'GDP KP 2019'!L6*100-100 -> -6.3133308
A7: Water Supply; Sewerage, Waste Management & Remediation Activities | B7: ='GDP KP 2020'!B7/'GDP KP 2019'!B7*100-100 -> 0.055074103 | C7: ='GDP KP 2020'!C7/'GDP KP 2019'!C7*100-100 -> -1.0744831 | D7: ='GDP KP 2020'!D7/'GDP KP 2019'!D7*100-100 -> -4.8630796 | E7: ='GDP KP 2020'!E7/'GDP KP 2019'!E7*100-100 -> 7.4155368 | F7: ='GDP KP 2020'!F7/'GDP KP 2019'!F7*100-100 -> -30.71961 | G7: ='GDP KP 2020'!G7/'GDP KP 2019'!G7*100-100 -> 11.590638 | H7: ='GDP KP 2020'!H7/'GDP KP 2019'!H7*100-100 -> -6.8437949 | I7: ='GDP KP 2020'!I7/'GDP KP 2019'!I7*100-100 -> 10.352349 | ... L7: ='GDP KP 2020'!L7/'GDP KP 2019'!L7*100-100 -> 1.9084701
A8: Construction | B8: ='GDP KP 2020'!B8/'GDP KP 2019'!B8*100-100 -> 6.2113866 | C8: ='GDP KP 2020'!C8/'GDP KP 2019'!C8*100-100 -> 13.156312 | D8: ='GDP KP 2020'!D8/'GDP KP 2019'!D8*100-100 -> 2.453065 | E8: ='GDP KP 2020'!E8/'GDP KP 2019'!E8*100-100 -> -2.5813563 | F8: ='GDP KP 2020'!F8/'GDP KP 2019'!F8*100-100 -> -19.852784 | G8: ='GDP KP 2020'!G8/'GDP KP 2019'!G8*100-100 -> 15.278343 | H8: ='GDP KP 2020'!H8/'GDP KP 2019'!H8*100-100 -> 9.4766998 | I8: ='GDP KP 2020'!I8/'GDP KP 2019'!I8*100-100 -> -10.106278 | ... L8: ='GDP KP 2020'!L8/'GDP KP 2019'!L8*100-100 -> 4.9547795
A9: Wholesale and Retail Trade; Repair of Motor Vehicles and Motorcycles | B9: ='GDP KP 2020'!B9/'GDP KP 2019'!B9*100-100 -> -5.4895692 | C9: ='GDP KP 2020'!C9/'GDP KP 2019'!C9*100-100 -> -16.25805 | D9: ='GDP KP 2020'!D9/'GDP KP 2019'!D9*100-100 -> -7.7608012 | E9: ='GDP KP 2020'!E9/'GDP KP 2019'!E9*100-100 -> -6.1523099 | F9: ='GDP KP 2020'!F9/'GDP KP 2019'!F9*100-100 -> 4.0622638 | G9: ='GDP KP 2020'!G9/'GDP KP 2019'!G9*100-100 -> 17.161632 | H9: ='GDP KP 2020'!H9/'GDP KP 2019'!H9*100-100 -> -26.684751 | I9: ='GDP KP 2020'!I9/'GDP KP 2019'!I9*100-100 -> -13.256948 | ... L9: ='GDP KP 2020'!L9/'GDP KP 2019'!L9*100-100 -> -10.130702
A10: Transportation and Storage | B10: ='GDP KP 2020'!B10/'GDP KP 2019'!B10*100-100 -> -27.104645 | C10: ='GDP KP 2020'!C10/'GDP KP 2019'!C10*100-100 -> -34.219205 | D10: ='GDP KP 2020'!D10/'GDP KP 2019'!D10*100-100 -> -37.825393 | E10: ='GDP KP 2020'!E10/'GDP KP 2019'!E10*100-100 -> -35.267765 | F10: ='GDP KP 2020'!F10/'GDP KP 2019'!F10*100-100 -> -45.070954 | G10: ='GDP KP 2020'!G10/'GDP KP 2019'!G10*100-100 -> -36.415467 | H10: ='GDP KP 2020'!H10/'GDP KP 2019'!H10*100-100 -> -36.033797 | I10: ='GDP KP 2020'!I10/'GDP KP 2019'!I10*100-100 -> -26.014395 | ... L10: ='GDP KP 2020'!L10/'GDP KP 2019'!L10*100-100 -> -30.208317
A11: Accommodation and Food Service Activities | B11: ='GDP KP 2020'!B11/'GDP KP 2019'!B11*100-100 -> -59.467389 | C11: ='GDP KP 2020'!C11/'GDP KP 2019'!C11*100-100 -> -62.545158 | D11: ='GDP KP 2020'!D11/'GDP KP 2019'!D11*100-100 -> -61.929193 | E11: ='GDP KP 2020'!E11/'GDP KP 2019'!E11*100-100 -> -62.787362 | F11: ='GDP KP 2020'!F11/'GDP KP 2019'!F11*100-100 -> -62.179652 | G11: ='GDP KP 2020'!G11/'GDP KP 2019'!G11*100-100 -> -67.411644 | H11: ='GDP KP 2020'!H11/'GDP KP 2019'!H11*100-100 -> -59.340573 | I11: ='GDP KP 2020'!I11/'GDP KP 2019'!I11*100-100 -> -51.259146 | ... L11: ='GDP KP 2020'!L11/'GDP KP 2019'!L11*100-100 -> -60.993045
A12: Information and Communication | B12: ='GDP KP 2020'!B12/'GDP KP 2019'!B12*100-100 -> 5.9792319 | C12: ='GDP KP 2020'!C12/'GDP KP 2019'!C12*100-100 -> 15.428194 | D12: ='GDP KP 2020'!D12/'GDP KP 2019'!D12*100-100 -> 21.452138 | E12: ='GDP KP 2020'!E12/'GDP KP 2019'!E12*100-100 -> 0.79987531 | F12: ='GDP KP 2020'!F12/'GDP KP 2019'!F12*100-100 -> 15.380761 | G12: ='GDP KP 2020'!G12/'GDP KP 2019'!G12*100-100 -> -24.598187 | H12: ='GDP KP 2020'!H12/'GDP KP 2019'!H12*100-100 -> -0.39568288 | I12: ='GDP KP 2020'!I12/'GDP KP 2019'!I12*100-100 -> 15.812809 | ... L12: ='GDP KP 2020'!L12/'GDP KP 2019'!L12*100-100 -> 8.9196257
A13: Financial and Insurance Activities | B13: ='GDP KP 2020'!B13/'GDP KP 2019'!B13*100-100 -> 18.869114 | C13: ='GDP KP 2020'!C13/'GDP KP 2019'!C13*100-100 -> 4.1391353 | D13: ='GDP KP 2020'!D13/'GDP KP 2019'!D13*100-100 -> 24.434566 | E13: ='GDP KP 2020'!E13/'GDP KP 2019'!E13*100-100 -> 24.140415 | F13: ='GDP KP 2020'!F13/'GDP KP 2019'!F13*100-100 -> -18.397013 | G13: ='GDP KP 2020'!G13/'GDP KP 2019'!G13*100-100 -> 3.1201012 | H13: ='GDP KP 2020'!H13/'GDP KP 2019'!H13*100-100 -> 26.3903 | I13: ='GDP KP 2020'!I13/'GDP KP 2019'!I13*100-100 -> 9.876173 | ... L13: ='GDP KP 2020'!L13/'GDP KP 2019'!L13*100-100 -> 11.935446
A14: Real Estate Activities | B14: ='GDP KP 2020'!B14/'GDP KP 2019'!B14*100-100 -> -2.6427196 | C14: ='GDP KP 2020'!C14/'GDP KP 2019'!C14*100-100 -> 1.3265177 | D14: ='GDP KP 2020'!D14/'GDP KP 2019'!D14*100-100 -> 10.452264 | E14: ='GDP KP 2020'!E14/'GDP KP 2019'!E14*100-100 -> -5.8955661 | F14: ='GDP KP 2020'!F14/'GDP KP 2019'!F14*100-100 -> -5.0349479 | G14: ='GDP KP 2020'!G14/'GDP KP 2019'!G14*100-100 -> 16.971533 | H14: ='GDP KP 2020'!H14/'GDP KP 2019'!H14*100-100 -> -9.893902 | I14: ='GDP KP 2020'!I14/'GDP KP 2019'!I14*100-100 -> 5.7962099 | ... L14: ='GDP KP 2020'!L14/'GDP KP 2019'!L14*100-100 -> 0.77878673
... A27: GDP at Market Prices | B27: ='GDP KP 2020'!B27/'GDP KP 2019'!B27*100-100 -> -7.7242836 | C27: ='GDP KP 2020'!C27/'GDP KP 2019'!C27*100-100 -> -9.3628632 | D27: ='GDP KP 2020'!D27/'GDP KP 2019'!D27*100-100 -> -5.0815455 | E27: ='GDP KP 2020'!E27/'GDP KP 2019'!E27*100-100 -> -1.6759375 | F27: ='GDP KP 2020'!F27/'GDP KP 2019'!F27*100-100 -> -0.57983672 | G27: ='GDP KP 2020'!G27/'GDP KP 2019'!G27*100-100 -> -5.3002525 | H27: ='GDP KP 2020'!H27/'GDP KP 2019'!H27*100-100 -> -9.050849 | I27: ='GDP KP 2020'!I27/'GDP KP 2019'!I27*100-100 -> -9.6392918 | ... L27: ='GDP KP 2020'!L27/'GDP KP 2019'!L27*100-100 -> -7.8169506

Sheet New GDP CP 2021
A1: Table 3.1 Gross Domestic Product at Current Prices by Industry by Province 2021 ZWL
A2: Industry | B2: Bulawayo | C2: Manicaland | D2: Mash. Central | E2: Mash. East | F2: Mash. West | G2: Mat. North | H2: Mat. South | I2: Midlands | J2: Masvingo | K2: Harare | L2: Total
A3: Agriculture, Forestry and Fishing | B3: 1.010629e+10 | C3: 6.5771105e+10 | D3: 7.4696744e+10 | E3: 6.5089495e+10 | F3: 7.0552291e+10 | G3: 1.6347184e+10 | H3: 9.5825418e+09 | I3: 4.6555455e+10 | J3: 4.7777088e+10 | K3: 1.2127548e+10 | L3: 4.1860574e+11
A4: Mining and Quarrying | B4: 5.6872424e+09 | C4: 5.5507425e+10 | D4: 4.5646131e+10 | E4: 2.3924031e+10 | F4: 1.2478879e+11 | G4: 4.6806254e+10 | H4: 5.28866e+10 | I4: 1.0359905e+11 | J4: 3.5387139e+10 | K4: 9.1808342e+09 | L4: 5.034135e+11
A5: Manufacturing | B5: 9.3291676e+10 | C5: 4.8123083e+10 | D5: 2.3430068e+10 | E5: 3.8976865e+10 | F5: 4.2443126e+10 | G5: 2.7099988e+10 | H5: 2.2696765e+10 | I5: 5.5165687e+10 | J5: 3.9990347e+10 | K5: 1.9734091e+11 | L5: 5.8855851e+11
A6: Electricity, Gas, Steam and Air Conditioning Supply | B6: 7.9050841e+09 | C6: 6.810568e+09 | D6: 4.4058786e+09 | E6: 4.2912363e+09 | F6: 3.8976639e+10 | G6: 2.4433373e+10 | H6: 4.1152295e+09 | I6: 4.5631082e+09 | J6: 5.5646694e+09 | K6: 8.2626026e+09 | L6: 1.0932839e+11
A7: Water Supply; Sewerage, Waste Management & Remediation Activities | B7: 2.0435326e+09 | C7: 6.3485245e+08 | D7: 1.398301e+08 | E7: 3.4387255e+08 | F7: 5.8039933e+08 | G7: 1.9558945e+08 | H7: 2.1637057e+08 | I7: 1.1213625e+09 | J7: 5.2934855e+08 | K7: 3.4861761e+09 | L7: 9.2913342e+09
A8: Construction | B8: 2.5485139e+10 | C8: 9.7278487e+09 | D8: 7.7862715e+09 | E8: 8.4582818e+09 | F8: 1.0925536e+10 | G8: 8.0688134e+09 | H8: 7.0963931e+09 | I8: 1.6616128e+10 | J8: 8.852384e+09 | K8: 4.8913627e+10 | L8: 1.5193042e+11
A9: Wholesale and Retail Trade; Repair of Motor Vehicles and Motorcycles | B9: 2.3747075e+11 | C9: 1.1741234e+11 | D9: 4.2277653e+10 | E9: 5.0369052e+10 | F9: 7.0594125e+10 | G9: 3.6711414e+10 | H9: 6.052541e+10 | I9: 9.6148062e+10 | J9: 8.2066974e+10 | K9: 3.2131038e+11 | L9: 1.1148862e+12
A10: Transportation and Storage | B10: 1.2135991e+10 | C10: 9.3909898e+09 | D10: 4.9449678e+09 | E10: 7.4447263e+09 | F10: 9.6302902e+09 | G10: 6.0681957e+09 | H10: 6.4657677e+09 | I10: 8.9811271e+09 | J10: 9.8785161e+09 | K10: 3.2998307e+10 | L10: 1.0793888e+11
A11: Accommodation and Food Service Activities | B11: 2.064808e+10 | C11: 1.0148089e+10 | D11: 5.608444e+09 | E11: 5.8521707e+09 | F11: 1.3273968e+10 | G11: 1.3905755e+10 | H11: 6.3544959e+09 | I11: 1.2405854e+10 | J11: 9.5082038e+09 | K11: 3.6894523e+10 | L11: 1.3459958e+11
A12: Information and Communication | B12: 3.4503841e+10 | C12: 1.5587857e+10 | D12: 8.0953183e+09 | E12: 1.2494814e+10 | F12: 1.5702294e+10 | G12: 8.4752919e+09 | H12: 1.0891187e+10 | I12: 1.4718111e+10 | J12: 1.5226371e+10 | K12: 5.0597731e+10 | L12: 1.8629282e+11
A13: Financial and Insurance Activities | B13: 5.0429418e+10 | C13: 2.2424797e+10 | D13: 1.3987423e+10 | E13: 1.4324533e+10 | F13: 3.4582872e+10 | G13: 1.9832539e+10 | H13: 1.2094933e+10 | I13: 3.395976e+10 | J13: 1.8069236e+10 | K13: 9.2671978e+10 | L13: 3.1237749e+11
A14: Real Estate Activities | B14: 1.6077009e+10 | C14: 1.0042715e+10 | D14: 5.6864235e+09 | E14: 8.2416309e+09 | F14: 9.4616561e+09 | G14: 3.3970457e+09 | H14: 5.1540469e+09 | I14: 1.0918941e+10 | J14: 1.0587087e+10 | K14: 2.9598319e+10 | L14: 1.0916487e+11
... A22: Activities of Households as Employers, undifferentiated goods - and services - Producing Activities of Households for Own Use | B22: 1.3412721e+08 | C22: 40233396 | D22: 14191616 | E22: 29080316 | F22: 40375024 | G22: 21435028 | H22: 37916226 | I22: 50785761 | J22: 73057467 | K22: 3.6603629e+08 | L22: 8.0723834e+08
A23: GDP at Basic Prices | B23: =SUM(B3:B22) -> 6.058266e+11 | C23: =SUM(C3:C22) -> 4.3184772e+11 | D23: =SUM(D3:D22) -> 2.6369642e+11 | E23: =SUM(E3:E22) -> 2.8470733e+11 | F23: =SUM(F3:F22) -> 5.0656609e+11 | G23: =SUM(G3:G22) -> 2.3163238e+11 | H23: =SUM(H3:H22) -> 2.3572795e+11 | I23: =SUM(I3:I22) -> 4.6627399e+11 | ... L23: =SUM(L3:L22) -> 4.460229e+12
A24: Net Taxes on Products | B24: =B25-B26 -> 2.4785256e+10 | C24: =C25-C26 -> 1.6600609e+10 | D24: =D25-D26 -> 1.1025974e+10 | E24: =E25-E26 -> 1.1685124e+10 | F24: =F25-F26 -> 1.9476676e+10 | G24: =G25-G26 -> 9.0032494e+09 | H24: =H25-H26 -> 9.2616969e+09 | I24: =I25-I26 -> 2.1682148e+10 | ... L24: =L25-L26 -> 181974576284
A25: Taxes on Products | B25: 2.5795347e+10 | C25: 1.7277145e+10 | D25: 1.1475324e+10 | E25: 1.2161336e+10 | F25: 2.0270423e+10 | G25: 9.3701652e+09 | H25: 9.6391453e+09 | I25: 2.2565775e+10 | J25: 1.4448924e+10 | K25: 4.638713e+10 | L25: 189390714382
A26: Less Subsidies on Products | B26: 1.010091e+09 | C26: 6.7653629e+08 | D26: 4.493493e+08 | E26: 4.7621209e+08 | F26: 7.9374669e+08 | G26: 3.6691577e+08 | H26: 3.7744846e+08 | I26: 8.8362783e+08 | J26: 5.6578918e+08 | K26: 1.8164215e+09 | L26: 7416138098
A27: GDP at Market Prices ZWL | B27: =B23+B24 -> 6.3061186e+11 | C27: =C23+C24 -> 4.4844833e+11 | D27: =D23+D24 -> 2.7472239e+11 | E27: =E23+E24 -> 2.9639245e+11 | F27: =F23+F24 -> 5.2604276e+11 | G27: =G23+G24 -> 2.4063563e+11 | H27: =H23+H24 -> 2.4498964e+11 | I27: =I23+I24 -> 4.8795614e+11 | ... L27: =L23+L24 -> 4.6422036e+12
A28: Population (absolute figures) | B28: 652632.96 | C28: 1996948.9 | D28: 1357193.2 | E28: 1696549.5 | F28: 1855712.3 | G28: 811092.1 | H28: 745138.1 | I28: 1775666.9 | J28: 1605757.4 | K28: 2378686.4 | L28: 14875378
A29: GDP per Capita | B29: 966258.06 | C29: 224566.75 | D29: 202419.52 | E29: 174703.09 | F29: 283472.15 | G29: 296681.01 | H29: 328784.21 | I29: 274801.62 | J29: 220803.66 | K29: 478351.1 | L29: 312072.98
A30: Exchange Rate ZW :1 USD | B30: 128.945 | C30: 128.945 | D30: 128.945 | E30: 128.945 | F30: 128.945 | G30: 128.945 | H30: 128.945 | I30: 128.945 | J30: 128.945 | K30: 128.945 | L30: 128.945
A31: Per Capita GDP in USD | B31: 7493.5675 | C31: 1741.57 | D31: 1569.8129 | E31: 1354.8652 | F31: 2198.3958 | G31: 2300.8338 | H31: 2549.8019 | I31: 2131.1537 | J31: 1712.3863 | K31: 3709.7297 | L31: 2420.2023

Sheet New GDP KP 2021 
A1: Table 3.2 Gross Domestic Product at Constant Prices by Industry by Province 2021 ZWL | L1: 0
A2: Industry | B2: Bulawayo | C2: Manicaland | D2: Mash. Central | E2: Mash. East | F2: Mash. West | G2: Mat. North | H2: Mat. South | I2: Midlands | J2: Masvingo | K2: Harare | L2: Total
A3: Agriculture, Forestry and Fishing | B3: 4.3572984e+11 | C3: 2.8357028e+12 | D3: 3.2205292e+12 | E3: 2.8063153e+12 | F3: 3.0418422e+12 | G3: 7.0480424e+11 | H3: 4.131486e+11 | I3: 2.0072254e+12 | J3: 2.0598957e+12 | K3: 5.2287582e+11 | L3: 1.8048069e+13
A4: Mining and Quarrying | B4: 2.1670242e+11 | C4: 2.1150133e+12 | D4: 1.7392659e+12 | E4: 9.1158331e+11 | F4: 4.7548583e+12 | G4: 1.7834704e+12 | H4: 2.0151513e+12 | I4: 3.9474605e+12 | J4: 1.348365e+12 | K4: 3.4981962e+11 | L4: 1.918169e+13
A5: Manufacturing | B5: 2.6347783e+12 | C5: 1.6171536e+12 | D5: 5.7995637e+11 | E5: 1.2728015e+12 | F5: 1.0770006e+12 | G5: 9.3480124e+11 | H5: 7.307039e+11 | I5: 1.7275761e+12 | J5: 1.1092958e+12 | K5: 5.9388357e+12 | L5: 1.7622903e+13
A6: Electricity, Gas, Steam and Air Conditioning Supply | B6: 3.8283968e+11 | C6: 2.7688551e+11 | D6: 1.4780387e+11 | E6: 1.8134903e+11 | F6: 2.0325507e+12 | G6: 1.2011535e+12 | H6: 1.6223565e+11 | I6: 2.1569456e+11 | J6: 2.9596807e+11 | K6: 3.9460868e+11 | L6: 5.2910892e+12
A7: Water Supply; Sewerage, Waste Management & Remediation Activities | B7: 9.7618474e+10 | C7: 2.7426902e+10 | D7: 6.9509998e+09 | E7: 1.5595839e+10 | F7: 2.8353454e+10 | G7: 8.6839171e+09 | H7: 1.1384976e+10 | I7: 5.4435575e+10 | J7: 2.5540726e+10 | K7: 1.5710625e+11 | L7: 4.3309711e+11
A8: Construction | B8: 6.9049252e+11 | C8: 3.0541015e+11 | D8: 2.4344288e+11 | E8: 2.3459041e+11 | F8: 2.8770522e+11 | G8: 2.5229534e+11 | H8: 1.947543e+11 | I8: 5.2672186e+11 | J8: 2.6114781e+11 | K8: 1.4296736e+12 | L8: 4.4262341e+12
A9: Wholesale and Retail Trade; Repair of Motor Vehicles and Motorcycles | B9: 6.2800357e+12 | C9: 2.8254807e+12 | D9: 1.0300706e+12 | E9: 1.3703239e+12 | F9: 1.8444259e+12 | G9: 8.8690152e+11 | H9: 1.4707448e+12 | I9: 2.4156702e+12 | J9: 2.1624595e+12 | K9: 8.3898491e+12 | L9: 2.8675962e+13
A10: Transportation and Storage | B10: 3.5680981e+11 | C10: 2.4772426e+11 | D10: 1.4516932e+11 | E10: 2.0683316e+11 | F10: 2.6584249e+11 | G10: 1.4926726e+11 | H10: 1.8331599e+11 | I10: 2.1334369e+11 | J10: 2.6088726e+11 | K10: 8.8780165e+11 | L10: 2.9169949e+12
A11: Accommodation and Food Service Activities | B11: 2.9823456e+11 | C11: 1.6173241e+11 | D11: 8.0805682e+10 | E11: 7.8383106e+10 | F11: 1.9070674e+11 | G11: 2.5119512e+11 | H11: 8.5985441e+10 | I11: 1.8367965e+11 | J11: 1.4573328e+11 | K11: 5.606132e+11 | L11: 2.0370692e+12
A12: Information and Communication | B12: 1.5686697e+12 | C12: 7.4991314e+11 | D12: 3.6285827e+11 | E12: 6.0458426e+11 | F12: 7.0277142e+11 | G12: 3.8946472e+11 | H12: 5.2048353e+11 | I12: 6.5652886e+11 | J12: 7.3292847e+11 | K12: 2.4649026e+12 | L12: 8.753105e+12
A13: Financial and Insurance Activities | B13: 1.8844945e+12 | C13: 7.7884918e+11 | D13: 5.2963795e+11 | E13: 5.0788933e+11 | F13: 1.1968898e+12 | G13: 7.3017948e+11 | H13: 4.1575196e+11 | I13: 1.253562e+12 | J13: 6.7758872e+11 | K13: 3.3476974e+12 | L13: 1.132254e+13
A14: Real Estate Activities | B14: 6.4006381e+11 | C14: 4.1589706e+11 | D14: 2.302026e+11 | E14: 3.5615793e+11 | F14: 4.0292431e+11 | G14: 1.4760881e+11 | H14: 2.2617298e+11 | I14: 4.8265791e+11 | J14: 4.3192104e+11 | K14: 1.2585274e+12 | L14: 4.5921339e+12
... A22: Activities of Households as Employers, undifferentiated goods - and services - Producing Activities of Households for Own Use | B22: 4.5240529e+10 | C22: 9.3279442e+09 | D22: 4.174255e+09 | E22: 6.2963623e+09 | F22: 9.4445435e+09 | G22: 5.7366857e+09 | H22: 8.861547e+09 | I22: 1.168325e+10 | J22: 1.5857505e+10 | K22: 1.1670138e+11 | L22: 2.33324e+11
A23: GDP at Basic Prices | B23: =SUM(B3:B22) -> 1.8043154e+13 | C23: =SUM(C3:C22) -> 1.3950791e+13 | D23: =SUM(D3:D22) -> 9.1819842e+12 | E23: =SUM(E3:E22) -> 9.7449065e+12 | F23: =SUM(F3:F22) -> 1.7316908e+13 | G23: =SUM(G3:G22) -> 8.0957129e+12 | H23: =SUM(H3:H22) -> 7.2253596e+12 | I23: =SUM(I3:I22) -> 1.5366784e+13 | ... L23: =SUM(L3:L22) -> 1.4205858e+14
A24: Net Taxes on Products | B24: =B25-B26 -> 1.1347568e+12 | C24: =C25-C26 -> 8.0996574e+11 | D24: =D25-D26 -> 5.9554216e+11 | E24: =E25-E26 -> 6.0185614e+11 | F24: =F25-F26 -> 1.0257505e+12 | G24: =G25-G26 -> 4.6449234e+11 | H24: =H25-H26 -> 4.4886502e+11 | I24: =I25-I26 -> 1.1134796e+12 | ... L24: =L25-L26 -> 8.9097277e+12
A25: Taxes on Products | B25: 1.1609639e+12 | C25: 8.2867184e+11 | D25: 6.0929616e+11 | E25: 6.1575596e+11 | F25: 1.0494401e+12 | G25: 4.7521975e+11 | H25: 4.5923152e+11 | I25: 1.1391953e+12 | J25: 7.1069902e+11 | K25: 2.0669146e+12 | L25: 9.1153882e+12
A26: Less Subsidies on Products | B26: 2.6207116e+10 | C26: 1.8706093e+10 | D26: 1.3753997e+10 | E26: 1.3899818e+10 | F26: 2.3689624e+10 | G26: 1.0727413e+10 | H26: 1.0366501e+10 | I26: 2.5715721e+10 | J26: 1.586701e+10 | K26: 4.6727209e+10 | L26: 2.056605e+11
A27: GDP at Market Prices | B27: =B23+B24 -> 1.9177911e+13 | C27: =C23+C24 -> 1.4760757e+13 | D27: =D23+D24 -> 9.7775263e+12 | E27: =E23+E24 -> 1.0346763e+13 | F27: =F23+F24 -> 1.8342659e+13 | G27: =G23+G24 -> 8.5602053e+12 | H27: =H23+H24 -> 7.6742246e+12 | I27: =I23+I24 -> 1.6480264e+13 | ... L27: =L23+L24 -> 1.5096831e+14
A28: Population (absolute figures) | B28: 652632.96 | C28: 1996948.9 | D28: 1357193.2 | E28: 1696549.5 | F28: 1855712.3 | G28: 811092.1 | H28: 745138.1 | I28: 1775666.9 | J28: 1605757.4 | K28: 2378686.4 | L28: 14875378
A29: GDP per Capita | B29: 29385447 | C29: 7391654.5 | D29: 7204226 | E29: 6098709.4 | F29: 9884430.2 | G29: 10553925 | H29: 10299064 | I29: 9281168.6 | J29: 7288343.3 | K29: 14354431 | L29: 10148872

Sheet % GDP CP Contri 2021 Industry
A1: Table 3.4 Gross Domestic Product Contribution by Industry by Province 2021
A2: Industry | B2: Bulawayo | C2: Manicaland | D2: Mash. Central | E2: Mash. East | F2: Mash. West | G2: Mat. North | H2: Mat. South | I2: Midlands | J2: Masvingo | K2: Harare | L2: Total
A3: Agriculture, Forestry and Fishing | B3: ='New GDP CP 2021'!B3/'New GDP CP 2021'!$L$3*100 -> 2.414274 | C3: ='New GDP CP 2021'!C3/'New GDP CP 2021'!$L$3*100 -> 15.711945 | D3: ='New GDP CP 2021'!D3/'New GDP CP 2021'!$L$3*100 -> 17.844176 | E3: ='New GDP CP 2021'!E3/'New GDP CP 2021'!$L$3*100 -> 15.549117 | F3: ='New GDP CP 2021'!F3/'New GDP CP 2021'!$L$3*100 -> 16.854114 | G3: ='New GDP CP 2021'!G3/'New GDP CP 2021'!$L$3*100 -> 3.9051504 | H3: ='New GDP CP 2021'!H3/'New GDP CP 2021'!$L$3*100 -> 2.2891568 | I3: ='New GDP CP 2021'!I3/'New GDP CP 2021'!$L$3*100 -> 11.121552 | ... L3: ='New GDP CP 2021'!L3/'New GDP CP 2021'!$L$3*100 -> 100
A4: Mining and Quarrying | B4: ='New GDP CP 2021'!B4/'New GDP CP 2021'!$L$4*100 -> 1.1297358 | C4: ='New GDP CP 2021'!C4/'New GDP CP 2021'!$L$4*100 -> 11.026209 | D4: ='New GDP CP 2021'!D4/'New GDP CP 2021'!$L$4*100 -> 9.0673237 | E4: ='New GDP CP 2021'!E4/'New GDP CP 2021'!$L$4*100 -> 4.7523618 | F4: ='New GDP CP 2021'!F4/'New GDP CP 2021'!$L$4*100 -> 24.788526 | G4: ='New GDP CP 2021'!G4/'New GDP CP 2021'!$L$4*100 -> 9.297775 | H4: ='New GDP CP 2021'!H4/'New GDP CP 2021'!$L$4*100 -> 10.505598 | I4: ='New GDP CP 2021'!I4/'New GDP CP 2021'!$L$4*100 -> 20.579316 | ... L4: ='New GDP CP 2021'!L4/'New GDP CP 2021'!$L$4*100 -> 100
A5: Manufacturing | B5: ='New GDP CP 2021'!B5/'New GDP CP 2021'!$L$5*100 -> 15.850875 | C5: ='New GDP CP 2021'!C5/'New GDP CP 2021'!$L$5*100 -> 8.1764314 | D5: ='New GDP CP 2021'!D5/'New GDP CP 2021'!$L$5*100 -> 3.9809241 | E5: ='New GDP CP 2021'!E5/'New GDP CP 2021'!$L$5*100 -> 6.6224282 | F5: ='New GDP CP 2021'!F5/'New GDP CP 2021'!$L$5*100 -> 7.2113689 | G5: ='New GDP CP 2021'!G5/'New GDP CP 2021'!$L$5*100 -> 4.6044679 | H5: ='New GDP CP 2021'!H5/'New GDP CP 2021'!$L$5*100 -> 3.856331 | I5: ='New GDP CP 2021'!I5/'New GDP CP 2021'!$L$5*100 -> 9.3730165 | ... L5: ='New GDP CP 2021'!L5/'New GDP CP 2021'!$L$5*100 -> 100
A6: Electricity, Gas, Steam and Air Conditioning Supply | B6: ='New GDP CP 2021'!B6/'New GDP CP 2021'!$L$6*100 -> 7.2305869 | C6: ='New GDP CP 2021'!C6/'New GDP CP 2021'!$L$6*100 -> 6.2294598 | D6: ='New GDP CP 2021'!D6/'New GDP CP 2021'!$L$6*100 -> 4.0299493 | E6: ='New GDP CP 2021'!E6/'New GDP CP 2021'!$L$6*100 -> 3.9250888 | F6: ='New GDP CP 2021'!F6/'New GDP CP 2021'!$L$6*100 -> 35.650977 | G6: ='New GDP CP 2021'!G6/'New GDP CP 2021'!$L$6*100 -> 22.348608 | H6: ='New GDP CP 2021'!H6/'New GDP CP 2021'!$L$6*100 -> 3.7640997 | I6: ='New GDP CP 2021'!I6/'New GDP CP 2021'!$L$6*100 -> 4.1737633 | ... L6: ='New GDP CP 2021'!L6/'New GDP CP 2021'!$L$6*100 -> 100
A7: Water Supply; Sewerage, Waste Management & Remediation Activities | B7: ='New GDP CP 2021'!B7/'New GDP CP 2021'!$L$7*100 -> 21.993963 | C7: ='New GDP CP 2021'!C7/'New GDP CP 2021'!$L$7*100 -> 6.8327372 | D7: ='New GDP CP 2021'!D7/'New GDP CP 2021'!$L$7*100 -> 1.5049518 | E7: ='New GDP CP 2021'!E7/'New GDP CP 2021'!$L$7*100 -> 3.7010029 | F7: ='New GDP CP 2021'!F7/'New GDP CP 2021'!$L$7*100 -> 6.2466737 | G7: ='New GDP CP 2021'!G7/'New GDP CP 2021'!$L$7*100 -> 2.1050739 | H7: ='New GDP CP 2021'!H7/'New GDP CP 2021'!$L$7*100 -> 2.3287352 | I7: ='New GDP CP 2021'!I7/'New GDP CP 2021'!$L$7*100 -> 12.068907 | ... L7: ='New GDP CP 2021'!L7/'New GDP CP 2021'!$L$7*100 -> 100
A8: Construction | B8: ='New GDP CP 2021'!B8/'New GDP CP 2021'!$L$8*100 -> 16.774217 | C8: ='New GDP CP 2021'!C8/'New GDP CP 2021'!$L$8*100 -> 6.4028314 | D8: ='New GDP CP 2021'!D8/'New GDP CP 2021'!$L$8*100 -> 5.124893 | E8: ='New GDP CP 2021'!E8/'New GDP CP 2021'!$L$8*100 -> 5.5672074 | F8: ='New GDP CP 2021'!F8/'New GDP CP 2021'!$L$8*100 -> 7.1911445 | G8: ='New GDP CP 2021'!G8/'New GDP CP 2021'!$L$8*100 -> 5.3108609 | H8: ='New GDP CP 2021'!H8/'New GDP CP 2021'!$L$8*100 -> 4.6708178 | I8: ='New GDP CP 2021'!I8/'New GDP CP 2021'!$L$8*100 -> 10.936669 | ... L8: ='New GDP CP 2021'!L8/'New GDP CP 2021'!$L$8*100 -> 100
A9: Wholesale and Retail Trade; Repair of Motor Vehicles and Motorcycles | B9: ='New GDP CP 2021'!B9/'New GDP CP 2021'!$L$9*100 -> 21.3 | C9: ='New GDP CP 2021'!C9/'New GDP CP 2021'!$L$9*100 -> 10.53133 | D9: ='New GDP CP 2021'!D9/'New GDP CP 2021'!$L$9*100 -> 3.7921049 | E9: ='New GDP CP 2021'!E9/'New GDP CP 2021'!$L$9*100 -> 4.517865 | F9: ='New GDP CP 2021'!F9/'New GDP CP 2021'!$L$9*100 -> 6.3319581 | G9: ='New GDP CP 2021'!G9/'New GDP CP 2021'!$L$9*100 -> 3.2928397 | H9: ='New GDP CP 2021'!H9/'New GDP CP 2021'!$L$9*100 -> 5.4288422 | I9: ='New GDP CP 2021'!I9/'New GDP CP 2021'!$L$9*100 -> 8.6240251 | ... L9: ='New GDP CP 2021'!L9/'New GDP CP 2021'!$L$9*100 -> 100
A10: Transportation and Storage | B10: ='New GDP CP 2021'!B10/'New GDP CP 2021'!$L$10*100 -> 11.243391 | C10: ='New GDP CP 2021'!C10/'New GDP CP 2021'!$L$10*100 -> 8.7002848 | D10: ='New GDP CP 2021'!D10/'New GDP CP 2021'!$L$10*100 -> 4.5812666 | E10: ='New GDP CP 2021'!E10/'New GDP CP 2021'!$L$10*100 -> 6.8971685 | F10: ='New GDP CP 2021'!F10/'New GDP CP 2021'!$L$10*100 -> 8.9219847 | G10: ='New GDP CP 2021'!G10/'New GDP CP 2021'!$L$10*100 -> 5.6218814 | H10: ='New GDP CP 2021'!H10/'New GDP CP 2021'!$L$10*100 -> 5.9902121 | I10: ='New GDP CP 2021'!I10/'New GDP CP 2021'!$L$10*100 -> 8.3205674 | ... L10: ='New GDP CP 2021'!L10/'New GDP CP 2021'!$L$10*100 -> 100
A11: Accommodation and Food Service Activities | B11: ='New GDP CP 2021'!B11/'New GDP CP 2021'!$L$11*100 -> 15.340374 | C11: ='New GDP CP 2021'!C11/'New GDP CP 2021'!$L$11*100 -> 7.5394656 | D11: ='New GDP CP 2021'!D11/'New GDP CP 2021'!$L$11*100 -> 4.1667618 | E11: ='New GDP CP 2021'!E11/'New GDP CP 2021'!$L$11*100 -> 4.3478372 | F11: ='New GDP CP 2021'!F11/'New GDP CP 2021'!$L$11*100 -> 9.8618193 | G11: ='New GDP CP 2021'!G11/'New GDP CP 2021'!$L$11*100 -> 10.331202 | H11: ='New GDP CP 2021'!H11/'New GDP CP 2021'!$L$11*100 -> 4.7210369 | I11: ='New GDP CP 2021'!I11/'New GDP CP 2021'!$L$11*100 -> 9.2168589 | ... L11: ='New GDP CP 2021'!L11/'New GDP CP 2021'!$L$11*100 -> 100
A12: Information and Communication | B12: ='New GDP CP 2021'!B12/'New GDP CP 2021'!$L$12*100 -> 18.521294 | C12: ='New GDP CP 2021'!C12/'New GDP CP 2021'!$L$12*100 -> 8.3673957 | D12: ='New GDP CP 2021'!D12/'New GDP CP 2021'!$L$12*100 -> 4.3454807 | E12: ='New GDP CP 2021'!E12/'New GDP CP 2021'!$L$12*100 -> 6.7070833 | F12: ='New GDP CP 2021'!F12/'New GDP CP 2021'!$L$12*100 -> 8.4288242 | G12: ='New GDP CP 2021'!G12/'New GDP CP 2021'!$L$12*100 -> 4.5494464 | H12: ='New GDP CP 2021'!H12/'New GDP CP 2021'!$L$12*100 -> 5.8462732 | I12: ='New GDP CP 2021'!I12/'New GDP CP 2021'!$L$12*100 -> 7.9005253 | ... L12: ='New GDP CP 2021'!L12/'New GDP CP 2021'!$L$12*100 -> 100
A13: Financial and Insurance Activities | B13: ='New GDP CP 2021'!B13/'New GDP CP 2021'!$L$13*100 -> 16.143743 | C13: ='New GDP CP 2021'!C13/'New GDP CP 2021'!$L$13*100 -> 7.1787495 | D13: ='New GDP CP 2021'!D13/'New GDP CP 2021'!$L$13*100 -> 4.4777308 | E13: ='New GDP CP 2021'!E13/'New GDP CP 2021'!$L$13*100 -> 4.5856483 | F13: ='New GDP CP 2021'!F13/'New GDP CP 2021'!$L$13*100 -> 11.070859 | G13: ='New GDP CP 2021'!G13/'New GDP CP 2021'!$L$13*100 -> 6.3489016 | H13: ='New GDP CP 2021'!H13/'New GDP CP 2021'!$L$13*100 -> 3.8718965 | I13: ='New GDP CP 2021'!I13/'New GDP CP 2021'!$L$13*100 -> 10.871385 | ... L13: ='New GDP CP 2021'!L13/'New GDP CP 2021'!$L$13*100 -> 100
A14: Real Estate Activities | B14: ='New GDP CP 2021'!B14/'New GDP CP 2021'!$L$14*100 -> 14.727273 | C14: ='New GDP CP 2021'!C14/'New GDP CP 2021'!$L$14*100 -> 9.199585 | D14: ='New GDP CP 2021'!D14/'New GDP CP 2021'!$L$14*100 -> 5.2090231 | E14: ='New GDP CP 2021'!E14/'New GDP CP 2021'!$L$14*100 -> 7.5497096 | F14: ='New GDP CP 2021'!F14/'New GDP CP 2021'!$L$14*100 -> 8.6673083 | G14: ='New GDP CP 2021'!G14/'New GDP CP 2021'!$L$14*100 -> 3.1118487 | H14: ='New GDP CP 2021'!H14/'New GDP CP 2021'!$L$14*100 -> 4.7213419 | I14: ='New GDP CP 2021'!I14/'New GDP CP 2021'!$L$14*100 -> 10.002247 | ... L14: ='New GDP CP 2021'!L14/'New GDP CP 2021'!$L$14*100 -> 100
A15: Professional, Scientific and Technical Activities | B15: ='New GDP CP 2021'!B15/'New GDP CP 2021'!$L$15*100 -> 24.324637 | C15: ='New GDP CP 2021'!C15/'New GDP CP 2021'!$L$15*100 -> 0.90773459 | D15: ='New GDP CP 2021'!D15/'New GDP CP 2021'!$L$15*100 -> 0.049534255 | E15: ='New GDP CP 2021'!E15/'New GDP CP 2021'!$L$15*100 -> 1.8709775 | F15: ='New GDP CP 2021'!F15/'New GDP CP 2021'!$L$15*100 -> 2.4588958 | G15: ='New GDP CP 2021'!G15/'New GDP CP 2021'!$L$15*100 -> 1.4147281 | H15: ='New GDP CP 2021'!H15/'New GDP CP 2021'!$L$15*100 -> 0.041888882 | I15: ='New GDP CP 2021'!I15/'New GDP CP 2021'!$L$15*100 -> 3.4737579 | ... L15: ='New GDP CP 2021'!L15/'New GDP CP 2021'!$L$15*100 -> 100
A16: Administrative and support service activities | B16: ='New GDP CP 2021'!B16/'New GDP CP 2021'!$L$16*100 -> 11.178858 | C16: ='New GDP CP 2021'!C16/'New GDP CP 2021'!$L$16*100 -> 9.1398118 | D16: ='New GDP CP 2021'!D16/'New GDP CP 2021'!$L$16*100 -> 5.5199796 | E16: ='New GDP CP 2021'!E16/'New GDP CP 2021'!$L$16*100 -> 7.6919456 | F16: ='New GDP CP 2021'!F16/'New GDP CP 2021'!$L$16*100 -> 8.8014845 | G16: ='New GDP CP 2021'!G16/'New GDP CP 2021'!$L$16*100 -> 3.7000116 | H16: ='New GDP CP 2021'!H16/'New GDP CP 2021'!$L$16*100 -> 3.7695965 | I16: ='New GDP CP 2021'!I16/'New GDP CP 2021'!$L$16*100 -> 9.8175823 | ... L16: ='New GDP CP 2021'!L16/'New GDP CP 2021'!$L$16*100 -> 100
A17: Public Administration and Defence; Compulsory Social Security | B17: ='New GDP CP 2021'!B17/'New GDP CP 2021'!$L$17*100 -> 13.36578 | C17: ='New GDP CP 2021'!C17/'New GDP CP 2021'!$L$17*100 -> 9.096496 | D17: ='New GDP CP 2021'!D17/'New GDP CP 2021'!$L$17*100 -> 4.6016575 | E17: ='New GDP CP 2021'!E17/'New GDP CP 2021'!$L$17*100 -> 4.481921 | F17: ='New GDP CP 2021'!F17/'New GDP CP 2021'!$L$17*100 -> 10.611337 | G17: ='New GDP CP 2021'!G17/'New GDP CP 2021'!$L$17*100 -> 4.2230715 | H17: ='New GDP CP 2021'!H17/'New GDP CP 2021'!$L$17*100 -> 4.2980931 | I17: ='New GDP CP 2021'!I17/'New GDP CP 2021'!$L$17*100 -> 10.940736 | ... L17: ='New GDP CP 2021'!L17/'New GDP CP 2021'!$L$17*100 -> 100
A18: Education | B18: ='New GDP CP 2021'!B18/'New GDP CP 2021'!$L$18*100 -> 10.621081 | C18: ='New GDP CP 2021'!C18/'New GDP CP 2021'!$L$18*100 -> 8.3571804 | D18: ='New GDP CP 2021'!D18/'New GDP CP 2021'!$L$18*100 -> 2.9730384 | E18: ='New GDP CP 2021'!E18/'New GDP CP 2021'!$L$18*100 -> 6.3795944 | F18: ='New GDP CP 2021'!F18/'New GDP CP 2021'!$L$18*100 -> 9.0371608 | G18: ='New GDP CP 2021'!G18/'New GDP CP 2021'!$L$18*100 -> 1.6747664 | H18: ='New GDP CP 2021'!H18/'New GDP CP 2021'!$L$18*100 -> 9.2887216 | I18: ='New GDP CP 2021'!I18/'New GDP CP 2021'!$L$18*100 -> 10.307969 | ... L18: ='New GDP CP 2021'!L18/'New GDP CP 2021'!$L$18*100 -> 100
A19: Human Health and Social Work Activities | B19: ='New GDP CP 2021'!B19/'New GDP CP 2021'!$L$19*100 -> 12.674759 | C19: ='New GDP CP 2021'!C19/'New GDP CP 2021'!$L$19*100 -> 8.9691903 | D19: ='New GDP CP 2021'!D19/'New GDP CP 2021'!$L$19*100 -> 3.5651481 | E19: ='New GDP CP 2021'!E19/'New GDP CP 2021'!$L$19*100 -> 7.528541 | F19: ='New GDP CP 2021'!F19/'New GDP CP 2021'!$L$19*100 -> 7.9664262 | G19: ='New GDP CP 2021'!G19/'New GDP CP 2021'!$L$19*100 -> 2.1710385 | H19: ='New GDP CP 2021'!H19/'New GDP CP 2021'!$L$19*100 -> 4.9967133 | I19: ='New GDP CP 2021'!I19/'New GDP CP 2021'!$L$19*100 -> 5.2215725 | ... L19: ='New GDP CP 2021'!L19/'New GDP CP 2021'!$L$19*100 -> 100
A20: Arts, Entertainment and Recreation | B20: ='New GDP CP 2021'!B20/'New GDP CP 2021'!$L$20*100 -> 16.232863 | C20: ='New GDP CP 2021'!C20/'New GDP CP 2021'!$L$20*100 -> 8.8684988 | D20: ='New GDP CP 2021'!D20/'New GDP CP 2021'!$L$20*100 -> 5.1910865 | E20: ='New GDP CP 2021'!E20/'New GDP CP 2021'!$L$20*100 -> 4.9909681 | F20: ='New GDP CP 2021'!F20/'New GDP CP 2021'!$L$20*100 -> 5.7397072 | G20: ='New GDP CP 2021'!G20/'New GDP CP 2021'!$L$20*100 -> 7.66458 | H20: ='New GDP CP 2021'!H20/'New GDP CP 2021'!$L$20*100 -> 6.2581483 | I20: ='New GDP CP 2021'!I20/'New GDP CP 2021'!$L$20*100 -> 8.3325496 | ... L20: ='New GDP CP 2021'!L20/'New GDP CP 2021'!$L$20*100 -> 100
A21: Other Services | B21: ='New GDP CP 2021'!B21/'New GDP CP 2021'!$L$21*100 -> 11.106978 | C21: ='New GDP CP 2021'!C21/'New GDP CP 2021'!$L$21*100 -> 8.5616285 | D21: ='New GDP CP 2021'!D21/'New GDP CP 2021'!$L$21*100 -> 4.2722382 | E21: ='New GDP CP 2021'!E21/'New GDP CP 2021'!$L$21*100 -> 8.0686158 | F21: ='New GDP CP 2021'!F21/'New GDP CP 2021'!$L$21*100 -> 10.642425 | G21: ='New GDP CP 2021'!G21/'New GDP CP 2021'!$L$21*100 -> 2.9101808 | H21: ='New GDP CP 2021'!H21/'New GDP CP 2021'!$L$21*100 -> 3.4264765 | I21: ='New GDP CP 2021'!I21/'New GDP CP 2021'!$L$21*100 -> 8.5354701 | ... L21: ='New GDP CP 2021'!L21/'New GDP CP 2021'!$L$21*100 -> 100
A22: Activities of Households as Employers, undifferentiated goods - and services - Producing Activities of Households for Own Use | B22: ='New GDP CP 2021'!B22/'New GDP CP 2021'!$L$22*100 -> 16.615565 | C22: ='New GDP CP 2021'!C22/'New GDP CP 2021'!$L$22*100 -> 4.9840789 | D22: ='New GDP CP 2021'!D22/'New GDP CP 2021'!$L$22*100 -> 1.7580454 | E22: ='New GDP CP 2021'!E22/'New GDP CP 2021'!$L$22*100 -> 3.6024448 | F22: ='New GDP CP 2021'!F22/'New GDP CP 2021'!$L$22*100 -> 5.0016238 | G22: ='New GDP CP 2021'!G22/'New GDP CP 2021'!$L$22*100 -> 2.6553531 | H22: ='New GDP CP 2021'!H22/'New GDP CP 2021'!$L$22*100 -> 4.6970299 | I22: ='New GDP CP 2021'!I22/'New GDP CP 2021'!$L$22*100 -> 6.291297 | ... L22: ='New GDP CP 2021'!L22/'New GDP CP 2021'!$L$22*100 -> 100
A23: GDP at Basic Prices | B23: ='New GDP CP 2021'!B23/'New GDP CP 2021'!$L$23*100 -> 13.582859 | C23: ='New GDP CP 2021'!C23/'New GDP CP 2021'!$L$23*100 -> 9.6821871 | D23: ='New GDP CP 2021'!D23/'New GDP CP 2021'!$L$23*100 -> 5.9121722 | E23: ='New GDP CP 2021'!E23/'New GDP CP 2021'!$L$23*100 -> 6.3832447 | F23: ='New GDP CP 2021'!F23/'New GDP CP 2021'!$L$23*100 -> 11.357401 | G23: ='New GDP CP 2021'!G23/'New GDP CP 2021'!$L$23*100 -> 5.1932844 | H23: ='New GDP CP 2021'!H23/'New GDP CP 2021'!$L$23*100 -> 5.2851086 | I23: ='New GDP CP 2021'!I23/'New GDP CP 2021'!$L$23*100 -> 10.454037 | ... L23: ='New GDP CP 2021'!L23/'New GDP CP 2021'!$L$23*100 -> 100
A24: Net Taxes on Products | B24: ='New GDP CP 2021'!B24/'New GDP CP 2021'!$L$24*100 -> 13.620175 | C24: ='New GDP CP 2021'!C24/'New GDP CP 2021'!$L$24*100 -> 9.1224878 | D24: ='New GDP CP 2021'!D24/'New GDP CP 2021'!$L$24*100 -> 6.059074 | E24: ='New GDP CP 2021'!E24/'New GDP CP 2021'!$L$24*100 -> 6.4212948 | F24: ='New GDP CP 2021'!F24/'New GDP CP 2021'!$L$24*100 -> 10.702965 | G24: ='New GDP CP 2021'!G24/'New GDP CP 2021'!$L$24*100 -> 4.9475315 | H24: ='New GDP CP 2021'!H24/'New GDP CP 2021'!$L$24*100 -> 5.0895554 | I24: ='New GDP CP 2021'!I24/'New GDP CP 2021'!$L$24*100 -> 11.914932 | ... L24: ='New GDP CP 2021'!L24/'New GDP CP 2021'!$L$24*100 -> 100
A25: Taxes on Products | B25: ='New GDP CP 2021'!B25/'New GDP CP 2021'!$L$25*100 -> 13.620175 | C25: ='New GDP CP 2021'!C25/'New GDP CP 2021'!$L$25*100 -> 9.1224878 | D25: ='New GDP CP 2021'!D25/'New GDP CP 2021'!$L$25*100 -> 6.059074 | E25: ='New GDP CP 2021'!E25/'New GDP CP 2021'!$L$25*100 -> 6.4212948 | F25: ='New GDP CP 2021'!F25/'New GDP CP 2021'!$L$25*100 -> 10.702965 | G25: ='New GDP CP 2021'!G25/'New GDP CP 2021'!$L$25*100 -> 4.9475315 | H25: ='New GDP CP 2021'!H25/'New GDP CP 2021'!$L$25*100 -> 5.0895554 | I25: ='New GDP CP 2021'!I25/'New GDP CP 2021'!$L$25*100 -> 11.914932 | ... L25: ='New GDP CP 2021'!L25/'New GDP CP 2021'!$L$25*100 -> 100
A26: Less Subsidies on Products | B26: ='New GDP CP 2021'!B26/'New GDP CP 2021'!$L$26*100 -> 13.620175 | C26: ='New GDP CP 2021'!C26/'New GDP CP 2021'!$L$26*100 -> 9.1224878 | D26: ='New GDP CP 2021'!D26/'New GDP CP 2021'!$L$26*100 -> 6.059074 | E26: ='New GDP CP 2021'!E26/'New GDP CP 2021'!$L$26*100 -> 6.4212948 | F26: ='New GDP CP 2021'!F26/'New GDP CP 2021'!$L$26*100 -> 10.702965 | G26: ='New GDP CP 2021'!G26/'New GDP CP 2021'!$L$26*100 -> 4.9475315 | H26: ='New GDP CP 2021'!H26/'New GDP CP 2021'!$L$26*100 -> 5.0895554 | I26: ='New GDP CP 2021'!I26/'New GDP CP 2021'!$L$26*100 -> 11.914932 | ... L26: ='New GDP CP 2021'!L26/'New GDP CP 2021'!$L$26*100 -> 100
A27: GDP at Market Prices | B27: ='New GDP CP 2021'!B27/'New GDP CP 2021'!$L$27*100 -> 13.584322 | C27: ='New GDP CP 2021'!C27/'New GDP CP 2021'!$L$27*100 -> 9.6602469 | D27: ='New GDP CP 2021'!D27/'New GDP CP 2021'!$L$27*100 -> 5.9179307 | E27: ='New GDP CP 2021'!E27/'New GDP CP 2021'!$L$27*100 -> 6.3847363 | F27: ='New GDP CP 2021'!F27/'New GDP CP 2021'!$L$27*100 -> 11.331747 | G27: ='New GDP CP 2021'!G27/'New GDP CP 2021'!$L$27*100 -> 5.1836509 | H27: ='New GDP CP 2021'!H27/'New GDP CP 2021'!$L$27*100 -> 5.2774429 | I27: ='New GDP CP 2021'!I27/'New GDP CP 2021'!$L$27*100 -> 10.511304 | ... L27: ='New GDP CP 2021'!L27/'New GDP CP 2021'!$L$27*100 -> 100

Sheet % GDP 2021 KP Cont Province
A1: Table 3.3 Gross Domestic Product Contribution at Constant Prices by Industry by Province 2021
A2: Industry | B2: Bulawayo | C2: Manicaland | D2: Mash. Central | E2: Mash. East | F2: Mash. West | G2: Mat. North | H2: Mat. South | I2: Midlands | J2: Masvingo | K2: Harare | L2: Total
A3: Agriculture, Forestry and Fishing | B3: ='New GDP KP 2021 '!B3/'New GDP KP 2021 '!$B$27*100 -> 2.2720402 | C3: ='New GDP KP 2021 '!C3/'New GDP KP 2021 '!$C$27*100 -> 19.211094 | D3: ='New GDP KP 2021 '!D3/'New GDP KP 2021 '!$D$27*100 -> 32.938078 | E3: ='New GDP KP 2021 '!E3/'New GDP KP 2021 '!$E$27*100 -> 27.122642 | F3: ='New GDP KP 2021 '!F3/'New GDP KP 2021 '!$F$27*100 -> 16.583431 | G3: ='New GDP KP 2021 '!G3/'New GDP KP 2021 '!$G$27*100 -> 8.233497 | H3: ='New GDP KP 2021 '!H3/'New GDP KP 2021 '!$H$27*100 -> 5.3835876 | I3: ='New GDP KP 2021 '!I3/'New GDP KP 2021 '!$I$27*100 -> 12.179571 | J3: ='New GDP KP 2021 '!J3/'New GDP KP 2021 '!$J$27*100 -> 17.600965 | K3: ='New GDP KP 2021 '!K3/'New GDP KP 2021 '!$K$27*100 -> 1.5313533 | L3: ='New GDP KP 2021 '!L3/'New GDP KP 2021 '!$L$27*100 -> 11.954873
A4: Mining and Quarrying | B4: ='New GDP KP 2021 '!B4/'New GDP KP 2021 '!$B$27*100 -> 1.1299584 | C4: ='New GDP KP 2021 '!C4/'New GDP KP 2021 '!$C$27*100 -> 14.328624 | D4: ='New GDP KP 2021 '!D4/'New GDP KP 2021 '!$D$27*100 -> 17.788404 | E4: ='New GDP KP 2021 '!E4/'New GDP KP 2021 '!$E$27*100 -> 8.8103241 | F4: ='New GDP KP 2021 '!F4/'New GDP KP 2021 '!$F$27*100 -> 25.922405 | G4: ='New GDP KP 2021 '!G4/'New GDP KP 2021 '!$G$27*100 -> 20.834435 | H4: ='New GDP KP 2021 '!H4/'New GDP KP 2021 '!$H$27*100 -> 26.258696 | I4: ='New GDP KP 2021 '!I4/'New GDP KP 2021 '!$I$27*100 -> 23.952654 | J4: ='New GDP KP 2021 '!J4/'New GDP KP 2021 '!$J$27*100 -> 11.521226 | K4: ='New GDP KP 2021 '!K4/'New GDP KP 2021 '!$K$27*100 -> 1.0245213 | L4: ='New GDP KP 2021 '!L4/'New GDP KP 2021 '!$L$27*100 -> 12.705773
A5: Manufacturing | B5: ='New GDP KP 2021 '!B5/'New GDP KP 2021 '!$B$27*100 -> 13.738609 | C5: ='New GDP KP 2021 '!C5/'New GDP KP 2021 '!$C$27*100 -> 10.955764 | D5: ='New GDP KP 2021 '!D5/'New GDP KP 2021 '!$D$27*100 -> 5.9315245 | E5: ='New GDP KP 2021 '!E5/'New GDP KP 2021 '!$E$27*100 -> 12.301447 | F5: ='New GDP KP 2021 '!F5/'New GDP KP 2021 '!$F$27*100 -> 5.8715622 | G5: ='New GDP KP 2021 '!G5/'New GDP KP 2021 '!$G$27*100 -> 10.920313 | H5: ='New GDP KP 2021 '!H5/'New GDP KP 2021 '!$H$27*100 -> 9.5215339 | I5: ='New GDP KP 2021 '!I5/'New GDP KP 2021 '!$I$27*100 -> 10.482697 | J5: ='New GDP KP 2021 '!J5/'New GDP KP 2021 '!$J$27*100 -> 9.4784776 | K5: ='New GDP KP 2021 '!K5/'New GDP KP 2021 '!$K$27*100 -> 17.393146 | L5: ='New GDP KP 2021 '!L5/'New GDP KP 2021 '!$L$27*100 -> 11.673247
A6: Electricity, Gas, Steam and Air Conditioning Supply | B6: ='New GDP KP 2021 '!B6/'New GDP KP 2021 '!$B$27*100 -> 1.9962533 | C6: ='New GDP KP 2021 '!C6/'New GDP KP 2021 '!$C$27*100 -> 1.8758219 | D6: ='New GDP KP 2021 '!D6/'New GDP KP 2021 '!$D$27*100 -> 1.5116694 | E6: ='New GDP KP 2021 '!E6/'New GDP KP 2021 '!$E$27*100 -> 1.7527127 | F6: ='New GDP KP 2021 '!F6/'New GDP KP 2021 '!$F$27*100 -> 11.081004 | G6: ='New GDP KP 2021 '!G6/'New GDP KP 2021 '!$G$27*100 -> 14.03183 | H6: ='New GDP KP 2021 '!H6/'New GDP KP 2021 '!$H$27*100 -> 2.1140331 | I6: ='New GDP KP 2021 '!I6/'New GDP KP 2021 '!$I$27*100 -> 1.3088053 | J6: ='New GDP KP 2021 '!J6/'New GDP KP 2021 '!$J$27*100 -> 2.5289258 | K6: ='New GDP KP 2021 '!K6/'New GDP KP 2021 '!$K$27*100 -> 1.1556956 | L6: ='New GDP KP 2021 '!L6/'New GDP KP 2021 '!$L$27*100 -> 3.5047681
A7: Water Supply; Sewerage, Waste Management & Remediation Activities | B7: ='New GDP KP 2021 '!B7/'New GDP KP 2021 '!$B$27*100 -> 0.50901516 | C7: ='New GDP KP 2021 '!C7/'New GDP KP 2021 '!$C$27*100 -> 0.18580959 | D7: ='New GDP KP 2021 '!D7/'New GDP KP 2021 '!$D$27*100 -> 0.071091599 | E7: ='New GDP KP 2021 '!E7/'New GDP KP 2021 '!$E$27*100 -> 0.15073159 | F7: ='New GDP KP 2021 '!F7/'New GDP KP 2021 '!$F$27*100 -> 0.15457658 | G7: ='New GDP KP 2021 '!G7/'New GDP KP 2021 '!$G$27*100 -> 0.1014452 | H7: ='New GDP KP 2021 '!H7/'New GDP KP 2021 '!$H$27*100 -> 0.14835344 | I7: ='New GDP KP 2021 '!I7/'New GDP KP 2021 '!$I$27*100 -> 0.33030767 | J7: ='New GDP KP 2021 '!J7/'New GDP KP 2021 '!$J$27*100 -> 0.21823504 | K7: ='New GDP KP 2021 '!K7/'New GDP KP 2021 '!$K$27*100 -> 0.46011912 | L7: ='New GDP KP 2021 '!L7/'New GDP KP 2021 '!$L$27*100 -> 0.28687948
A8: Construction | B8: ='New GDP KP 2021 '!B8/'New GDP KP 2021 '!$B$27*100 -> 3.6004574 | C8: ='New GDP KP 2021 '!C8/'New GDP KP 2021 '!$C$27*100 -> 2.0690684 | D8: ='New GDP KP 2021 '!D8/'New GDP KP 2021 '!$D$27*100 -> 2.4898207 | E8: ='New GDP KP 2021 '!E8/'New GDP KP 2021 '!$E$27*100 -> 2.2672832 | F8: ='New GDP KP 2021 '!F8/'New GDP KP 2021 '!$F$27*100 -> 1.5685033 | G8: ='New GDP KP 2021 '!G8/'New GDP KP 2021 '!$G$27*100 -> 2.9473048 | H8: ='New GDP KP 2021 '!H8/'New GDP KP 2021 '!$H$27*100 -> 2.5377717 | I8: ='New GDP KP 2021 '!I8/'New GDP KP 2021 '!$I$27*100 -> 3.1960766 | J8: ='New GDP KP 2021 '!J8/'New GDP KP 2021 '!$J$27*100 -> 2.231401 | K8: ='New GDP KP 2021 '!K8/'New GDP KP 2021 '!$K$27*100 -> 4.1871039 | L8: ='New GDP KP 2021 '!L8/'New GDP KP 2021 '!$L$27*100 -> 2.9318962
A9: Wholesale and Retail Trade; Repair of Motor Vehicles and Motorcycles | B9: ='New GDP KP 2021 '!B9/'New GDP KP 2021 '!$B$27*100 -> 32.746192 | C9: ='New GDP KP 2021 '!C9/'New GDP KP 2021 '!$C$27*100 -> 19.141842 | D9: ='New GDP KP 2021 '!D9/'New GDP KP 2021 '!$D$27*100 -> 10.535084 | E9: ='New GDP KP 2021 '!E9/'New GDP KP 2021 '!$E$27*100 -> 13.243987 | F9: ='New GDP KP 2021 '!F9/'New GDP KP 2021 '!$F$27*100 -> 10.05539 | G9: ='New GDP KP 2021 '!G9/'New GDP KP 2021 '!$G$27*100 -> 10.360751 | H9: ='New GDP KP 2021 '!H9/'New GDP KP 2021 '!$H$27*100 -> 19.164735 | I9: ='New GDP KP 2021 '!I9/'New GDP KP 2021 '!$I$27*100 -> 14.657958 | J9: ='New GDP KP 2021 '!J9/'New GDP KP 2021 '!$J$27*100 -> 18.47733 | K9: ='New GDP KP 2021 '!K9/'New GDP KP 2021 '!$K$27*100 -> 24.571461 | L9: ='New GDP KP 2021 '!L9/'New GDP KP 2021 '!$L$27*100 -> 18.99469
A10: Transportation and Storage | B10: ='New GDP KP 2021 '!B10/'New GDP KP 2021 '!$B$27*100 -> 1.8605249 | C10: ='New GDP KP 2021 '!C10/'New GDP KP 2021 '!$C$27*100 -> 1.6782626 | D10: ='New GDP KP 2021 '!D10/'New GDP KP 2021 '!$D$27*100 -> 1.4847244 | E10: ='New GDP KP 2021 '!E10/'New GDP KP 2021 '!$E$27*100 -> 1.9990133 | F10: ='New GDP KP 2021 '!F10/'New GDP KP 2021 '!$F$27*100 -> 1.4493127 | G10: ='New GDP KP 2021 '!G10/'New GDP KP 2021 '!$G$27*100 -> 1.7437346 | H10: ='New GDP KP 2021 '!H10/'New GDP KP 2021 '!$H$27*100 -> 2.3887233 | I10: ='New GDP KP 2021 '!I10/'New GDP KP 2021 '!$I$27*100 -> 1.2945405 | J10: ='New GDP KP 2021 '!J10/'New GDP KP 2021 '!$J$27*100 -> 2.2291747 | K10: ='New GDP KP 2021 '!K10/'New GDP KP 2021 '!$K$27*100 -> 2.6001163 | L10: ='New GDP KP 2021 '!L10/'New GDP KP 2021 '!$L$27*100 -> 1.9321902
A11: Accommodation and Food Service Activities | B11: ='New GDP KP 2021 '!B11/'New GDP KP 2021 '!$B$27*100 -> 1.5550941 | C11: ='New GDP KP 2021 '!C11/'New GDP KP 2021 '!$C$27*100 -> 1.0956919 | D11: ='New GDP KP 2021 '!D11/'New GDP KP 2021 '!$D$27*100 -> 0.826443 | E11: ='New GDP KP 2021 '!E11/'New GDP KP 2021 '!$E$27*100 -> 0.75756165 | F11: ='New GDP KP 2021 '!F11/'New GDP KP 2021 '!$F$27*100 -> 1.0396897 | G11: ='New GDP KP 2021 '!G11/'New GDP KP 2021 '!$G$27*100 -> 2.9344521 | H11: ='New GDP KP 2021 '!H11/'New GDP KP 2021 '!$H$27*100 -> 1.1204447 | I11: ='New GDP KP 2021 '!I11/'New GDP KP 2021 '!$I$27*100 -> 1.1145432 | J11: ='New GDP KP 2021 '!J11/'New GDP KP 2021 '!$J$27*100 -> 1.2452311 | K11: ='New GDP KP 2021 '!K11/'New GDP KP 2021 '!$K$27*100 -> 1.6418753 | L11: ='New GDP KP 2021 '!L11/'New GDP KP 2021 '!$L$27*100 -> 1.3493356
A12: Information and Communication | B12: ='New GDP KP 2021 '!B12/'New GDP KP 2021 '!$B$27*100 -> 8.179565 | C12: ='New GDP KP 2021 '!C12/'New GDP KP 2021 '!$C$27*100 -> 5.0804519 | D12: ='New GDP KP 2021 '!D12/'New GDP KP 2021 '!$D$27*100 -> 3.711146 | E12: ='New GDP KP 2021 '!E12/'New GDP KP 2021 '!$E$27*100 -> 5.8432215 | F12: ='New GDP KP 2021 '!F12/'New GDP KP 2021 '!$F$27*100 -> 3.8313498 | G12: ='New GDP KP 2021 '!G12/'New GDP KP 2021 '!$G$27*100 -> 4.5497124 | H12: ='New GDP KP 2021 '!H12/'New GDP KP 2021 '!$H$27*100 -> 6.7822296 | I12: ='New GDP KP 2021 '!I12/'New GDP KP 2021 '!$I$27*100 -> 3.9837278 | J12: ='New GDP KP 2021 '!J12/'New GDP KP 2021 '!$J$27*100 -> 6.2625733 | K12: ='New GDP KP 2021 '!K12/'New GDP KP 2021 '!$K$27*100 -> 7.2189927 | L12: ='New GDP KP 2021 '!L12/'New GDP KP 2021 '!$L$27*100 -> 5.7979751
A13: Financial and Insurance Activities | B13: ='New GDP KP 2021 '!B13/'New GDP KP 2021 '!$B$27*100 -> 9.8263802 | C13: ='New GDP KP 2021 '!C13/'New GDP KP 2021 '!$C$27*100 -> 5.2764855 | D13: ='New GDP KP 2021 '!D13/'New GDP KP 2021 '!$D$27*100 -> 5.4168911 | E13: ='New GDP KP 2021 '!E13/'New GDP KP 2021 '!$E$27*100 -> 4.9086787 | F13: ='New GDP KP 2021 '!F13/'New GDP KP 2021 '!$F$27*100 -> 6.5251706 | G13: ='New GDP KP 2021 '!G13/'New GDP KP 2021 '!$G$27*100 -> 8.5299295 | H13: ='New GDP KP 2021 '!H13/'New GDP KP 2021 '!$H$27*100 -> 5.417511 | I13: ='New GDP KP 2021 '!I13/'New GDP KP 2021 '!$I$27*100 -> 7.606444 | J13: ='New GDP KP 2021 '!J13/'New GDP KP 2021 '!$J$27*100 -> 5.7897179 | K13: ='New GDP KP 2021 '!K13/'New GDP KP 2021 '!$K$27*100 -> 9.8044453 | L13: ='New GDP KP 2021 '!L13/'New GDP KP 2021 '!$L$27*100 -> 7.4999451
A14: Real Estate Activities | B14: ='New GDP KP 2021 '!B14/'New GDP KP 2021 '!$B$27*100 -> 3.3375054 | C14: ='New GDP KP 2021 '!C14/'New GDP KP 2021 '!$C$27*100 -> 2.8175864 | D14: ='New GDP KP 2021 '!D14/'New GDP KP 2021 '!$D$27*100 -> 2.3544053 | E14: ='New GDP KP 2021 '!E14/'New GDP KP 2021 '!$E$27*100 -> 3.4422161 | F14: ='New GDP KP 2021 '!F14/'New GDP KP 2021 '!$F$27*100 -> 2.1966516 | G14: ='New GDP KP 2021 '!G14/'New GDP KP 2021 '!$G$27*100 -> 1.7243606 | H14: ='New GDP KP 2021 '!H14/'New GDP KP 2021 '!$H$27*100 -> 2.947177 | I14: ='New GDP KP 2021 '!I14/'New GDP KP 2021 '!$I$27*100 -> 2.9287026 | J14: ='New GDP KP 2021 '!J14/'New GDP KP 2021 '!$J$27*100 -> 3.6905883 | K14: ='New GDP KP 2021 '!K14/'New GDP KP 2021 '!$K$27*100 -> 3.6858659 | L14: ='New GDP KP 2021 '!L14/'New GDP KP 2021 '!$L$27*100 -> 3.0417866
... A27: GDP at Market Prices | B27: ='New GDP KP 2021 '!B27/'New GDP KP 2021 '!$B$27*100 -> 100 | C27: ='New GDP KP 2021 '!C27/'New GDP KP 2021 '!$C$27*100 -> 100 | D27: ='New GDP KP 2021 '!D27/'New GDP KP 2021 '!$D$27*100 -> 100 | E27: ='New GDP KP 2021 '!E27/'New GDP KP 2021 '!$E$27*100 -> 100 | F27: ='New GDP KP 2021 '!F27/'New GDP KP 2021 '!$F$27*100 -> 100 | G27: ='New GDP KP 2021 '!G27/'New GDP KP 2021 '!$G$27*100 -> 100 | H27: ='New GDP KP 2021 '!H27/'New GDP KP 2021 '!$H$27*100 -> 100 | I27: ='New GDP KP 2021 '!I27/'New GDP KP 2021 '!$I$27*100 -> 100 | J27: ='New GDP KP 2021 '!J27/'New GDP KP 2021 '!$J$27*100 -> 100 | K27: ='New GDP KP 2021 '!K27/'New GDP KP 2021 '!$K$27*100 -> 100 | L27: ='New GDP KP 2021 '!L27/'New GDP KP 2021 '!$L$27*100 -> 100

Sheet New GDP KP 2021 Growth
A1: Table 1.5: Gross Domestic Growth Rates, 2021
A2: Industry | B2: Bulawayo | C2: Manicaland | D2: Mash. Central | E2: Mash. East | F2: Mash. West | G2: Mat. North | H2: Mat. South | I2: Midlands | J2: Masvingo | K2: Harare | L2: Total
A3: Agriculture, Forestry and Fishing | B3: ='New GDP KP 2021 '!B3/'GDP KP 2020'!B3*100-100 -> 13.430046 | C3: ='New GDP KP 2021 '!C3/'GDP KP 2020'!C3*100-100 -> 53.675538 | D3: ='New GDP KP 2021 '!D3/'GDP KP 2020'!D3*100-100 -> 9.4090324 | E3: ='New GDP KP 2021 '!E3/'GDP KP 2020'!E3*100-100 -> 3.3919975 | F3: ='New GDP KP 2021 '!F3/'GDP KP 2020'!F3*100-100 -> 1.9356331 | G3: ='New GDP KP 2021 '!G3/'GDP KP 2020'!G3*100-100 -> 12.558229 | H3: ='New GDP KP 2021 '!H3/'GDP KP 2020'!H3*100-100 -> -5.8382717 | I3: ='New GDP KP 2021 '!I3/'GDP KP 2020'!I3*100-100 -> 29.196631 | ... L3: ='New GDP KP 2021 '!L3/'GDP KP 2020'!L3*100-100 -> 17.457718
A4: Mining and Quarrying | B4: ='New GDP KP 2021 '!B4/'GDP KP 2020'!B4*100-100 -> -2.7530984 | C4: ='New GDP KP 2021 '!C4/'GDP KP 2020'!C4*100-100 -> 2.1491496 | D4: ='New GDP KP 2021 '!D4/'GDP KP 2020'!D4*100-100 -> 5.8548348 | E4: ='New GDP KP 2021 '!E4/'GDP KP 2020'!E4*100-100 -> -4.2220448 | F4: ='New GDP KP 2021 '!F4/'GDP KP 2020'!F4*100-100 -> -0.18514824 | G4: ='New GDP KP 2021 '!G4/'GDP KP 2020'!G4*100-100 -> 34.865001 | H4: ='New GDP KP 2021 '!H4/'GDP KP 2020'!H4*100-100 -> 1.045699 | I4: ='New GDP KP 2021 '!I4/'GDP KP 2020'!I4*100-100 -> 3.343965 | ... L4: ='New GDP KP 2021 '!L4/'GDP KP 2020'!L4*100-100 -> 5.8548344
A5: Manufacturing | B5: ='New GDP KP 2021 '!B5/'GDP KP 2020'!B5*100-100 -> -5.1596829 | C5: ='New GDP KP 2021 '!C5/'GDP KP 2020'!C5*100-100 -> 17.884098 | D5: ='New GDP KP 2021 '!D5/'GDP KP 2020'!D5*100-100 -> -9.5368092 | E5: ='New GDP KP 2021 '!E5/'GDP KP 2020'!E5*100-100 -> 15.587328 | F5: ='New GDP KP 2021 '!F5/'GDP KP 2020'!F5*100-100 -> -0.44522971 | G5: ='New GDP KP 2021 '!G5/'GDP KP 2020'!G5*100-100 -> -4.2324587 | H5: ='New GDP KP 2021 '!H5/'GDP KP 2020'!H5*100-100 -> 14.743835 | I5: ='New GDP KP 2021 '!I5/'GDP KP 2020'!I5*100-100 -> 3.6148074 | ... L5: ='New GDP KP 2021 '!L5/'GDP KP 2020'!L5*100-100 -> 1.1837742
A6: Electricity, Gas, Steam and Air Conditioning Supply | B6: ='New GDP KP 2021 '!B6/'GDP KP 2020'!B6*100-100 -> 17.62557 | C6: ='New GDP KP 2021 '!C6/'GDP KP 2020'!C6*100-100 -> 4.0484517 | D6: ='New GDP KP 2021 '!D6/'GDP KP 2020'!D6*100-100 -> 23.357639 | E6: ='New GDP KP 2021 '!E6/'GDP KP 2020'!E6*100-100 -> 11.17254 | F6: ='New GDP KP 2021 '!F6/'GDP KP 2020'!F6*100-100 -> 36.515117 | G6: ='New GDP KP 2021 '!G6/'GDP KP 2020'!G6*100-100 -> 30.092757 | H6: ='New GDP KP 2021 '!H6/'GDP KP 2020'!H6*100-100 -> 33.893347 | I6: ='New GDP KP 2021 '!I6/'GDP KP 2020'!I6*100-100 -> 71.862155 | ... L6: ='New GDP KP 2021 '!L6/'GDP KP 2020'!L6*100-100 -> 33.801409
A7: Water Supply; Sewerage, Waste Management & Remediation Activities | B7: ='New GDP KP 2021 '!B7/'GDP KP 2020'!B7*100-100 -> 17.639903 | C7: ='New GDP KP 2021 '!C7/'GDP KP 2020'!C7*100-100 -> 7.6066098 | D7: ='New GDP KP 2021 '!D7/'GDP KP 2020'!D7*100-100 -> 28.748104 | E7: ='New GDP KP 2021 '!E7/'GDP KP 2020'!E7*100-100 -> 4.0369164 | F7: ='New GDP KP 2021 '!F7/'GDP KP 2020'!F7*100-100 -> 73.744905 | G7: ='New GDP KP 2021 '!G7/'GDP KP 2020'!G7*100-100 -> -1.9639501 | H7: ='New GDP KP 2021 '!H7/'GDP KP 2020'!H7*100-100 -> 39.17636 | I7: ='New GDP KP 2021 '!I7/'GDP KP 2020'!I7*100-100 -> 8.3923218 | ... L7: ='New GDP KP 2021 '!L7/'GDP KP 2020'!L7*100-100 -> 12.704238
A8: Construction | B8: ='New GDP KP 2021 '!B8/'GDP KP 2020'!B8*100-100 -> -4.8521628 | C8: ='New GDP KP 2021 '!C8/'GDP KP 2020'!C8*100-100 -> 3.4870266 | D8: ='New GDP KP 2021 '!D8/'GDP KP 2020'!D8*100-100 -> 13.825772 | E8: ='New GDP KP 2021 '!E8/'GDP KP 2020'!E8*100-100 -> 6.1901061 | F8: ='New GDP KP 2021 '!F8/'GDP KP 2020'!F8*100-100 -> 22.550353 | G8: ='New GDP KP 2021 '!G8/'GDP KP 2020'!G8*100-100 -> 1.1695618 | H8: ='New GDP KP 2021 '!H8/'GDP KP 2020'!H8*100-100 -> -6.4969615 | I8: ='New GDP KP 2021 '!I8/'GDP KP 2020'!I8*100-100 -> 31.528598 | ... L8: ='New GDP KP 2021 '!L8/'GDP KP 2020'!L8*100-100 -> 3.5345851
A9: Wholesale and Retail Trade; Repair of Motor Vehicles and Motorcycles | B9: ='New GDP KP 2021 '!B9/'GDP KP 2020'!B9*100-100 -> 5.6580717 | C9: ='New GDP KP 2021 '!C9/'GDP KP 2020'!C9*100-100 -> 8.5090534 | D9: ='New GDP KP 2021 '!D9/'GDP KP 2020'!D9*100-100 -> -0.25961102 | E9: ='New GDP KP 2021 '!E9/'GDP KP 2020'!E9*100-100 -> 9.4627418 | F9: ='New GDP KP 2021 '!F9/'GDP KP 2020'!F9*100-100 -> -5.1953114 | G9: ='New GDP KP 2021 '!G9/'GDP KP 2020'!G9*100-100 -> -22.139118 | H9: ='New GDP KP 2021 '!H9/'GDP KP 2020'!H9*100-100 -> 25.151401 | I9: ='New GDP KP 2021 '!I9/'GDP KP 2020'!I9*100-100 -> 9.3686509 | ... L9: ='New GDP KP 2021 '!L9/'GDP KP 2020'!L9*100-100 -> 8.0703517
A10: Transportation and Storage | B10: ='New GDP KP 2021 '!B10/'GDP KP 2020'!B10*100-100 -> 13.122097 | C10: ='New GDP KP 2021 '!C10/'GDP KP 2020'!C10*100-100 -> 12.471838 | D10: ='New GDP KP 2021 '!D10/'GDP KP 2020'!D10*100-100 -> 32.429297 | E10: ='New GDP KP 2021 '!E10/'GDP KP 2020'!E10*100-100 -> 20.375077 | F10: ='New GDP KP 2021 '!F10/'GDP KP 2020'!F10*100-100 -> 40.951179 | G10: ='New GDP KP 2021 '!G10/'GDP KP 2020'!G10*100-100 -> 8.5023767 | H10: ='New GDP KP 2021 '!H10/'GDP KP 2020'!H10*100-100 -> 24.312677 | I10: ='New GDP KP 2021 '!I10/'GDP KP 2020'!I10*100-100 -> -9.9492216 | ... L10: ='New GDP KP 2021 '!L10/'GDP KP 2020'!L10*100-100 -> 8.6025046
A11: Accommodation and Food Service Activities | B11: ='New GDP KP 2021 '!B11/'GDP KP 2020'!B11*100-100 -> 27.150667 | C11: ='New GDP KP 2021 '!C11/'GDP KP 2020'!C11*100-100 -> 51.827255 | D11: ='New GDP KP 2021 '!D11/'GDP KP 2020'!D11*100-100 -> 35.03687 | E11: ='New GDP KP 2021 '!E11/'GDP KP 2020'!E11*100-100 -> 28.428072 | F11: ='New GDP KP 2021 '!F11/'GDP KP 2020'!F11*100-100 -> 35.545374 | G11: ='New GDP KP 2021 '!G11/'GDP KP 2020'!G11*100-100 -> 97.78762 | H11: ='New GDP KP 2021 '!H11/'GDP KP 2020'!H11*100-100 -> 18.748328 | I11: ='New GDP KP 2021 '!I11/'GDP KP 2020'!I11*100-100 -> 8.3892482 | ... L11: ='New GDP KP 2021 '!L11/'GDP KP 2020'!L11*100-100 -> 38.441074
A12: Information and Communication | B12: ='New GDP KP 2021 '!B12/'GDP KP 2020'!B12*100-100 -> 9.1321947 | C12: ='New GDP KP 2021 '!C12/'GDP KP 2020'!C12*100-100 -> 6.0284063 | D12: ='New GDP KP 2021 '!D12/'GDP KP 2020'!D12*100-100 -> -6.112554 | E12: ='New GDP KP 2021 '!E12/'GDP KP 2020'!E12*100-100 -> 22.117138 | F12: ='New GDP KP 2021 '!F12/'GDP KP 2020'!F12*100-100 -> -1.3204471 | G12: ='New GDP KP 2021 '!G12/'GDP KP 2020'!G12*100-100 -> 55.039105 | H12: ='New GDP KP 2021 '!H12/'GDP KP 2020'!H12*100-100 -> 22.057145 | I12: ='New GDP KP 2021 '!I12/'GDP KP 2020'!I12*100-100 -> -2.0160974 | ... L12: ='New GDP KP 2021 '!L12/'GDP KP 2020'!L12*100-100 -> 9.7411427
A13: Financial and Insurance Activities | B13: ='New GDP KP 2021 '!B13/'GDP KP 2020'!B13*100-100 -> -0.010756767 | C13: ='New GDP KP 2021 '!C13/'GDP KP 2020'!C13*100-100 -> 6.0772538 | D13: ='New GDP KP 2021 '!D13/'GDP KP 2020'!D13*100-100 -> -3.2141771 | E13: ='New GDP KP 2021 '!E13/'GDP KP 2020'!E13*100-100 -> -9.1579713 | F13: ='New GDP KP 2021 '!F13/'GDP KP 2020'!F13*100-100 -> 34.895806 | G13: ='New GDP KP 2021 '!G13/'GDP KP 2020'!G13*100-100 -> 13.558426 | H13: ='New GDP KP 2021 '!H13/'GDP KP 2020'!H13*100-100 -> -13.497534 | I13: ='New GDP KP 2021 '!I13/'GDP KP 2020'!I13*100-100 -> 6.8535838 | ... L13: ='New GDP KP 2021 '!L13/'GDP KP 2020'!L13*100-100 -> 2.9930472
A14: Real Estate Activities | B14: ='New GDP KP 2021 '!B14/'GDP KP 2020'!B14*100-100 -> 1.8890568 | C14: ='New GDP KP 2021 '!C14/'GDP KP 2020'!C14*100-100 -> 1.8332336 | D14: ='New GDP KP 2021 '!D14/'GDP KP 2020'!D14*100-100 -> -8.6782231 | E14: ='New GDP KP 2021 '!E14/'GDP KP 2020'!E14*100-100 -> 14.418782 | F14: ='New GDP KP 2021 '!F14/'GDP KP 2020'!F14*100-100 -> 11.730167 | G14: ='New GDP KP 2021 '!G14/'GDP KP 2020'!G14*100-100 -> -7.4431324 | H14: ='New GDP KP 2021 '!H14/'GDP KP 2020'!H14*100-100 -> 21.343391 | I14: ='New GDP KP 2021 '!I14/'GDP KP 2020'!I14*100-100 -> 4.1038443 | ... L14: ='New GDP KP 2021 '!L14/'GDP KP 2020'!L14*100-100 -> 4.0017038
... A27: GDP at Market Prices | B27: ='New GDP KP 2021 '!B27/'GDP KP 2020'!B27*100-100 -> 4.6377519 | C27: ='New GDP KP 2021 '!C27/'GDP KP 2020'!C27*100-100 -> 15.337779 | D27: ='New GDP KP 2021 '!D27/'GDP KP 2020'!D27*100-100 -> 6.8051345 | E27: ='New GDP KP 2021 '!E27/'GDP KP 2020'!E27*100-100 -> 7.9932154 | F27: ='New GDP KP 2021 '!F27/'GDP KP 2020'!F27*100-100 -> 7.0195304 | G27: ='New GDP KP 2021 '!G27/'GDP KP 2020'!G27*100-100 -> 15.161301 | H27: ='New GDP KP 2021 '!H27/'GDP KP 2020'!H27*100-100 -> 5.8778233 | I27: ='New GDP KP 2021 '!I27/'GDP KP 2020'!I27*100-100 -> 9.5074142 | ... L27: ='New GDP KP 2021 '!L27/'GDP KP 2020'!L27*100-100 -> 8.4680169

Sheet GDP 2019 - 2023 Growth Rates
A1: Table 4. Gross Domestic Product at Constant Prices by Province by Industry (2019 -100) Percent Growth rates
B2: Bulawayo | F2: Bulawayo | G2: Manicaland | L2: Mash. Central | Q2: Mash. East | V2: Mash. West | AA2: Mat. North | AF2: Mat. South | AK2: Midlands | AP2: Masvingo | AU2: Harare | AZ2: Total
A3: Industry | B3: 2019 | C3: 2020 | D3: 2021 | E3: 2022 | F3: 2023 | G3: 2019 | H3: 2020 | I3: 2021 | J3: 2022 | K3: 2023 | L3: 2019 | M3: 2020 | N3: 2021 | O3: 2022 | P3: 2023 | Q3: 2019 | R3: 2020 | S3: 2021 | T3: 2022 | U3: 2023 | V3: 2019 | W3: 2020 | X3: 2021 | Y3: 2022 | Z3: 2023 | AA3: 2019 | AB3: 2020 | AC3: 2021 | AD3: 2022 | AE3: 2023 | AF3: 2019 | AG3: 2020 | AH3: 2021 | AI3: 2022 | AJ3: 2023 | AK3: 2019 | AL3: 2020 | AM3: 2021 | AN3: 2022 | AO3: 2023 | AP3: 2019 | AQ3: 2020 | AR3: 2021 | AS3: 2022 | AT3: 2023 | AU3: 2019 | AV3: 2020 | AW3: 2021 | AX3: 2022 | AY3: 2023 | AZ3: 2019 | BA3: 2020 | BB3: 2021 | BC3: 2022 | BD3: 2023
A4: Agriculture, Forestry and Fishing | B4: 0 | C4: -13.208424 | D4: 13.446809 | E4: 0.43696501 | F4: 1.4655455 | G4: 0 | H4: -0.060201175 | I4: 53.698249 | J4: 8.1797767 | K4: 10.824775 | L4: 0 | M4: 3.5947114 | N4: 9.4252011 | O4: 4.3682541 | P4: 4.6610469 | Q4: 0 | R4: 19.363061 | S4: 3.407277 | T4: 7.5183076 | U4: 6.75383 | V4: 0 | W4: 57.194425 | X4: 1.9506974 | Y4: 5.5230853 | Z4: 10.270038 | AA4: 0 | AB4: 30.699631 | AC4: 12.574864 | AD4: 3.4346392 | AE4: 4.4809504 | AF4: 0 | AG4: 3.0715849 | AH4: 44.930412 | AI4: 1.515713 | AJ4: 13.87045 | AK4: 0 | AL4: -29.735455 | AM4: 29.215724 | AN4: 9.0163572 | AO4: 3.0017868 | AP4: 0 | AQ4: -17.110071 | AR4: 31.354119 | AS4: 7.082993 | AT4: 1.0080759 | AU4: 0 | AV4: -30.566739 | AW4: 70.170214 | AX4: -0.076005233 | AY4: 0.43411957 | AZ4: 0 | BA4: 4.1498916 | BB4: 17.475076 | BC4: 6.1529191 | BD4: 6.313705
A5: Mining and Quarrying | B5: 0 | C5: 9.1158959 | D5: -2.738727 | E5: 3.6532664 | F5: 0.32125197 | G5: 0 | H5: -0.62691538 | I5: 2.1642454 | J5: 6.4913694 | K5: 6.388599 | L5: 0 | M5: -9.7144632 | N5: 5.8704782 | O5: 10.5 | P5: 2.6224353 | Q5: 0 | R5: 23.816215 | S5: -4.2078905 | T5: 8.7151271 | U5: 8.0620521 | V5: 0 | W5: 4.2067417 | X5: -0.1703974 | Y5: 2.8808392 | Z5: 5.4013539 | AA5: 0 | AB5: -11.837903 | AC5: 34.884932 | AD5: 11.688456 | AE5: 7.0784357 | AF5: 0 | AG5: 10.261448 | AH5: 11.16104 | AI5: 4.8913106 | AJ5: 2.5976489 | AK5: 0 | AL5: 5.2351193 | AM5: 3.3592373 | AN5: 25.583969 | AO5: 5.3130454 | AP5: 0 | AQ5: -30.378151 | AR5: 42.311653 | AS5: 10.185608 | AT5: 6.9217297 | AU5: 0 | AV5: 16.732642 | AW5: -9.0849764 | AX5: 4.4409437 | AY5: 3.8131317 | AZ5: 0 | BA5: 0.24277887 | BB5: 5.8704782 | BC5: 10.5 | BD5: 5.261407
A6: Manufacturing | B6: 0 | C6: -17.98097 | D6: -5.1456672 | E6: 1.3532042 | F6: 3.1874903 | G6: 0 | H6: -21.485647 | I6: 17.901519 | J6: 0.24870945 | K6: 3.3904147 | L6: 0 | M6: -24.637322 | N6: -9.5234403 | O6: 4.4329836 | P6: 1.0767066 | Q6: 0 | R6: -22.187386 | S6: 15.60441 | T6: -1.4534198 | U6: 1.9336551 | V6: 0 | W6: -29.797437 | X6: -0.43051731 | Y6: -0.30523281 | Z6: 2.31083 | AA6: 0 | AB6: -0.79391844 | AC6: -4.218306 | AD6: 5.174632 | AE6: 2.5781174 | AF6: 0 | AG6: -22.722234 | AH6: 8.80898 | AI6: 3.7976112 | AJ6: 2.0934752 | AK6: 0 | AL6: -16.75603 | AM6: 3.6301198 | AN6: 2.3871023 | AO6: 2.8375125 | AP6: 0 | AQ6: -16.09607 | AR6: -8.9289163 | AS6: 2.9633588 | AT6: 2.4887878 | AU6: 0 | AV6: -17.036665 | AW6: -0.076276111 | AX6: 0.75169314 | AY6: 1.0826974 | AZ6: 0 | BA6: -18.495167 | BB6: 1.1987328 | BC6: 1.3532042 | BD6: 2.1291528
A7: Electricity, Gas, Steam and Air Conditioning Supply | B7: 0 | C7: 6.6246528 | D7: 17.642953 | E7: -96.158851 | F7: -14.6 | G7: 0 | H7: 1.1882746 | I7: 4.0638282 | J7: -64.555869 | K7: 2.49 | L7: 0 | M7: -29.573492 | N7: 23.375869 | O7: -96.185362 | P7: 2.6 | Q7: 0 | R7: -1.5571472 | S7: 11.18897 | T7: -98.341143 | U7: 2.8 | V7: 0 | W7: -1.0751981 | X7: 36.535291 | Y7: 70.083249 | Z7: -30.473037 | AA7: 0 | AB7: -2.1387201 | AC7: 30.111982 | AD7: 40.484524 | AE7: 51.240074 | AF7: 0 | AG7: -23.749596 | AH7: 9.0096503 | AI7: -84.021858 | AJ7: 1.16 | AK7: 0 | AL7: -28.7726 | AM7: 71.887553 | AN7: -81.548548 | AO7: -13.8 | AP7: 0 | AQ7: -24.733257 | AR7: 83.027129 | AS7: -59.33089 | AT7: 2.3 | AU7: 0 | AV7: -18.724173 | AW7: 52.195381 | AX7: -93.105577 | AY7: -39.748228 | AZ7: 0 | BA7: -6.3300313 | BB7: 33.913134 | BC7: 3.4850622 | BD7: -3.6780254
A8: Water Supply; Sewerage, Waste Management & Remediation Activities | B8: 0 | C8: 0.037239468 | D8: 17.657288 | E8: -4.1656693 | F8: -4.4452959 | G8: 0 | H8: -1.0921164 | I8: 7.6225121 | J8: 4.9118813 | K8: -5.047772 | L8: 0 | M8: -4.8800375 | N8: 28.767131 | O8: 8.036639 | P8: -4.9369878 | Q8: 0 | R8: 7.3963901 | S8: 4.0522911 | T8: 4.5242132 | U8: -5.7717729 | V8: 0 | W8: -30.731959 | X8: 73.770581 | Y8: 12.574225 | Z8: -5.9872629 | AA8: 0 | AB8: 11.570747 | AC8: -1.9494622 | AD8: -3.3721322 | AE8: -6.9705453 | AF8: 0 | AG8: -6.8603998 | AH8: 27.242204 | AI8: 5.5687807 | AJ8: -7.4654655 | AK8: 0 | AL8: 10.332679 | AM8: 8.4083403 | AN8: 5.7456977 | AO8: -3.7603559 | AP8: 0 | AQ8: 19.774486 | AR8: -0.74388126 | AS8: 22.394467 | AT8: -4.6789277 | AU8: 0 | AV8: 3.2480857 | AW8: 7.5454896 | AX8: -2.5053684 | AY8: -4.3738054 | AZ8: 0 | BA8: 1.8902989 | BB8: 12.7209 | BC8: 1.7 | BD8: -4.6865981
A9: Construction | B9: 0 | C9: 6.1924546 | D9: -4.8381016 | E9: -0.3607458 | F9: 6.3120509 | G9: 0 | H9: 13.136142 | I9: 3.5023202 | J9: -1.1570195 | K9: 5.1405263 | L9: 0 | M9: 2.4348029 | N9: 13.842593 | O9: -1.1142523 | P9: 2.7222158 | Q9: 0 | R9: -2.598721 | S9: 6.2057991 | T9: -1.5975519 | U9: 4.0438595 | V9: 0 | W9: -19.86707 | X9: 22.568464 | Y9: 3.2029874 | Z9: 3.7045946 | AA9: 0 | AB9: 15.257794 | AC9: 1.1845129 | AD9: -0.93969799 | AE9: 3.3028411 | AF9: 0 | AG9: 9.4571858 | AH9: -2.4588186 | AI9: -3.3721866 | AJ9: 7.7405549 | AK9: 0 | AL9: -10.122301 | AM9: 31.548036 | AN9: -0.83021328 | AO9: 3.2062952 | AP9: 0 | AQ9: 11.390082 | AR9: -1.2210484 | AS9: 2.4061074 | AT9: 3.980164 | AU9: 0 | AV9: 11.480594 | AW9: -2.2104266 | AX9: 1.5091477 | AY9: 11.278065 | AZ9: 0 | BA9: 4.9360657 | BB9: 3.5498912 | BC9: 0.25481003 | BD9: 6.7542193
A10: Wholesale and Retail Trade; Repair of Motor Vehicles and Motorcycles | B10: 0 | C10: -5.5064155 | D10: 5.673686 | E10: 1.2700619 | F10: 8.0600268 | G10: 0 | H10: -16.272977 | I10: 8.5250891 | J10: 2.4904203 | K10: 5.965726 | L10: 0 | M10: -7.7772427 | N10: -0.24487118 | O10: 1.7015565 | P10: 9.8443435 | Q10: 0 | R10: -6.1690381 | S10: 9.4789184 | T10: 2.4246915 | U10: 2.4836064 | V10: 0 | W10: 4.0437149 | X10: -5.181301 | Y10: 4.6138847 | Z10: 10.992612 | AA10: 0 | AB10: 17.140748 | AC10: -22.127611 | AD10: 5.2903755 | AE10: 2.6897216 | AF10: 0 | AG10: -26.697819 | AH10: 2.1134334 | AI10: 4.2059412 | AJ10: 4.2821531 | AK10: 0 | AL10: -13.27241 | AM10: 9.3848136 | AN10: 5.8557362 | AO10: 6.2518936 | AP10: 0 | AQ10: -13.808716 | AR10: 15.433913 | AS10: 6.2786023 | AT10: 2.9218755 | AU10: 0 | AV10: -13.520017 | AW10: 14.006862 | AX10: 7.7604435 | AY10: 6.7734964 | AZ10: 0 | BA10: -10.146725 | BB10: 8.0863273 | BC10: 4.6138847 | BD10: 6.5522306
A11: Transportation and Storage | B11: 0 | C11: -27.117638 | D11: 13.138815 | E11: 5.9537731 | F11: 6.0680826 | G11: 0 | H11: -34.230931 | I11: 12.488459 | J11: 7.849334 | K11: 10.424316 | L11: 0 | M11: -37.836476 | N11: 32.448867 | O11: 2.9873878 | P11: 10.897762 | Q11: 0 | R11: -35.279303 | S11: 20.392866 | T11: 3.5914307 | U11: 4.9836858 | V11: 0 | W11: -45.080745 | X11: 40.972009 | Y11: 4.2582056 | Z11: 9.7729387 | AA11: 0 | AB11: -36.426801 | AC11: 8.5184114 | AD11: 2.4329636 | AE11: 7.3190583 | AF11: 0 | AG11: -36.045199 | AH11: 13.953198 | AI11: 3.2060697 | AJ11: 3.7161133 | AK11: 0 | AL11: -26.027583 | AM11: -9.9359137 | AN11: 5.1392062 | AO11: 3.6344978 | AP11: 0 | AQ11: -26.408502 | AR11: 0.64820281 | AS11: 2.4276914 | AT11: 6.8208765 | AU11: 0 | AV11: -23.601485 | AW11: -1.2329974 | AX11: 11.144153 | AY11: 16.475631 | AZ11: 0 | BA11: -30.220761 | BB11: 8.5184114 | BC11: 6.5953135 | BD11: 10.044099
A12: Accommodation and Food Service Activities | B12: 0 | C12: -59.474614 | D12: 27.169457 | E12: 18.61919 | F12: 25.142753 | G12: 0 | H12: -62.551834 | I12: 51.849692 | J12: 14.340903 | K12: 20.559988 | L12: 0 | M12: -61.935979 | N12: 35.056826 | O12: 11.215785 | P12: 24.040508 | Q12: 0 | R12: -62.793995 | S12: 28.447051 | T12: 14.044788 | U12: 21.139236 | V12: 0 | W12: -62.186394 | X12: 35.565405 | Y12: 19.724654 | Z12: 32.518894 | AA12: 0 | AB12: -67.417453 | AC12: 97.816849 | AD12: 45.755374 | AE12: 27.874922 | AF12: 0 | AG12: -59.347821 | AH12: -5.8243563 | AI12: 11.967126 | AJ12: 22.402445 | AK12: 0 | AL12: -51.267834 | AM12: 8.4052662 | AN12: 18.201274 | AO12: 29.093176 | AP12: 0 | AQ12: -58.23955 | AR12: 30.956418 | AS12: 21.959329 | AT12: 23.645737 | AU12: 0 | AV12: -62.422808 | AW12: 44.280885 | AX12: 27.733203 | AY12: 27.204575 | AZ12: 0 | BA12: -61 | BB12: 38.461538 | BC12: 23.688251 | BD12: 26.406555
A13: Information and Communication | B13: 0 | C13: 5.9603413 | D13: 9.1483225 | E13: 11.562765 | F13: 15.496515 | G13: 0 | H13: 15.40762 | I13: 6.0440754 | J13: 12.777766 | K13: 16.411399 | L13: 0 | M13: 21.430489 | N13: -6.0986791 | O13: 8.6044158 | P13: 19.76562 | Q13: 0 | R13: 0.78190792 | S13: 22.135184 | T13: 7.5014027 | U13: 16.331921 | V13: 0 | W13: 15.360194 | X13: -1.305864 | Y13: 13.740974 | Z13: 24.61904 | AA13: 0 | AB13: -24.611627 | AC13: 55.062017 | AD13: 8.9805097 | AE13: 12.01835 | AF13: 0 | AG13: -0.41343716 | AH13: 1.0606317 | AI13: 7.1696466 | AJ13: 21.618416 | AK13: 0 | AL13: 15.792166 | AM13: -2.0016172 | AN13: 15.631028 | AO13: 16.704452 | AP13: 0 | AQ13: 20.891634 | AR13: 1.2896965 | AS13: 11.38413 | AT13: 17.332254 | AU13: 0 | AV13: 8.9002062 | AW13: 13.798457 | AX13: 21.353234 | AY13: 12.620457 | AZ13: 0 | BA13: 8.9002062 | BB13: 9.7573651 | BC13: 14.109672 | BD13: 16.101458
A14: Financial and Insurance Activities | B14: 0 | C14: 18.847926 | D14: 0.0040198432 | E14: 14.239541 | F14: 2.8025637 | G14: 0 | H14: 4.1205727 | I14: 6.0929301 | J14: 17.30996 | K14: 2.7017807 | L14: 0 | M14: 24.412386 | N14: -3.1998739 | O14: 10.685193 | P14: 2.8992193 | Q14: 0 | R14: 24.118287 | S14: -9.1445465 | T14: 13.051246 | U14: -4.2789177 | V14: 0 | W14: -18.411559 | X14: 34.915741 | Y14: 16.722847 | Z14: 6.7955909 | AA14: 0 | AB14: 3.1017202 | AC14: 13.575208 | AD14: 8.4569879 | AE14: -10.286687 | AF14: 0 | AG14: 26.367771 | AH14: 14.760792 | AI14: 6.18192 | AJ14: -2.8297578 | AK14: 0 | AL14: 9.8565877 | AM14: 6.8693749 | AN14: 9.3626296 | AO14: 0.029717937 | AP14: 0 | AQ14: 35.13277 | AR14: -11.740014 | AS14: 13.696834 | AT14: 0.92102231 | AU14: 0 | AV14: 13.801704 | AW14: 0.95948907 | AX14: 22.277342 | AY14: 5.544671 | AZ14: 0 | BA14: 11.915488 | BB14: 3.0082726 | BC14: 15.629 | BD14: 2.39
... A28: GDP at Market Prices | B28: 0 | C28: -7.5985827 | D28: 4.6429818 | E28: 1.7330091 | F28: 6.2594068 | G28: 0 | H28: -6.0016266 | I28: 15.389141 | J28: 4.4141185 | K28: 6.6048849 | L28: 0 | M28: -3.4993659 | N28: 6.7888028 | O28: 3.5130143 | P28: 4.9753559 | Q28: 0 | R28: -3.3953362 | S28: 8.0194076 | T28: 3.07812 | U28: 4.7686534 | V28: 0 | W28: 2.6090491 | X28: 7.0694239 | Y28: 12.318063 | Z28: 1.2571473 | AA28: 0 | AB28: -3.9165041 | AC28: 15.221338 | AD28: 13.1769 | AE28: 12.575949 | AF28: 0 | AG28: -5.3316375 | AH28: 12.123098 | AI28: 2.325331 | AJ28: 4.7081487 | AK28: 0 | AL28: -18.719832 | AM28: 9.4976874 | AN28: 8.8320053 | AO28: 4.6584272 | AP28: 0 | AQ28: -10.383448 | AR28: 13.418088 | AS28: 4.9469001 | AT28: 4.1929896 | AU28: 0 | AV28: -10.821087 | AW28: 6.282035 | AX28: 5.9216766 | AY28: 5.8125917 | AZ28: 0 | BA28: -7.8156768 | BB28: 8.4665181 | BC28: 6.1392633 | BD28: 5.3367305

Sheet New GDP CP 2022 
A1: Table 1. Gross Domestic Product by Industry at Current Prices in Zimbabwean Dollars 2022 ZWL
A2: Industry | B2: Bulawayo | C2: Manicaland | D2: Mash. Central | E2: Mash. East | F2: Mash. West | G2: Mat. North | H2: Mat. South | I2: Midlands | J2: Masvingo | K2: Harare | L2: Total
A3: Agriculture, Hunting and Fishing and forestry | B3: 3.1514463e+10 | C3: 2.2090514e+11 | D3: 2.4204421e+11 | E3: 2.1727908e+11 | F3: 2.311443e+11 | G3: 5.2496886e+10 | H3: 3.0202201e+10 | I3: 1.5757483e+11 | J3: 1.5884179e+11 | K3: 3.7624208e+10 | L3: 1.3796271e+12
A4: Mining and Quarrying | B4: 2.5816289e+10 | C4: 2.5886574e+11 | D4: 2.2088963e+11 | E4: 1.1390254e+11 | F4: 5.6223663e+11 | G4: 2.2893978e+11 | H4: 2.4293732e+11 | I4: 5.6976933e+11 | J4: 1.7075735e+11 | K4: 4.199156e+10 | L4: 2.4361062e+12
A5: Manufacturing | B5: 5.9066078e+11 | C5: 3.5858048e+11 | D5: 1.3396446e+11 | E5: 2.7743345e+11 | F5: 2.3748976e+11 | G5: 2.1746374e+11 | H5: 1.6775882e+11 | I5: 3.9123619e+11 | J5: 2.52631e+11 | K5: 1.3234582e+12 | L5: 3.9506769e+12
A6: Electricity, Gas, Steam and Air Conditioning Supply | B6: 1.8800491e+10 | C6: 1.7802662e+10 | D6: 1.2796975e+10 | E6: 1.0660341e+10 | F6: 1.1848496e+11 | G6: 7.9784841e+10 | H6: 1.3880387e+10 | I6: 1.3112244e+10 | J6: 1.8693048e+10 | K6: 1.6587251e+10 | L6: 3.206032e+11
A7: Water Supply; Sewerage, Waste Management & Remediation Activities | B7: 9.6147872e+09 | C7: 2.9572495e+09 | D7: 7.718002e+08 | E7: 1.6753757e+09 | F7: 3.2804354e+09 | G7: 8.6239179e+08 | H7: 1.235248e+09 | I7: 5.9160532e+09 | J7: 3.2127843e+09 | K7: 1.5742029e+10 | L7: 4.5268154e+10
A8: Construction | B8: 1.3707142e+11 | C8: 6.0143231e+10 | D8: 4.7960999e+10 | E8: 4.599108e+10 | F8: 5.9155817e+10 | G8: 4.9792776e+10 | H8: 3.7492695e+10 | I8: 1.0406823e+11 | J8: 5.3280673e+10 | K8: 2.8913425e+11 | L8: 8.8409117e+11
A9: Wholesale and Retail Trade; Repair of Motor Vehicles and Motorcycles | B9: 5.1008623e+11 | C9: 2.3226086e+11 | D9: 8.4022388e+10 | E9: 1.1257147e+11 | F9: 1.5475723e+11 | G9: 7.4897012e+10 | H9: 1.2292217e+11 | I9: 2.0509377e+11 | J9: 1.8432924e+11 | K9: 7.2512676e+11 | L9: 2.4060671e+12
A10: Transportation and Storage | B10: 6.7016497e+10 | C10: 4.7360307e+10 | D10: 2.6502533e+10 | E10: 3.7981535e+10 | F10: 4.9131853e+10 | G10: 2.7103964e+10 | H10: 3.3537763e+10 | I10: 3.9762437e+10 | J10: 4.7369497e+10 | K10: 1.7491662e+11 | L10: 5.50683e+11
A11: Accommodation and Food Service Activities | B11: 7.3670197e+10 | C11: 3.851036e+10 | D11: 1.8714888e+10 | E11: 1.8615591e+10 | F11: 4.7547593e+10 | G11: 7.6245583e+10 | H11: 2.0049076e+10 | I11: 4.5212875e+10 | J11: 3.7012863e+10 | K11: 1.4912348e+11 | L11: 5.2470251e+11
A12: Information and Communication | B12: 1.0472234e+11 | C12: 5.0608448e+10 | D12: 2.358159e+10 | E12: 3.8891933e+10 | F12: 4.7832117e+10 | G12: 2.5398351e+10 | H12: 3.3378542e+10 | I12: 4.5427284e+10 | J12: 4.8851002e+10 | K12: 1.789945e+11 | L12: 5.9768611e+11
A13: Financial and Insurance Activities | B13: 2.1937926e+11 | C13: 9.3104892e+10 | D13: 5.9738301e+10 | E13: 5.850981e+10 | F13: 1.4236206e+11 | G13: 8.0699605e+10 | H13: 4.4985145e+10 | I13: 1.3970084e+11 | J13: 7.8505265e+10 | K13: 4.1713481e+11 | L13: 1.33412e+12
A14: Real Estate Activities | B14: 9.6476539e+10 | C14: 6.0859804e+10 | D14: 3.3160482e+10 | E14: 5.0998336e+10 | F14: 5.6521221e+10 | G14: 2.2371559e+10 | H14: 3.3513896e+10 | I14: 7.1618248e+10 | J14: 6.4160765e+10 | K14: 1.8581978e+11 | L14: 6.7550063e+11
... A22: Activities of Households as Employers | B22: 7.9855728e+08 | C22: 1.793921e+08 | D22: 75290948 | E22: 1.1467322e+08 | F22: 1.6364532e+08 | G22: 1.0229748e+08 | H22: 1.6355444e+08 | I22: 2.0868687e+08 | J22: 2.8454723e+08 | K22: 2.0009388e+09 | L22: 4.0915837e+09
A23: GDP at Basic Prices | B23: =SUM(B3:B22) -> 2.1330448e+12 | C23: =SUM(C3:C22) -> 1.5915711e+12 | D23: =SUM(D3:D22) -> 9.8063036e+11 | E23: =SUM(E3:E22) -> 1.1223675e+12 | F23: =SUM(F3:F22) -> 1.890537e+12 | G23: =SUM(G3:G22) -> 9.8954354e+11 | H23: =SUM(H3:H22) -> 8.6973251e+11 | I23: =SUM(I3:I22) -> 1.9381566e+12 | ... L23: =SUM(L3:L22) -> 1.7010117e+13
A24: Net Taxes on Products | B24: =B25-B26 -> 1.7667747e+11 | C24: =C25-C26 -> 1.3535161e+11 | D24: =D25-D26 -> 9.5694968e+10 | E24: =E25-E26 -> 1.0084939e+11 | F24: =F25-F26 -> 1.6092145e+11 | G24: =G25-G26 -> 7.7317019e+10 | H24: =H25-H26 -> 7.4814624e+10 | I24: =I25-I26 -> 1.7581392e+11 | ... L24: =L25-L26 -> 1440184109397
A25: Taxes on Products | B25: 1.8235359e+11 | C25: 1.395035e+11 | D25: 9.8783264e+10 | E25: 1.0406633e+11 | F25: 1.664888e+11 | G25: 7.9753256e+10 | H25: 7.7233389e+10 | I25: 1.8157189e+11 | J25: 1.2153124e+11 | K25: 3.3554031e+11 | L25: 1486825567784
A26: Less Subsidies on Products | B26: 5.6761279e+09 | C26: 4.151898e+09 | D26: 3.088296e+09 | E26: 3.21694e+09 | F26: 5.5673411e+09 | G26: 2.436237e+09 | H26: 2.4187645e+09 | I26: 5.7579734e+09 | J26: 3.7308772e+09 | K26: 1.0597003e+10 | L26: 46641458387
A27: GDP at Market Prices | B27: =B23+B24 -> 2.3097223e+12 | C27: =C23+C24 -> 1.7269227e+12 | D27: =D23+D24 -> 1.0763253e+12 | E27: =E23+E24 -> 1.2232169e+12 | F27: =F23+F24 -> 2.0514585e+12 | G27: =G23+G24 -> 1.0668606e+12 | H27: =H23+H24 -> 9.4454714e+11 | I27: =I23+I24 -> 2.1139705e+12 | ... L27: =L23+L24 -> 1.8450301e+13
A28: Population (absolute figures) | B28: 665952 | C28: 2037703 | D28: 1384891 | E28: 1731173 | F28: 1893584 | G28: 827645 | H28: 760345 | I28: 1811905 | J28: 1638528 | K28: 2427231 | L28: 15178957
A29: GDP per capita | B29: 3468301.5 | C29: 847484.98 | D29: 777191.37 | E29: 706582.72 | F29: 1083373.4 | G29: 1289031.6 | H29: 1242261.3 | I29: 1166711.6 | J29: 844223.17 | K29: 1876209.6 | L29: 1215518.4
A30: Exchange Rate ZW :1 USD | B30: 473.5 | C30: 473.5 | D30: 473.5 | E30: 473.5 | F30: 473.5 | G30: 473.5 | H30: 473.5 | I30: 473.5 | J30: 473.5 | K30: 473.5 | L30: 473.5
A31: Per Capita GDP in USD | B31: 7324.8183 | C31: 1789.831 | D31: 1641.3756 | E31: 1492.255 | F31: 2288.0113 | G31: 2722.3476 | H31: 2623.5718 | I31: 2464.016 | J31: 1782.9423 | K31: 3962.4279 | L31: 2567.0927

Sheet New GDP KP 2022
A1: Table 1.2: Gross Domestic Product at Constant Prices by Industry by Province, 2022 ZWL
A2: Industry | B2: Bulawayo | C2: Manicaland | D2: Mash. Central | E2: Mash. East | F2: Mash. West | G2: Mat. North | H2: Mat. South | I2: Midlands | J2: Masvingo | K2: Harare | L2: Total
A3: Agriculture, Forestry and Fishing | B3: 4.3762049e+11 | C3: 3.0675634e+12 | D3: 3.3611076e+12 | E3: 3.0172107e+12 | F3: 3.2097479e+12 | G3: 7.289895e+11 | H3: 4.1939796e+11 | I3: 2.1881373e+12 | J3: 2.2057308e+12 | K3: 5.2246247e+11 | L3: 1.9157968e+13
A4: Mining and Quarrying | B4: 2.2461228e+11 | C4: 2.2522379e+12 | D4: 1.9218302e+12 | E4: 9.9099874e+11 | F4: 4.8916889e+12 | G4: 1.9918698e+12 | H4: 2.1136542e+12 | I4: 4.9572265e+12 | J4: 1.4856588e+12 | K4: 3.6534377e+11 | L4: 2.1195121e+13
A5: Manufacturing | B5: 2.6703508e+12 | C5: 1.6211262e+12 | D5: 6.0564728e+11 | E5: 1.2542641e+12 | F5: 1.0736805e+12 | G5: 9.8314378e+11 | H5: 7.5843006e+11 | I5: 1.7687612e+12 | J5: 1.1421333e+12 | K5: 5.9832951e+12 | L5: 1.7860832e+13
A6: Electricity, Gas, Steam and Air Conditioning Supply | B6: 1.4704996e+10 | C6: 9.813667e+10 | D6: 5.6380112e+09 | E6: 3.0082301e+09 | F6: 3.4569229e+12 | G6: 1.6873833e+12 | H6: 2.5921451e+10 | I6: 3.9797565e+10 | J6: 1.2036391e+11 | K6: 2.7205161e+10 | L6: 5.4790822e+12
A7: Water Supply; Sewerage, Waste Management & Remediation Activities | B7: 9.3549159e+10 | C7: 2.8773201e+10 | D7: 7.5093975e+09 | E7: 1.6300931e+10 | F7: 3.1917708e+10 | G7: 8.3908281e+09 | H7: 1.2018614e+10 | I7: 5.7561523e+10 | J7: 3.1259482e+10 | K7: 1.5316548e+11 | L7: 4.4044633e+11
A8: Construction | B8: 6.8798062e+11 | C8: 3.0186729e+11 | D8: 2.4072297e+11 | E8: 2.3083567e+11 | F8: 2.9691133e+11 | G8: 2.4991691e+11 | H8: 1.8818108e+11 | I8: 5.2233302e+11 | J8: 2.6742316e+11 | K8: 1.4512053e+12 | L8: 4.4373773e+12
A9: Wholesale and Retail Trade; Repair of Motor Vehicles and Motorcycles | B9: 6.3596021e+12 | C9: 2.8957587e+12 | D9: 1.0475659e+12 | E9: 1.4035073e+12 | F9: 1.9294667e+12 | G9: 9.3379347e+11 | H9: 1.5325568e+12 | I9: 2.5570475e+12 | J9: 2.2981617e+12 | K9: 9.0406629e+12 | L9: 2.9998123e+13
A10: Transportation and Storage | B10: 3.7804193e+11 | C10: 2.6716081e+11 | D10: 1.4950153e+11 | E10: 2.142549e+11 | F10: 2.7715416e+11 | G10: 1.5289422e+11 | H10: 1.8918746e+11 | I10: 2.2430102e+11 | J10: 2.6721265e+11 | K10: 9.8670952e+11 | L10: 3.1064182e+12
A11: Accommodation and Food Service Activities | B11: 3.5375263e+11 | C11: 1.8492066e+11 | D11: 8.9865933e+10 | E11: 8.9389121e+10 | F11: 2.2831602e+11 | G11: 3.6611922e+11 | H11: 9.6272491e+10 | I11: 2.1710507e+11 | J11: 1.7772991e+11 | K11: 7.1606737e+11 | L11: 2.5195384e+12
A12: Information and Communication | B12: 1.7499979e+12 | C12: 8.457095e+11 | D12: 3.9406809e+11 | E12: 6.4991674e+11 | F12: 7.9931468e+11 | G12: 4.2442769e+11 | H12: 5.5778335e+11 | I12: 7.5912792e+11 | J12: 8.163411e+11 | K12: 2.9911479e+12 | L12: 9.9878349e+12
A13: Financial and Insurance Activities | B13: 2.1527722e+12 | C13: 9.136398e+11 | D13: 5.8621291e+11 | E13: 5.7415771e+11 | F13: 1.3970012e+12 | G13: 7.9190652e+11 | H13: 4.4143995e+11 | I13: 1.3708866e+12 | J13: 7.7037343e+11 | K13: 4.0933506e+12 | L13: 1.3091741e+13
A14: Real Estate Activities | B14: 6.5709329e+11 | C14: 4.1451082e+11 | D14: 2.2585315e+11 | E14: 3.4734522e+11 | F14: 3.8496111e+11 | G14: 1.5237074e+11 | H14: 2.2826022e+11 | I14: 4.8778564e+11 | J14: 4.3699338e+11 | K14: 1.2656023e+12 | L14: 4.6007759e+12
... A22: Activities of Households as Employers, undifferentiated goods - and services - Producing Activities of Households for Own Use | B22: 4.438508e+10 | C22: 9.9708971e+09 | D22: 4.1847903e+09 | E22: 6.3737194e+09 | F22: 9.0956661e+09 | G22: 5.6858563e+09 | H22: 9.0906151e+09 | I22: 1.1599147e+10 | J22: 1.5815586e+10 | K22: 1.1121535e+11 | L22: 2.2741671e+11
A23: GDP at Basic Prices | B23: =SUM(B3:B22) -> 1.8353322e+13 | C23: =SUM(C3:C22) -> 1.4514516e+13 | D23: =SUM(D3:D22) -> 9.521969e+12 | E23: =SUM(E3:E22) -> 1.0034948e+13 | F23: =SUM(F3:F22) -> 1.9466972e+13 | G23: =SUM(G3:G22) -> 9.1443624e+12 | H23: =SUM(H3:H22) -> 7.3845301e+12 | I23: =SUM(I3:I22) -> 1.6882289e+13 | ... L23: =SUM(L3:L22) -> 1.5090837e+14
A24: Net Taxes on Products | B24: =B25-B26 -> 1.1574342e+12 | C24: =C25-C26 -> 9.0332905e+11 | D24: =D25-D26 -> 5.9682095e+11 | E24: =E25-E26 -> 6.3188548e+11 | F24: =F25-F26 -> 1.1333658e+12 | G24: =G25-G26 -> 5.4468509e+11 | H24: =H25-H26 -> 4.7133447e+11 | I24: =I25-I26 -> 1.0399466e+12 | ... L24: =L25-L26 -> 9.3282842e+12
A25: Taxes on Products | B25: 1.1774402e+12 | C25: 9.217659e+11 | D25: 6.0296656e+11 | E25: 6.4578939e+11 | F25: 1.1506476e+12 | G25: 5.4889113e+11 | H25: 4.9234288e+11 | I25: 1.0632432e+12 | J25: 7.3916633e+11 | K25: 2.2039606e+12 | L25: 9.5462138e+12
A26: Less Subsidies on Products | B26: 2.0005936e+10 | C26: 1.8436843e+10 | D26: 6.1456144e+09 | E26: 1.3903908e+10 | F26: 1.7281817e+10 | G26: 4.2060411e+09 | H26: 2.1008413e+10 | I26: 2.3296673e+10 | J26: 2.2969779e+10 | K26: 7.0674566e+10 | L26: 2.1792959e+11
A27: GDP at Market Prices | B27: =B23+B24 -> 1.9510756e+13 | C27: =C23+C24 -> 1.5417845e+13 | D27: =D23+D24 -> 1.011879e+13 | E27: =E23+E24 -> 1.0666833e+13 | F27: =F23+F24 -> 2.0600338e+13 | G27: =G23+G24 -> 9.6890475e+12 | H27: =H23+H24 -> 7.8558646e+12 | I27: =I23+I24 -> 1.7922235e+13 | ... L27: =L23+L24 -> 1.6023665e+14
A28: Population (absolute figures) | B28: 665952 | C28: 2037703 | D28: 1384891 | E28: 1731173 | F28: 1893584 | G28: 827645 | H28: 760345 | I28: 1811905 | J28: 1638528 | K28: 2427231 | L28: 15178957
A29: GDP per Capita | B29: 29297541 | C29: 7566286.6 | D29: 7306560.6 | E29: 6161621.9 | F29: 10879020 | G29: 11706767 | H29: 10331974 | I29: 9891376.8 | J29: 7496379 | K29: 14902543 | L29: 1.1554007e+08

Sheet New GDP CP 2022 Contr Industry 
A1: Table 1.3: Gross Domestic Product Contribution at Constant Prices by Province, 2022
A2: Industry | B2: Bulawayo | C2: Manicaland | D2: Mash. Central | E2: Mash. East | F2: Mash. West | G2: Mat. North | H2: Mat. South | I2: Midlands | J2: Masvingo | K2: Harare | L2: Total
A3: Agriculture, Forestry and Fishing | B3: ='New GDP CP 2022 '!B3/'New GDP CP 2022 '!$L$3*100 -> 2.284274 | C3: ='New GDP CP 2022 '!C3/'New GDP CP 2022 '!$L$3*100 -> 16.011945 | D3: ='New GDP CP 2022 '!D3/'New GDP CP 2022 '!$L$3*100 -> 17.544176 | E3: ='New GDP CP 2022 '!E3/'New GDP CP 2022 '!$L$3*100 -> 15.749117 | F3: ='New GDP CP 2022 '!F3/'New GDP CP 2022 '!$L$3*100 -> 16.754114 | G3: ='New GDP CP 2022 '!G3/'New GDP CP 2022 '!$L$3*100 -> 3.8051504 | H3: ='New GDP CP 2022 '!H3/'New GDP CP 2022 '!$L$3*100 -> 2.1891568 | I3: ='New GDP CP 2022 '!I3/'New GDP CP 2022 '!$L$3*100 -> 11.421552 | ... L3: ='New GDP CP 2022 '!L3/'New GDP CP 2022 '!$L$3*100 -> 100
A4: Mining and Quarrying | B4: ='New GDP CP 2022 '!B4/'New GDP CP 2022 '!$L$4*100 -> 1.0597358 | C4: ='New GDP CP 2022 '!C4/'New GDP CP 2022 '!$L$4*100 -> 10.626209 | D4: ='New GDP CP 2022 '!D4/'New GDP CP 2022 '!$L$4*100 -> 9.0673237 | E4: ='New GDP CP 2022 '!E4/'New GDP CP 2022 '!$L$4*100 -> 4.6755984 | F4: ='New GDP CP 2022 '!F4/'New GDP CP 2022 '!$L$4*100 -> 23.079316 | G4: ='New GDP CP 2022 '!G4/'New GDP CP 2022 '!$L$4*100 -> 9.397775 | H4: ='New GDP CP 2022 '!H4/'New GDP CP 2022 '!$L$4*100 -> 9.9723618 | I4: ='New GDP CP 2022 '!I4/'New GDP CP 2022 '!$L$4*100 -> 23.388526 | ... L4: ='New GDP CP 2022 '!L4/'New GDP CP 2022 '!$L$4*100 -> 100
A5: Manufacturing | B5: ='New GDP CP 2022 '!B5/'New GDP CP 2022 '!$L$5*100 -> 14.950875 | C5: ='New GDP CP 2022 '!C5/'New GDP CP 2022 '!$L$5*100 -> 9.0764314 | D5: ='New GDP CP 2022 '!D5/'New GDP CP 2022 '!$L$5*100 -> 3.3909241 | E5: ='New GDP CP 2022 '!E5/'New GDP CP 2022 '!$L$5*100 -> 7.0224282 | F5: ='New GDP CP 2022 '!F5/'New GDP CP 2022 '!$L$5*100 -> 6.0113689 | G5: ='New GDP CP 2022 '!G5/'New GDP CP 2022 '!$L$5*100 -> 5.5044679 | H5: ='New GDP CP 2022 '!H5/'New GDP CP 2022 '!$L$5*100 -> 4.246331 | I5: ='New GDP CP 2022 '!I5/'New GDP CP 2022 '!$L$5*100 -> 9.9030165 | ... L5: ='New GDP CP 2022 '!L5/'New GDP CP 2022 '!$L$5*100 -> 100
A6: Electricity, Gas, Steam and Air Conditioning Supply | B6: ='New GDP CP 2022 '!B6/'New GDP CP 2022 '!$L$6*100 -> 5.8640997 | C6: ='New GDP CP 2022 '!C6/'New GDP CP 2022 '!$L$6*100 -> 5.5528648 | D6: ='New GDP CP 2022 '!D6/'New GDP CP 2022 '!$L$6*100 -> 3.9915307 | E6: ='New GDP CP 2022 '!E6/'New GDP CP 2022 '!$L$6*100 -> 3.3250888 | F6: ='New GDP CP 2022 '!F6/'New GDP CP 2022 '!$L$6*100 -> 36.956886 | G6: ='New GDP CP 2022 '!G6/'New GDP CP 2022 '!$L$6*100 -> 24.885853 | H6: ='New GDP CP 2022 '!H6/'New GDP CP 2022 '!$L$6*100 -> 4.3294598 | I6: ='New GDP CP 2022 '!I6/'New GDP CP 2022 '!$L$6*100 -> 4.0898668 | ... L6: ='New GDP CP 2022 '!L6/'New GDP CP 2022 '!$L$6*100 -> 100
A7: Water Supply; Sewerage, Waste Management & Remediation Activities | B7: ='New GDP CP 2022 '!B7/'New GDP CP 2022 '!$L$7*100 -> 21.239627 | C7: ='New GDP CP 2022 '!C7/'New GDP CP 2022 '!$L$7*100 -> 6.5327372 | D7: ='New GDP CP 2022 '!D7/'New GDP CP 2022 '!$L$7*100 -> 1.7049518 | E7: ='New GDP CP 2022 '!E7/'New GDP CP 2022 '!$L$7*100 -> 3.7010029 | F7: ='New GDP CP 2022 '!F7/'New GDP CP 2022 '!$L$7*100 -> 7.2466737 | G7: ='New GDP CP 2022 '!G7/'New GDP CP 2022 '!$L$7*100 -> 1.9050739 | H7: ='New GDP CP 2022 '!H7/'New GDP CP 2022 '!$L$7*100 -> 2.7287352 | I7: ='New GDP CP 2022 '!I7/'New GDP CP 2022 '!$L$7*100 -> 13.068907 | ... L7: ='New GDP CP 2022 '!L7/'New GDP CP 2022 '!$L$7*100 -> 100
A8: Construction | B8: ='New GDP CP 2022 '!B8/'New GDP CP 2022 '!$L$8*100 -> 15.504217 | C8: ='New GDP CP 2022 '!C8/'New GDP CP 2022 '!$L$8*100 -> 6.8028314 | D8: ='New GDP CP 2022 '!D8/'New GDP CP 2022 '!$L$8*100 -> 5.424893 | E8: ='New GDP CP 2022 '!E8/'New GDP CP 2022 '!$L$8*100 -> 5.2020743 | F8: ='New GDP CP 2022 '!F8/'New GDP CP 2022 '!$L$8*100 -> 6.6911445 | G8: ='New GDP CP 2022 '!G8/'New GDP CP 2022 '!$L$8*100 -> 5.6320861 | H8: ='New GDP CP 2022 '!H8/'New GDP CP 2022 '!$L$8*100 -> 4.2408178 | I8: ='New GDP CP 2022 '!I8/'New GDP CP 2022 '!$L$8*100 -> 11.77121 | ... L8: ='New GDP CP 2022 '!L8/'New GDP CP 2022 '!$L$8*100 -> 100
A9: Wholesale and Retail Trade; Repair of Motor Vehicles and Motorcycles | B9: ='New GDP CP 2022 '!B9/'New GDP CP 2022 '!$L$9*100 -> 21.2 | C9: ='New GDP CP 2022 '!C9/'New GDP CP 2022 '!$L$9*100 -> 9.653133 | D9: ='New GDP CP 2022 '!D9/'New GDP CP 2022 '!$L$9*100 -> 3.4921049 | E9: ='New GDP CP 2022 '!E9/'New GDP CP 2022 '!$L$9*100 -> 4.6786503 | F9: ='New GDP CP 2022 '!F9/'New GDP CP 2022 '!$L$9*100 -> 6.4319581 | G9: ='New GDP CP 2022 '!G9/'New GDP CP 2022 '!$L$9*100 -> 3.1128397 | H9: ='New GDP CP 2022 '!H9/'New GDP CP 2022 '!$L$9*100 -> 5.1088422 | I9: ='New GDP CP 2022 '!I9/'New GDP CP 2022 '!$L$9*100 -> 8.5240251 | ... L9: ='New GDP CP 2022 '!L9/'New GDP CP 2022 '!$L$9*100 -> 100
A10: Transportation and Storage | B10: ='New GDP CP 2022 '!B10/'New GDP CP 2022 '!$L$10*100 -> 12.169705 | C10: ='New GDP CP 2022 '!C10/'New GDP CP 2022 '!$L$10*100 -> 8.6002848 | D10: ='New GDP CP 2022 '!D10/'New GDP CP 2022 '!$L$10*100 -> 4.8126659 | E10: ='New GDP CP 2022 '!E10/'New GDP CP 2022 '!$L$10*100 -> 6.8971685 | F10: ='New GDP CP 2022 '!F10/'New GDP CP 2022 '!$L$10*100 -> 8.9219847 | G10: ='New GDP CP 2022 '!G10/'New GDP CP 2022 '!$L$10*100 -> 4.9218814 | H10: ='New GDP CP 2022 '!H10/'New GDP CP 2022 '!$L$10*100 -> 6.0902121 | I10: ='New GDP CP 2022 '!I10/'New GDP CP 2022 '!$L$10*100 -> 7.2205674 | ... L10: ='New GDP CP 2022 '!L10/'New GDP CP 2022 '!$L$10*100 -> 100
A11: Accommodation and Food Service Activities | B11: ='New GDP CP 2022 '!B11/'New GDP CP 2022 '!$L$11*100 -> 14.040374 | C11: ='New GDP CP 2022 '!C11/'New GDP CP 2022 '!$L$11*100 -> 7.3394656 | D11: ='New GDP CP 2022 '!D11/'New GDP CP 2022 '!$L$11*100 -> 3.5667618 | E11: ='New GDP CP 2022 '!E11/'New GDP CP 2022 '!$L$11*100 -> 3.5478372 | F11: ='New GDP CP 2022 '!F11/'New GDP CP 2022 '!$L$11*100 -> 9.0618193 | G11: ='New GDP CP 2022 '!G11/'New GDP CP 2022 '!$L$11*100 -> 14.531202 | H11: ='New GDP CP 2022 '!H11/'New GDP CP 2022 '!$L$11*100 -> 3.8210369 | I11: ='New GDP CP 2022 '!I11/'New GDP CP 2022 '!$L$11*100 -> 8.6168589 | ... L11: ='New GDP CP 2022 '!L11/'New GDP CP 2022 '!$L$11*100 -> 100
A12: Information and Communication | B12: ='New GDP CP 2022 '!B12/'New GDP CP 2022 '!$L$12*100 -> 17.521294 | C12: ='New GDP CP 2022 '!C12/'New GDP CP 2022 '!$L$12*100 -> 8.4673957 | D12: ='New GDP CP 2022 '!D12/'New GDP CP 2022 '!$L$12*100 -> 3.9454807 | E12: ='New GDP CP 2022 '!E12/'New GDP CP 2022 '!$L$12*100 -> 6.5070833 | F12: ='New GDP CP 2022 '!F12/'New GDP CP 2022 '!$L$12*100 -> 8.0028824 | G12: ='New GDP CP 2022 '!G12/'New GDP CP 2022 '!$L$12*100 -> 4.2494464 | H12: ='New GDP CP 2022 '!H12/'New GDP CP 2022 '!$L$12*100 -> 5.5846273 | I12: ='New GDP CP 2022 '!I12/'New GDP CP 2022 '!$L$12*100 -> 7.6005253 | ... L12: ='New GDP CP 2022 '!L12/'New GDP CP 2022 '!$L$12*100 -> 100
A13: Financial and Insurance Activities | B13: ='New GDP CP 2022 '!B13/'New GDP CP 2022 '!$L$13*100 -> 16.443743 | C13: ='New GDP CP 2022 '!C13/'New GDP CP 2022 '!$L$13*100 -> 6.9787495 | D13: ='New GDP CP 2022 '!D13/'New GDP CP 2022 '!$L$13*100 -> 4.4777308 | E13: ='New GDP CP 2022 '!E13/'New GDP CP 2022 '!$L$13*100 -> 4.3856483 | F13: ='New GDP CP 2022 '!F13/'New GDP CP 2022 '!$L$13*100 -> 10.670859 | G13: ='New GDP CP 2022 '!G13/'New GDP CP 2022 '!$L$13*100 -> 6.0489016 | H13: ='New GDP CP 2022 '!H13/'New GDP CP 2022 '!$L$13*100 -> 3.3718965 | I13: ='New GDP CP 2022 '!I13/'New GDP CP 2022 '!$L$13*100 -> 10.471385 | ... L13: ='New GDP CP 2022 '!L13/'New GDP CP 2022 '!$L$13*100 -> 100
A14: Real Estate Activities | B14: ='New GDP CP 2022 '!B14/'New GDP CP 2022 '!$L$14*100 -> 14.282228 | C14: ='New GDP CP 2022 '!C14/'New GDP CP 2022 '!$L$14*100 -> 9.009585 | D14: ='New GDP CP 2022 '!D14/'New GDP CP 2022 '!$L$14*100 -> 4.9090231 | E14: ='New GDP CP 2022 '!E14/'New GDP CP 2022 '!$L$14*100 -> 7.5497096 | F14: ='New GDP CP 2022 '!F14/'New GDP CP 2022 '!$L$14*100 -> 8.3673083 | G14: ='New GDP CP 2022 '!G14/'New GDP CP 2022 '!$L$14*100 -> 3.3118487 | H14: ='New GDP CP 2022 '!H14/'New GDP CP 2022 '!$L$14*100 -> 4.9613419 | I14: ='New GDP CP 2022 '!I14/'New GDP CP 2022 '!$L$14*100 -> 10.602247 | ... L14: ='New GDP CP 2022 '!L14/'New GDP CP 2022 '!$L$14*100 -> 100
A15: Professional, Scientific and Technical Activities | B15: ='New GDP CP 2022 '!B15/'New GDP CP 2022 '!$L$15*100 -> 24.207637 | C15: ='New GDP CP 2022 '!C15/'New GDP CP 2022 '!$L$15*100 -> 1.0277346 | D15: ='New GDP CP 2022 '!D15/'New GDP CP 2022 '!$L$15*100 -> 0.060424539 | E15: ='New GDP CP 2022 '!E15/'New GDP CP 2022 '!$L$15*100 -> 1.9809775 | F15: ='New GDP CP 2022 '!F15/'New GDP CP 2022 '!$L$15*100 -> 2.5088958 | G15: ='New GDP CP 2022 '!G15/'New GDP CP 2022 '!$L$15*100 -> 1.5814728 | H15: ='New GDP CP 2022 '!H15/'New GDP CP 2022 '!$L$15*100 -> 0.051988882 | I15: ='New GDP CP 2022 '!I15/'New GDP CP 2022 '!$L$15*100 -> 2.7904017 | ... L15: ='New GDP CP 2022 '!L15/'New GDP CP 2022 '!$L$15*100 -> 100
A16: Administrative and support service activities | B16: ='New GDP CP 2022 '!B16/'New GDP CP 2022 '!$L$16*100 -> 11.248858 | C16: ='New GDP CP 2022 '!C16/'New GDP CP 2022 '!$L$16*100 -> 9.0281179 | D16: ='New GDP CP 2022 '!D16/'New GDP CP 2022 '!$L$16*100 -> 5.6392169 | E16: ='New GDP CP 2022 '!E16/'New GDP CP 2022 '!$L$16*100 -> 7.7819456 | F16: ='New GDP CP 2022 '!F16/'New GDP CP 2022 '!$L$16*100 -> 8.6504845 | G16: ='New GDP CP 2022 '!G16/'New GDP CP 2022 '!$L$16*100 -> 3.7901156 | H16: ='New GDP CP 2022 '!H16/'New GDP CP 2022 '!$L$16*100 -> 3.5495965 | I16: ='New GDP CP 2022 '!I16/'New GDP CP 2022 '!$L$16*100 -> 9.9275823 | ... L16: ='New GDP CP 2022 '!L16/'New GDP CP 2022 '!$L$16*100 -> 100
A17: Public Administration and Defence; Compulsory Social Security | B17: ='New GDP CP 2022 '!B17/'New GDP CP 2022 '!$L$17*100 -> 13.31 | C17: ='New GDP CP 2022 '!C17/'New GDP CP 2022 '!$L$17*100 -> 9.11 | D17: ='New GDP CP 2022 '!D17/'New GDP CP 2022 '!$L$17*100 -> 4.75 | E17: ='New GDP CP 2022 '!E17/'New GDP CP 2022 '!$L$17*100 -> 4.75 | F17: ='New GDP CP 2022 '!F17/'New GDP CP 2022 '!$L$17*100 -> 10.18 | G17: ='New GDP CP 2022 '!G17/'New GDP CP 2022 '!$L$17*100 -> 4.39 | H17: ='New GDP CP 2022 '!H17/'New GDP CP 2022 '!$L$17*100 -> 4.4 | I17: ='New GDP CP 2022 '!I17/'New GDP CP 2022 '!$L$17*100 -> 9.81 | ... L17: ='New GDP CP 2022 '!L17/'New GDP CP 2022 '!$L$17*100 -> 100
A18: Education | B18: ='New GDP CP 2022 '!B18/'New GDP CP 2022 '!$L$18*100 -> 9.18 | C18: ='New GDP CP 2022 '!C18/'New GDP CP 2022 '!$L$18*100 -> 8.46 | D18: ='New GDP CP 2022 '!D18/'New GDP CP 2022 '!$L$18*100 -> 2.82 | E18: ='New GDP CP 2022 '!E18/'New GDP CP 2022 '!$L$18*100 -> 6.38 | F18: ='New GDP CP 2022 '!F18/'New GDP CP 2022 '!$L$18*100 -> 7.93 | G18: ='New GDP CP 2022 '!G18/'New GDP CP 2022 '!$L$18*100 -> 1.93 | H18: ='New GDP CP 2022 '!H18/'New GDP CP 2022 '!$L$18*100 -> 9.64 | I18: ='New GDP CP 2022 '!I18/'New GDP CP 2022 '!$L$18*100 -> 10.69 | ... L18: ='New GDP CP 2022 '!L18/'New GDP CP 2022 '!$L$18*100 -> 100
A19: Human Health and Social Work Activities | B19: ='New GDP CP 2022 '!B19/'New GDP CP 2022 '!$L$19*100 -> 12.47 | C19: ='New GDP CP 2022 '!C19/'New GDP CP 2022 '!$L$19*100 -> 9.07 | D19: ='New GDP CP 2022 '!D19/'New GDP CP 2022 '!$L$19*100 -> 3.96 | E19: ='New GDP CP 2022 '!E19/'New GDP CP 2022 '!$L$19*100 -> 7.83 | F19: ='New GDP CP 2022 '!F19/'New GDP CP 2022 '!$L$19*100 -> 8.27 | G19: ='New GDP CP 2022 '!G19/'New GDP CP 2022 '!$L$19*100 -> 2.27 | H19: ='New GDP CP 2022 '!H19/'New GDP CP 2022 '!$L$19*100 -> 5.22 | I19: ='New GDP CP 2022 '!I19/'New GDP CP 2022 '!$L$19*100 -> 5.72 | ... L19: ='New GDP CP 2022 '!L19/'New GDP CP 2022 '!$L$19*100 -> 100
A20: Arts, Entertainment and Recreation | B20: ='New GDP CP 2022 '!B20/'New GDP CP 2022 '!$L$20*100 -> 13.2 | C20: ='New GDP CP 2022 '!C20/'New GDP CP 2022 '!$L$20*100 -> 9.77 | D20: ='New GDP CP 2022 '!D20/'New GDP CP 2022 '!$L$20*100 -> 6.11 | E20: ='New GDP CP 2022 '!E20/'New GDP CP 2022 '!$L$20*100 -> 5.89 | F20: ='New GDP CP 2022 '!F20/'New GDP CP 2022 '!$L$20*100 -> 6.24 | G20: ='New GDP CP 2022 '!G20/'New GDP CP 2022 '!$L$20*100 -> 7.46 | H20: ='New GDP CP 2022 '!H20/'New GDP CP 2022 '!$L$20*100 -> 6.6 | I20: ='New GDP CP 2022 '!I20/'New GDP CP 2022 '!$L$20*100 -> 8.01 | ... L20: ='New GDP CP 2022 '!L20/'New GDP CP 2022 '!$L$20*100 -> 100
A21: Other Services | B21: ='New GDP CP 2022 '!B21/'New GDP CP 2022 '!$L$21*100 -> 15.32 | C21: ='New GDP CP 2022 '!C21/'New GDP CP 2022 '!$L$21*100 -> 5.5 | D21: ='New GDP CP 2022 '!D21/'New GDP CP 2022 '!$L$21*100 -> 3.05 | E21: ='New GDP CP 2022 '!E21/'New GDP CP 2022 '!$L$21*100 -> 10.06 | F21: ='New GDP CP 2022 '!F21/'New GDP CP 2022 '!$L$21*100 -> 14.3 | G21: ='New GDP CP 2022 '!G21/'New GDP CP 2022 '!$L$21*100 -> 1.41 | H21: ='New GDP CP 2022 '!H21/'New GDP CP 2022 '!$L$21*100 -> 3.41 | I21: ='New GDP CP 2022 '!I21/'New GDP CP 2022 '!$L$21*100 -> 4.8 | ... L21: ='New GDP CP 2022 '!L21/'New GDP CP 2022 '!$L$21*100 -> 100
A22: Activities of Households as Employers, undifferentiated goods - and services - Producing Activities of Households for Own Use | B22: ='New GDP CP 2022 '!B22/'New GDP CP 2022 '!$L$22*100 -> 19.517071 | C22: ='New GDP CP 2022 '!C22/'New GDP CP 2022 '!$L$22*100 -> 4.3844172 | D22: ='New GDP CP 2022 '!D22/'New GDP CP 2022 '!$L$22*100 -> 1.840142 | E22: ='New GDP CP 2022 '!E22/'New GDP CP 2022 '!$L$22*100 -> 2.802661 | F22: ='New GDP CP 2022 '!F22/'New GDP CP 2022 '!$L$22*100 -> 3.9995593 | G22: ='New GDP CP 2022 '!G22/'New GDP CP 2022 '!$L$22*100 -> 2.5001929 | H22: ='New GDP CP 2022 '!H22/'New GDP CP 2022 '!$L$22*100 -> 3.9973383 | I22: ='New GDP CP 2022 '!I22/'New GDP CP 2022 '!$L$22*100 -> 5.1003935 | ... L22: ='New GDP CP 2022 '!L22/'New GDP CP 2022 '!$L$22*100 -> 100
A23: GDP at Basic Prices | B23: ='New GDP CP 2022 '!B23/'New GDP CP 2022 '!$L$23*100 -> 12.53986 | C23: ='New GDP CP 2022 '!C23/'New GDP CP 2022 '!$L$23*100 -> 9.3566144 | D23: ='New GDP CP 2022 '!D23/'New GDP CP 2022 '!$L$23*100 -> 5.764983 | E23: ='New GDP CP 2022 '!E23/'New GDP CP 2022 '!$L$23*100 -> 6.5982352 | F23: ='New GDP CP 2022 '!F23/'New GDP CP 2022 '!$L$23*100 -> 11.114192 | G23: ='New GDP CP 2022 '!G23/'New GDP CP 2022 '!$L$23*100 -> 5.8173822 | H23: ='New GDP CP 2022 '!H23/'New GDP CP 2022 '!$L$23*100 -> 5.1130307 | I23: ='New GDP CP 2022 '!I23/'New GDP CP 2022 '!$L$23*100 -> 11.39414 | ... L23: ='New GDP CP 2022 '!L23/'New GDP CP 2022 '!$L$23*100 -> 100
A24: Net Taxes on Products | B24: ='New GDP CP 2022 '!B24/'New GDP CP 2022 '!$L$24*100 -> 12.2677 | C24: ='New GDP CP 2022 '!C24/'New GDP CP 2022 '!$L$24*100 -> 9.3982155 | D24: ='New GDP CP 2022 '!D24/'New GDP CP 2022 '!$L$24*100 -> 6.6446344 | E24: ='New GDP CP 2022 '!E24/'New GDP CP 2022 '!$L$24*100 -> 7.0025343 | F24: ='New GDP CP 2022 '!F24/'New GDP CP 2022 '!$L$24*100 -> 11.173672 | G24: ='New GDP CP 2022 '!G24/'New GDP CP 2022 '!$L$24*100 -> 5.368551 | H24: ='New GDP CP 2022 '!H24/'New GDP CP 2022 '!$L$24*100 -> 5.1947959 | I24: ='New GDP CP 2022 '!I24/'New GDP CP 2022 '!$L$24*100 -> 12.207739 | ... L24: ='New GDP CP 2022 '!L24/'New GDP CP 2022 '!$L$24*100 -> 100
A25: Taxes on Products | B25: ='New GDP CP 2022 '!B25/'New GDP CP 2022 '!$L$25*100 -> 12.264626 | C25: ='New GDP CP 2022 '!C25/'New GDP CP 2022 '!$L$25*100 -> 9.3826409 | D25: ='New GDP CP 2022 '!D25/'New GDP CP 2022 '!$L$25*100 -> 6.6439041 | E25: ='New GDP CP 2022 '!E25/'New GDP CP 2022 '!$L$25*100 -> 6.999229 | F25: ='New GDP CP 2022 '!F25/'New GDP CP 2022 '!$L$25*100 -> 11.197601 | G25: ='New GDP CP 2022 '!G25/'New GDP CP 2022 '!$L$25*100 -> 5.3639955 | H25: ='New GDP CP 2022 '!H25/'New GDP CP 2022 '!$L$25*100 -> 5.1945158 | I25: ='New GDP CP 2022 '!I25/'New GDP CP 2022 '!$L$25*100 -> 12.212051 | ... L25: ='New GDP CP 2022 '!L25/'New GDP CP 2022 '!$L$25*100 -> 100
A26: Less Subsidies on Products | B26: ='New GDP CP 2022 '!B26/'New GDP CP 2022 '!$L$26*100 -> 12.169705 | C26: ='New GDP CP 2022 '!C26/'New GDP CP 2022 '!$L$26*100 -> 8.9017328 | D26: ='New GDP CP 2022 '!D26/'New GDP CP 2022 '!$L$26*100 -> 6.6213538 | E26: ='New GDP CP 2022 '!E26/'New GDP CP 2022 '!$L$26*100 -> 6.8971685 | F26: ='New GDP CP 2022 '!F26/'New GDP CP 2022 '!$L$26*100 -> 11.936464 | G26: ='New GDP CP 2022 '!G26/'New GDP CP 2022 '!$L$26*100 -> 5.2233294 | H26: ='New GDP CP 2022 '!H26/'New GDP CP 2022 '!$L$26*100 -> 5.1858682 | I26: ='New GDP CP 2022 '!I26/'New GDP CP 2022 '!$L$26*100 -> 12.345183 | ... L26: ='New GDP CP 2022 '!L26/'New GDP CP 2022 '!$L$26*100 -> 100
A27: GDP at Market Prices | B27: ='New GDP CP 2022 '!B27/'New GDP CP 2022 '!$L$27*100 -> 12.518616 | C27: ='New GDP CP 2022 '!C27/'New GDP CP 2022 '!$L$27*100 -> 9.3598617 | D27: ='New GDP CP 2022 '!D27/'New GDP CP 2022 '!$L$27*100 -> 5.8336463 | E27: ='New GDP CP 2022 '!E27/'New GDP CP 2022 '!$L$27*100 -> 6.6297937 | F27: ='New GDP CP 2022 '!F27/'New GDP CP 2022 '!$L$27*100 -> 11.118835 | G27: ='New GDP CP 2022 '!G27/'New GDP CP 2022 '!$L$27*100 -> 5.7823476 | H27: ='New GDP CP 2022 '!H27/'New GDP CP 2022 '!$L$27*100 -> 5.1194131 | I27: ='New GDP CP 2022 '!I27/'New GDP CP 2022 '!$L$27*100 -> 11.457648 | ... L27: ='New GDP CP 2022 '!L27/'New GDP CP 2022 '!$L$27*100 -> 100

Sheet New GDP CP 2022 Cont province
A1: Table 1.4: Gross Domestic Product by Industry within Province, 2022
A2: Industry | B2: Bulawayo | C2: Manicaland | D2: Mash. Central | E2: Mash. East | F2: Mash. West | G2: Mat. North | H2: Mat. South | I2: Midlands | J2: Masvingo | K2: Harare
A3: Agriculture, Forestry and Fishing | B3: ='New GDP CP 2022 '!B3/'New GDP CP 2022 '!$B$27*100 -> 1.3644265 | C3: ='New GDP CP 2022 '!C3/'New GDP CP 2022 '!$C$27*100 -> 12.791837 | D3: ='New GDP CP 2022 '!D3/'New GDP CP 2022 '!$D$27*100 -> 22.488015 | E3: ='New GDP CP 2022 '!E3/'New GDP CP 2022 '!$E$27*100 -> 17.762923 | F3: ='New GDP CP 2022 '!F3/'New GDP CP 2022 '!$F$27*100 -> 11.267316 | G3: ='New GDP CP 2022 '!G3/'New GDP CP 2022 '!$G$27*100 -> 4.9206886 | H3: ='New GDP CP 2022 '!H3/'New GDP CP 2022 '!$H$27*100 -> 3.1975324 | I3: ='New GDP CP 2022 '!I3/'New GDP CP 2022 '!$I$27*100 -> 7.4539746 | J3: ='New GDP CP 2022 '!J3/'New GDP CP 2022 '!$J$27*100 -> 11.482954 | K3: ='New GDP CP 2022 '!K3/'New GDP CP 2022 '!$K$27*100 -> 0.82618044
A4: Mining and Quarrying | B4: ='New GDP CP 2022 '!B4/'New GDP CP 2022 '!$B$27*100 -> 1.1177226 | C4: ='New GDP CP 2022 '!C4/'New GDP CP 2022 '!$C$27*100 -> 14.990002 | D4: ='New GDP CP 2022 '!D4/'New GDP CP 2022 '!$D$27*100 -> 20.522571 | E4: ='New GDP CP 2022 '!E4/'New GDP CP 2022 '!$E$27*100 -> 9.3117204 | F4: ='New GDP CP 2022 '!F4/'New GDP CP 2022 '!$F$27*100 -> 27.406679 | G4: ='New GDP CP 2022 '!G4/'New GDP CP 2022 '!$G$27*100 -> 21.459204 | H4: ='New GDP CP 2022 '!H4/'New GDP CP 2022 '!$H$27*100 -> 25.719979 | I4: ='New GDP CP 2022 '!I4/'New GDP CP 2022 '!$I$27*100 -> 26.952567 | J4: ='New GDP CP 2022 '!J4/'New GDP CP 2022 '!$J$27*100 -> 12.344351 | K4: ='New GDP CP 2022 '!K4/'New GDP CP 2022 '!$K$27*100 -> 0.92208201
A5: Manufacturing | B5: ='New GDP CP 2022 '!B5/'New GDP CP 2022 '!$B$27*100 -> 25.572805 | C5: ='New GDP CP 2022 '!C5/'New GDP CP 2022 '!$C$27*100 -> 20.764131 | D5: ='New GDP CP 2022 '!D5/'New GDP CP 2022 '!$D$27*100 -> 12.446465 | E5: ='New GDP CP 2022 '!E5/'New GDP CP 2022 '!$E$27*100 -> 22.680642 | F5: ='New GDP CP 2022 '!F5/'New GDP CP 2022 '!$F$27*100 -> 11.57663 | G5: ='New GDP CP 2022 '!G5/'New GDP CP 2022 '!$G$27*100 -> 20.383521 | H5: ='New GDP CP 2022 '!H5/'New GDP CP 2022 '!$H$27*100 -> 17.760767 | I5: ='New GDP CP 2022 '!I5/'New GDP CP 2022 '!$I$27*100 -> 18.507173 | J5: ='New GDP CP 2022 '!J5/'New GDP CP 2022 '!$J$27*100 -> 18.263142 | K5: ='New GDP CP 2022 '!K5/'New GDP CP 2022 '!$K$27*100 -> 29.061483
A6: Electricity, Gas, Steam and Air Conditioning Supply | B6: ='New GDP CP 2022 '!B6/'New GDP CP 2022 '!$B$27*100 -> 0.81397193 | C6: ='New GDP CP 2022 '!C6/'New GDP CP 2022 '!$C$27*100 -> 1.0308894 | D6: ='New GDP CP 2022 '!D6/'New GDP CP 2022 '!$D$27*100 -> 1.1889505 | E6: ='New GDP CP 2022 '!E6/'New GDP CP 2022 '!$E$27*100 -> 0.87150046 | F6: ='New GDP CP 2022 '!F6/'New GDP CP 2022 '!$F$27*100 -> 5.7756451 | G6: ='New GDP CP 2022 '!G6/'New GDP CP 2022 '!$G$27*100 -> 7.4784695 | H6: ='New GDP CP 2022 '!H6/'New GDP CP 2022 '!$H$27*100 -> 1.4695282 | I6: ='New GDP CP 2022 '!I6/'New GDP CP 2022 '!$I$27*100 -> 0.62026617 | J6: ='New GDP CP 2022 '!J6/'New GDP CP 2022 '!$J$27*100 -> 1.3513536 | K6: ='New GDP CP 2022 '!K6/'New GDP CP 2022 '!$K$27*100 -> 0.36423523
A7: Water Supply; Sewerage, Waste Management & Remediation Activities | B7: ='New GDP CP 2022 '!B7/'New GDP CP 2022 '!$B$27*100 -> 0.4162746 | C7: ='New GDP CP 2022 '!C7/'New GDP CP 2022 '!$C$27*100 -> 0.17124389 | D7: ='New GDP CP 2022 '!D7/'New GDP CP 2022 '!$D$27*100 -> 0.071706963 | E7: ='New GDP CP 2022 '!E7/'New GDP CP 2022 '!$E$27*100 -> 0.13696472 | F7: ='New GDP CP 2022 '!F7/'New GDP CP 2022 '!$F$27*100 -> 0.15990747 | G7: ='New GDP CP 2022 '!G7/'New GDP CP 2022 '!$G$27*100 -> 0.080834537 | H7: ='New GDP CP 2022 '!H7/'New GDP CP 2022 '!$H$27*100 -> 0.13077675 | I7: ='New GDP CP 2022 '!I7/'New GDP CP 2022 '!$I$27*100 -> 0.27985504 | J7: ='New GDP CP 2022 '!J7/'New GDP CP 2022 '!$J$27*100 -> 0.23225787 | K7: ='New GDP CP 2022 '!K7/'New GDP CP 2022 '!$K$27*100 -> 0.34567521
A8: Construction | B8: ='New GDP CP 2022 '!B8/'New GDP CP 2022 '!$B$27*100 -> 5.934541 | C8: ='New GDP CP 2022 '!C8/'New GDP CP 2022 '!$C$27*100 -> 3.4826823 | D8: ='New GDP CP 2022 '!D8/'New GDP CP 2022 '!$D$27*100 -> 4.4559947 | E8: ='New GDP CP 2022 '!E8/'New GDP CP 2022 '!$E$27*100 -> 3.7598466 | F8: ='New GDP CP 2022 '!F8/'New GDP CP 2022 '!$F$27*100 -> 2.8835981 | G8: ='New GDP CP 2022 '!G8/'New GDP CP 2022 '!$G$27*100 -> 4.6672244 | H8: ='New GDP CP 2022 '!H8/'New GDP CP 2022 '!$H$27*100 -> 3.9693832 | I8: ='New GDP CP 2022 '!I8/'New GDP CP 2022 '!$I$27*100 -> 4.9228799 | J8: ='New GDP CP 2022 '!J8/'New GDP CP 2022 '!$J$27*100 -> 3.8517542 | K8: ='New GDP CP 2022 '!K8/'New GDP CP 2022 '!$K$27*100 -> 6.3490255
A9: Wholesale and Retail Trade; Repair of Motor Vehicles and Motorcycles | B9: ='New GDP CP 2022 '!B9/'New GDP CP 2022 '!$B$27*100 -> 22.08431 | C9: ='New GDP CP 2022 '!C9/'New GDP CP 2022 '!$C$27*100 -> 13.449407 | D9: ='New GDP CP 2022 '!D9/'New GDP CP 2022 '!$D$27*100 -> 7.8064119 | E9: ='New GDP CP 2022 '!E9/'New GDP CP 2022 '!$E$27*100 -> 9.202903 | F9: ='New GDP CP 2022 '!F9/'New GDP CP 2022 '!$F$27*100 -> 7.5437662 | G9: ='New GDP CP 2022 '!G9/'New GDP CP 2022 '!$G$27*100 -> 7.0203188 | H9: ='New GDP CP 2022 '!H9/'New GDP CP 2022 '!$H$27*100 -> 13.013874 | I9: ='New GDP CP 2022 '!I9/'New GDP CP 2022 '!$I$27*100 -> 9.7018271 | J9: ='New GDP CP 2022 '!J9/'New GDP CP 2022 '!$J$27*100 -> 13.325488 | K9: ='New GDP CP 2022 '!K9/'New GDP CP 2022 '!$K$27*100 -> 15.922874
A10: Transportation and Storage | B10: ='New GDP CP 2022 '!B10/'New GDP CP 2022 '!$B$27*100 -> 2.9014959 | C10: ='New GDP CP 2022 '!C10/'New GDP CP 2022 '!$C$27*100 -> 2.7424683 | D10: ='New GDP CP 2022 '!D10/'New GDP CP 2022 '!$D$27*100 -> 2.4623162 | E10: ='New GDP CP 2022 '!E10/'New GDP CP 2022 '!$E$27*100 -> 3.1050531 | F10: ='New GDP CP 2022 '!F10/'New GDP CP 2022 '!$F$27*100 -> 2.3949719 | G10: ='New GDP CP 2022 '!G10/'New GDP CP 2022 '!$G$27*100 -> 2.5405349 | H10: ='New GDP CP 2022 '!H10/'New GDP CP 2022 '!$H$27*100 -> 3.5506712 | I10: ='New GDP CP 2022 '!I10/'New GDP CP 2022 '!$I$27*100 -> 1.8809362 | J10: ='New GDP CP 2022 '!J10/'New GDP CP 2022 '!$J$27*100 -> 3.4244248 | K10: ='New GDP CP 2022 '!K10/'New GDP CP 2022 '!$K$27*100 -> 3.8409496
A11: Accommodation and Food Service Activities | B11: ='New GDP CP 2022 '!B11/'New GDP CP 2022 '!$B$27*100 -> 3.1895694 | C11: ='New GDP CP 2022 '!C11/'New GDP CP 2022 '!$C$27*100 -> 2.2299991 | D11: ='New GDP CP 2022 '!D11/'New GDP CP 2022 '!$D$27*100 -> 1.7387762 | E11: ='New GDP CP 2022 '!E11/'New GDP CP 2022 '!$E$27*100 -> 1.5218552 | F11: ='New GDP CP 2022 '!F11/'New GDP CP 2022 '!$F$27*100 -> 2.3177458 | G11: ='New GDP CP 2022 '!G11/'New GDP CP 2022 '!$G$27*100 -> 7.1467243 | H11: ='New GDP CP 2022 '!H11/'New GDP CP 2022 '!$H$27*100 -> 2.1226126 | I11: ='New GDP CP 2022 '!I11/'New GDP CP 2022 '!$I$27*100 -> 2.1387656 | J11: ='New GDP CP 2022 '!J11/'New GDP CP 2022 '!$J$27*100 -> 2.6757254 | K11: ='New GDP CP 2022 '!K11/'New GDP CP 2022 '!$K$27*100 -> 3.2745647
A12: Information and Communication | B12: ='New GDP CP 2022 '!B12/'New GDP CP 2022 '!$B$27*100 -> 4.5339798 | C12: ='New GDP CP 2022 '!C12/'New GDP CP 2022 '!$C$27*100 -> 2.9305567 | D12: ='New GDP CP 2022 '!D12/'New GDP CP 2022 '!$D$27*100 -> 2.1909351 | E12: ='New GDP CP 2022 '!E12/'New GDP CP 2022 '!$E$27*100 -> 3.1794797 | F12: ='New GDP CP 2022 '!F12/'New GDP CP 2022 '!$F$27*100 -> 2.3316151 | G12: ='New GDP CP 2022 '!G12/'New GDP CP 2022 '!$G$27*100 -> 2.3806627 | H12: ='New GDP CP 2022 '!H12/'New GDP CP 2022 '!$H$27*100 -> 3.5338143 | I12: ='New GDP CP 2022 '!I12/'New GDP CP 2022 '!$I$27*100 -> 2.1489081 | J12: ='New GDP CP 2022 '!J12/'New GDP CP 2022 '!$J$27*100 -> 3.5315254 | K12: ='New GDP CP 2022 '!K12/'New GDP CP 2022 '!$K$27*100 -> 3.9304948
A13: Financial and Insurance Activities | B13: ='New GDP CP 2022 '!B13/'New GDP CP 2022 '!$B$27*100 -> 9.4980793 | C13: ='New GDP CP 2022 '!C13/'New GDP CP 2022 '!$C$27*100 -> 5.3913758 | D13: ='New GDP CP 2022 '!D13/'New GDP CP 2022 '!$D$27*100 -> 5.5502086 | E13: ='New GDP CP 2022 '!E13/'New GDP CP 2022 '!$E$27*100 -> 4.7832734 | F13: ='New GDP CP 2022 '!F13/'New GDP CP 2022 '!$F$27*100 -> 6.9395537 | G13: ='New GDP CP 2022 '!G13/'New GDP CP 2022 '!$G$27*100 -> 7.564213 | H13: ='New GDP CP 2022 '!H13/'New GDP CP 2022 '!$H$27*100 -> 4.7626152 | I13: ='New GDP CP 2022 '!I13/'New GDP CP 2022 '!$I$27*100 -> 6.6084574 | J13: ='New GDP CP 2022 '!J13/'New GDP CP 2022 '!$J$27*100 -> 5.6752847 | K13: ='New GDP CP 2022 '!K13/'New GDP CP 2022 '!$K$27*100 -> 9.1597573
A14: Real Estate Activities | B14: ='New GDP CP 2022 '!B14/'New GDP CP 2022 '!$B$27*100 -> 4.1769757 | C14: ='New GDP CP 2022 '!C14/'New GDP CP 2022 '!$C$27*100 -> 3.5241765 | D14: ='New GDP CP 2022 '!D14/'New GDP CP 2022 '!$D$27*100 -> 3.0808977 | E14: ='New GDP CP 2022 '!E14/'New GDP CP 2022 '!$E$27*100 -> 4.169198 | F14: ='New GDP CP 2022 '!F14/'New GDP CP 2022 '!$F$27*100 -> 2.7551725 | G14: ='New GDP CP 2022 '!G14/'New GDP CP 2022 '!$G$27*100 -> 2.0969525 | H14: ='New GDP CP 2022 '!H14/'New GDP CP 2022 '!$H$27*100 -> 3.5481444 | I14: ='New GDP CP 2022 '!I14/'New GDP CP 2022 '!$I$27*100 -> 3.3878546 | J14: ='New GDP CP 2022 '!J14/'New GDP CP 2022 '!$J$27*100 -> 4.6382954 | K14: ='New GDP CP 2022 '!K14/'New GDP CP 2022 '!$K$27*100 -> 4.0803694
... A27: GDP at Market Prices | B27: ='New GDP CP 2022 '!B27/'New GDP CP 2022 '!$B$27*100 -> 100 | C27: ='New GDP CP 2022 '!C27/'New GDP CP 2022 '!$C$27*100 -> 100 | D27: ='New GDP CP 2022 '!D27/'New GDP CP 2022 '!$D$27*100 -> 100 | E27: ='New GDP CP 2022 '!E27/'New GDP CP 2022 '!$E$27*100 -> 100 | F27: ='New GDP CP 2022 '!F27/'New GDP CP 2022 '!$F$27*100 -> 100 | G27: ='New GDP CP 2022 '!G27/'New GDP CP 2022 '!$G$27*100 -> 100 | H27: ='New GDP CP 2022 '!H27/'New GDP CP 2022 '!$H$27*100 -> 100 | I27: ='New GDP CP 2022 '!I27/'New GDP CP 2022 '!$I$27*100 -> 100 | J27: ='New GDP CP 2022 '!J27/'New GDP CP 2022 '!$J$27*100 -> 100 | K27: ='New GDP CP 2022 '!K27/'New GDP CP 2022 '!$K$27*100 -> 100

Sheet New GDP KP 2022 Growth Rate 
A1: Table 1.5: Gross Domestic Growth Rates, 2022
A2: Industry | B2: Bulawayo | C2: Manicaland | D2: Mash. Central | E2: Mash. East | F2: Mash. West | G2: Mat. North | H2: Mat. South | I2: Midlands | J2: Masvingo | K2: Harare | L2: Total
A3: Agriculture, Forestry and Fishing | B3: ='New GDP KP 2022'!B3/'New GDP KP 2021 '!B3*100-100 -> 0.43390243 | C3: ='New GDP KP 2022'!C3/'New GDP KP 2021 '!C3*100-100 -> 8.176478 | D3: ='New GDP KP 2022'!D3/'New GDP KP 2021 '!D3*100-100 -> 4.3650717 | E3: ='New GDP KP 2022'!E3/'New GDP KP 2021 '!E3*100-100 -> 7.515029 | F3: ='New GDP KP 2022'!F3/'New GDP KP 2021 '!F3*100-100 -> 5.5198676 | G3: ='New GDP KP 2022'!G3/'New GDP KP 2021 '!G3*100-100 -> 3.4314852 | H3: ='New GDP KP 2022'!H3/'New GDP KP 2021 '!H3*100-100 -> 1.5126175 | I3: ='New GDP KP 2022'!I3/'New GDP KP 2021 '!I3*100-100 -> 9.0130331 | ... L3: ='New GDP KP 2022'!L3/'New GDP KP 2021 '!L3*100-100 -> 6.1496822
A4: Mining and Quarrying | B4: ='New GDP KP 2022'!B4/'New GDP KP 2021 '!B4*100-100 -> 3.6501057 | C4: ='New GDP KP 2022'!C4/'New GDP KP 2021 '!C4*100-100 -> 6.4881222 | D4: ='New GDP KP 2022'!D4/'New GDP KP 2021 '!D4*100-100 -> 10.496631 | E4: ='New GDP KP 2022'!E4/'New GDP KP 2021 '!E4*100-100 -> 8.7118121 | F4: ='New GDP KP 2022'!F4/'New GDP KP 2021 '!F4*100-100 -> 2.8777021 | G4: ='New GDP KP 2022'!G4/'New GDP KP 2021 '!G4*100-100 -> 11.685051 | H4: ='New GDP KP 2022'!H4/'New GDP KP 2021 '!H4*100-100 -> 4.8881122 | I4: ='New GDP KP 2022'!I4/'New GDP KP 2021 '!I4*100-100 -> 25.58014 | ... L4: ='New GDP KP 2022'!L4/'New GDP KP 2021 '!L4*100-100 -> 10.496631
A5: Manufacturing | B5: ='New GDP KP 2022'!B5/'New GDP KP 2021 '!B5*100-100 -> 1.3501137 | C5: ='New GDP KP 2022'!C5/'New GDP KP 2021 '!C5*100-100 -> 0.24565262 | D5: ='New GDP KP 2022'!D5/'New GDP KP 2021 '!D5*100-100 -> 4.4297992 | E5: ='New GDP KP 2022'!E5/'New GDP KP 2021 '!E5*100-100 -> -1.4564248 | F5: ='New GDP KP 2022'!F5/'New GDP KP 2021 '!F5*100-100 -> -0.30827275 | G5: ='New GDP KP 2022'!G5/'New GDP KP 2021 '!G5*100-100 -> 5.1714249 | H5: ='New GDP KP 2022'!H5/'New GDP KP 2021 '!H5*100-100 -> 3.7944461 | I5: ='New GDP KP 2022'!I5/'New GDP KP 2021 '!I5*100-100 -> 2.3839803 | ... L5: ='New GDP KP 2022'!L5/'New GDP KP 2021 '!L5*100-100 -> 1.3501136
A6: Electricity, Gas, Steam and Air Conditioning Supply | B6: ='New GDP KP 2022'!B6/'New GDP KP 2021 '!B6*100-100 -> -96.158968 | C6: ='New GDP KP 2022'!C6/'New GDP KP 2021 '!C6*100-100 -> -64.556949 | D6: ='New GDP KP 2022'!D6/'New GDP KP 2021 '!D6*100-100 -> -96.185478 | E6: ='New GDP KP 2022'!E6/'New GDP KP 2021 '!E6*100-100 -> -98.341193 | F6: ='New GDP KP 2022'!F6/'New GDP KP 2021 '!F6*100-100 -> 70.078062 | G6: ='New GDP KP 2022'!G6/'New GDP KP 2021 '!G6*100-100 -> 40.48024 | H6: ='New GDP KP 2022'!H6/'New GDP KP 2021 '!H6*100-100 -> -84.022346 | I6: ='New GDP KP 2022'!I6/'New GDP KP 2021 '!I6*100-100 -> -81.54911 | ... L6: ='New GDP KP 2022'!L6/'New GDP KP 2021 '!L6*100-100 -> 3.5530103
A7: Water Supply; Sewerage, Waste Management & Remediation Activities | B7: ='New GDP KP 2022'!B7/'New GDP KP 2021 '!B7*100-100 -> -4.1685915 | C7: ='New GDP KP 2022'!C7/'New GDP KP 2021 '!C7*100-100 -> 4.9086822 | D7: ='New GDP KP 2022'!D7/'New GDP KP 2021 '!D7*100-100 -> 8.0333446 | E7: ='New GDP KP 2022'!E7/'New GDP KP 2021 '!E7*100-100 -> 4.521026 | F7: ='New GDP KP 2022'!F7/'New GDP KP 2021 '!F7*100-100 -> 12.570792 | G7: ='New GDP KP 2022'!G7/'New GDP KP 2021 '!G7*100-100 -> -3.3750787 | H7: ='New GDP KP 2022'!H7/'New GDP KP 2021 '!H7*100-100 -> 5.5655617 | I7: ='New GDP KP 2022'!I7/'New GDP KP 2021 '!I7*100-100 -> 5.7424732 | ... L7: ='New GDP KP 2022'!L7/'New GDP KP 2021 '!L7*100-100 -> 1.6968988
A8: Construction | B8: ='New GDP KP 2022'!B8/'New GDP KP 2021 '!B8*100-100 -> -0.36378405 | C8: ='New GDP KP 2022'!C8/'New GDP KP 2021 '!C8*100-100 -> -1.1600335 | D8: ='New GDP KP 2022'!D8/'New GDP KP 2021 '!D8*100-100 -> -1.1172676 | E8: ='New GDP KP 2022'!E8/'New GDP KP 2021 '!E8*100-100 -> -1.6005525 | F8: ='New GDP KP 2022'!F8/'New GDP KP 2021 '!F8*100-100 -> 3.1998405 | G8: ='New GDP KP 2022'!G8/'New GDP KP 2021 '!G8*100-100 -> -0.94271859 | H8: ='New GDP KP 2022'!H8/'New GDP KP 2021 '!H8*100-100 -> -3.3751331 | I8: ='New GDP KP 2022'!I8/'New GDP KP 2021 '!I8*100-100 -> -0.83323722 | ... L8: ='New GDP KP 2022'!L8/'New GDP KP 2021 '!L8*100-100 -> 0.25175288
A9: Wholesale and Retail Trade; Repair of Motor Vehicles and Motorcycles | B9: ='New GDP KP 2022'!B9/'New GDP KP 2021 '!B9*100-100 -> 1.2669739 | C9: ='New GDP KP 2022'!C9/'New GDP KP 2021 '!C9*100-100 -> 2.4872951 | D9: ='New GDP KP 2022'!D9/'New GDP KP 2021 '!D9*100-100 -> 1.6984553 | E9: ='New GDP KP 2022'!E9/'New GDP KP 2021 '!E9*100-100 -> 2.4215684 | F9: ='New GDP KP 2022'!F9/'New GDP KP 2021 '!F9*100-100 -> 4.6106947 | G9: ='New GDP KP 2022'!G9/'New GDP KP 2021 '!G9*100-100 -> 5.287165 | H9: ='New GDP KP 2022'!H9/'New GDP KP 2021 '!H9*100-100 -> 4.2027637 | I9: ='New GDP KP 2022'!I9/'New GDP KP 2021 '!I9*100-100 -> 5.8525084 | ... L9: ='New GDP KP 2022'!L9/'New GDP KP 2021 '!L9*100-100 -> 4.6106946
A10: Transportation and Storage | B10: ='New GDP KP 2022'!B10/'New GDP KP 2021 '!B10*100-100 -> 5.9505423 | C10: ='New GDP KP 2022'!C10/'New GDP KP 2021 '!C10*100-100 -> 7.8460454 | D10: ='New GDP KP 2022'!D10/'New GDP KP 2021 '!D10*100-100 -> 2.9842474 | E10: ='New GDP KP 2022'!E10/'New GDP KP 2021 '!E10*100-100 -> 3.5882719 | F10: ='New GDP KP 2022'!F10/'New GDP KP 2021 '!F10*100-100 -> 4.2550265 | G10: ='New GDP KP 2022'!G10/'New GDP KP 2021 '!G10*100-100 -> 2.4298401 | H10: ='New GDP KP 2022'!H10/'New GDP KP 2021 '!H10*100-100 -> 3.2029226 | I10: ='New GDP KP 2022'!I10/'New GDP KP 2021 '!I10*100-100 -> 5.1360003 | ... L10: ='New GDP KP 2022'!L10/'New GDP KP 2021 '!L10*100-100 -> 6.493783
A11: Accommodation and Food Service Activities | B11: ='New GDP KP 2022'!B11/'New GDP KP 2021 '!B11*100-100 -> 18.615573 | C11: ='New GDP KP 2022'!C11/'New GDP KP 2021 '!C11*100-100 -> 14.337416 | D11: ='New GDP KP 2022'!D11/'New GDP KP 2021 '!D11*100-100 -> 11.212394 | E11: ='New GDP KP 2022'!E11/'New GDP KP 2021 '!E11*100-100 -> 14.041311 | F11: ='New GDP KP 2022'!F11/'New GDP KP 2021 '!F11*100-100 -> 19.721004 | G11: ='New GDP KP 2022'!G11/'New GDP KP 2021 '!G11*100-100 -> 45.750929 | H11: ='New GDP KP 2022'!H11/'New GDP KP 2021 '!H11*100-100 -> 11.963712 | I11: ='New GDP KP 2022'!I11/'New GDP KP 2021 '!I11*100-100 -> 18.197669 | ... L11: ='New GDP KP 2022'!L11/'New GDP KP 2021 '!L11*100-100 -> 23.684479
A12: Information and Communication | B12: ='New GDP KP 2022'!B12/'New GDP KP 2021 '!B12*100-100 -> 11.559364 | C12: ='New GDP KP 2022'!C12/'New GDP KP 2021 '!C12*100-100 -> 12.774327 | D12: ='New GDP KP 2022'!D12/'New GDP KP 2021 '!D12*100-100 -> 8.6011042 | E12: ='New GDP KP 2022'!E12/'New GDP KP 2021 '!E12*100-100 -> 7.4981247 | F12: ='New GDP KP 2022'!F12/'New GDP KP 2021 '!F12*100-100 -> 13.737506 | G12: ='New GDP KP 2022'!G12/'New GDP KP 2021 '!G12*100-100 -> 8.9771866 | H12: ='New GDP KP 2022'!H12/'New GDP KP 2021 '!H12*100-100 -> 7.1663787 | I12: ='New GDP KP 2022'!I12/'New GDP KP 2021 '!I12*100-100 -> 15.627502 | ... L12: ='New GDP KP 2022'!L12/'New GDP KP 2021 '!L12*100-100 -> 14.106193
A13: Financial and Insurance Activities | B13: ='New GDP KP 2022'!B13/'New GDP KP 2021 '!B13*100-100 -> 14.236057 | C13: ='New GDP KP 2022'!C13/'New GDP KP 2021 '!C13*100-100 -> 17.306383 | D13: ='New GDP KP 2022'!D13/'New GDP KP 2021 '!D13*100-100 -> 10.681818 | E13: ='New GDP KP 2022'!E13/'New GDP KP 2021 '!E13*100-100 -> 13.047798 | F13: ='New GDP KP 2022'!F13/'New GDP KP 2021 '!F13*100-100 -> 16.719288 | G13: ='New GDP KP 2022'!G13/'New GDP KP 2021 '!G13*100-100 -> 8.4536808 | H13: ='New GDP KP 2022'!H13/'New GDP KP 2021 '!H13*100-100 -> 6.1786823 | I13: ='New GDP KP 2022'!I13/'New GDP KP 2021 '!I13*100-100 -> 9.3592949 | ... L13: ='New GDP KP 2022'!L13/'New GDP KP 2021 '!L13*100-100 -> 15.625474
A14: Real Estate Activities | B14: ='New GDP KP 2022'!B14/'New GDP KP 2021 '!B14*100-100 -> 2.6605913 | C14: ='New GDP KP 2022'!C14/'New GDP KP 2021 '!C14*100-100 -> -0.33331416 | D14: ='New GDP KP 2022'!D14/'New GDP KP 2021 '!D14*100-100 -> -1.8893992 | E14: ='New GDP KP 2022'!E14/'New GDP KP 2021 '!E14*100-100 -> -2.4743818 | F14: ='New GDP KP 2022'!F14/'New GDP KP 2021 '!F14*100-100 -> -4.4582072 | G14: ='New GDP KP 2022'!G14/'New GDP KP 2021 '!G14*100-100 -> 3.2260485 | H14: ='New GDP KP 2022'!H14/'New GDP KP 2021 '!H14*100-100 -> 0.92285146 | I14: ='New GDP KP 2022'!I14/'New GDP KP 2021 '!I14*100-100 -> 1.0623944 | ... L14: ='New GDP KP 2022'!L14/'New GDP KP 2021 '!L14*100-100 -> 0.18819185
... A27: GDP at Market Prices | B27: ='New GDP KP 2022'!B27/'New GDP KP 2021 '!B27*100-100 -> 1.7355653 | C27: ='New GDP KP 2022'!C27/'New GDP KP 2021 '!C27*100-100 -> 4.45159 | D27: ='New GDP KP 2022'!D27/'New GDP KP 2021 '!D27*100-100 -> 3.4902858 | E27: ='New GDP KP 2022'!E27/'New GDP KP 2021 '!E27*100-100 -> 3.09344 | F27: ='New GDP KP 2022'!F27/'New GDP KP 2021 '!F27*100-100 -> 12.308351 | G27: ='New GDP KP 2022'!G27/'New GDP KP 2021 '!G27*100-100 -> 13.187093 | H27: ='New GDP KP 2022'!H27/'New GDP KP 2021 '!H27*100-100 -> 2.3668835 | I27: ='New GDP KP 2022'!I27/'New GDP KP 2021 '!I27*100-100 -> 8.7496859 | ... L27: ='New GDP KP 2022'!L27/'New GDP KP 2021 '!L27*100-100 -> 6.1392633

Sheet New GDP 2023 CP
A1: Table 1.1: Gross Domestic Product by Industry at Current Prices in Zimbabwean Dollars 2023 ZWL
A2: Industry | B2: Bulawayo | C2: Manicaland | D2: Mash. Central | E2: Mash. East | F2: Mash. West | G2: Mat. North | H2: Mat. South | I2: Midlands | J2: Masvingo | K2: Harare | L2: Total
A3: Agriculture, Hunting and Fishing and forestry | B3: 1.6134735e+11 | C3: 1.1308406e+12 | D3: 1.2372312e+12 | E3: 1.1118171e+12 | F3: 1.1815699e+12 | G3: 2.6914711e+11 | H3: 1.5500619e+11 | I3: 8.060322e+11 | J3: 8.1237336e+11 | K3: 1.8037084e+11 | L3: 7.045736e+12
A4: Mining and Quarrying | B4: 1.0300616e+11 | C4: 9.5975043e+11 | D4: 1.0090877e+12 | E4: 5.8689239e+11 | F4: 2.1111703e+12 | G4: 8.4774523e+11 | H4: 9.1228258e+11 | I4: 3.2438733e+12 | J4: 6.4763759e+11 | K4: 1.6167452e+11 | L4: 1.058312e+13
A5: Manufacturing | B5: 4.4662808e+12 | C5: 2.3038626e+12 | D5: 1.1216999e+12 | E5: 1.8659931e+12 | F5: 2.0319382e+12 | G5: 1.297395e+12 | H5: 1.0865934e+12 | I5: 2.6410228e+12 | J5: 1.9145129e+12 | K5: 9.4475729e+12 | L5: 2.8176872e+13
A6: Electricity, Gas, Steam and Air Conditioning Supply | B6: 2.3744293e+11 | C6: 2.0456724e+11 | D6: 1.3233822e+11 | E6: 1.2889474e+11 | F6: 1.1707311e+12 | G6: 7.3389879e+11 | H6: 1.2360807e+11 | I6: 1.3706088e+11 | J6: 1.6714451e+11 | K6: 2.4818162e+11 | L6: 3.2838681e+12
A7: Water Supply; Sewerage, Waste Management & Remediation Activities | B7: 3.187623e+11 | C7: 9.9028041e+10 | D7: 2.1811526e+10 | E7: 5.3639274e+10 | F7: 9.0534121e+10 | G7: 3.05092e+10 | H7: 3.3750761e+10 | I7: 1.7491676e+11 | J7: 8.2570917e+10 | K7: 5.4379437e+11 | L7: 1.4493173e+12
A8: Construction | B8: 2.7067863e+11 | C8: 1.0331985e+11 | D8: 8.2698284e+10 | E8: 8.9835731e+10 | F8: 1.1604053e+11 | G8: 8.5699173e+10 | H8: 7.537106e+10 | I8: 1.7648052e+11 | J8: 9.4021505e+10 | K8: 5.1951348e+11 | L8: 1.6136588e+12
A9: Wholesale and Retail Trade; Repair of Motor Vehicles and Motorcycles | B9: 6.8047443e+12 | C9: 3.3644604e+12 | D9: 1.2114697e+12 | E9: 1.4433294e+12 | F9: 2.0228806e+12 | G9: 1.0519686e+12 | H9: 1.7343607e+12 | I9: 2.7551308e+12 | J9: 2.351636e+12 | K9: 9.2071759e+12 | L9: 3.1947156e+13
A10: Transportation and Storage | B10: 6.5883336e+11 | C10: 5.0981396e+11 | D10: 2.6845025e+11 | E10: 4.0415605e+11 | F10: 5.2280499e+11 | G10: 3.2942756e+11 | H10: 3.5101078e+11 | I10: 4.8756351e+11 | J10: 5.3628057e+11 | K10: 1.7913977e+12 | L10: 5.8597387e+12
A11: Accommodation and Food Service Activities | B11: 7.2977048e+11 | C11: 3.5866657e+11 | D11: 1.982207e+11 | E11: 2.068348e+11 | F11: 4.691453e+11 | G11: 4.9147474e+11 | H11: 2.2458861e+11 | I11: 4.3846332e+11 | J11: 3.3605093e+11 | K11: 1.3039728e+12 | L11: 4.7571882e+12
A12: Information and Communication | B12: 7.1720374e+11 | C12: 3.2401232e+11 | D12: 1.6827091e+11 | E12: 2.5971971e+11 | F12: 3.2639103e+11 | G12: 1.7616911e+11 | H12: 2.2638639e+11 | I12: 3.059336e+11 | J12: 3.164984e+11 | K12: 1.0517346e+12 | L12: 3.8723198e+12
A13: Financial and Insurance Activities | B13: 3.5306388e+12 | C13: 1.5699935e+12 | D13: 9.7928034e+11 | E13: 1.0028819e+12 | F13: 2.4211984e+12 | G13: 1.3885057e+12 | H13: 8.467843e+11 | I13: 2.3775734e+12 | J13: 1.2650541e+12 | K13: 6.4881034e+12 | L13: 2.1870014e+13
A14: Real Estate Activities | B14: 5.456218e+11 | C14: 3.4082985e+11 | D14: 1.9298594e+11 | E14: 2.7970461e+11 | F14: 3.2110985e+11 | G14: 1.1528891e+11 | H14: 1.7491813e+11 | I14: 3.705672e+11 | J14: 3.5930473e+11 | K14: 1.0045083e+12 | L14: 3.7048394e+12
... A22: Activities of Households as Employers | B22: 1.4251038e+09 | C22: 4.2748049e+08 | D22: 1.5078615e+08 | E22: 3.0897883e+08 | F22: 4.289853e+08 | G22: 2.2774753e+08 | H22: 4.0286052e+08 | I22: 5.3959954e+08 | J22: 7.7623679e+08 | K22: 3.8891416e+09 | L22: 8.5769206e+09
A23: GDP at Basic Prices | B23: =SUM(B3:B22) -> 2.2863344e+13 | C23: =SUM(C3:C22) -> 1.4244297e+13 | D23: =SUM(D3:D22) -> 8.0117628e+12 | E23: =SUM(E3:E22) -> 9.6359829e+12 | F23: =SUM(F3:F22) -> 1.6037437e+13 | G23: =SUM(G3:G22) -> 7.8484897e+12 | H23: =SUM(H3:H22) -> 7.8023355e+12 | I23: =SUM(I3:I22) -> 1.7146869e+13 | ... L23: =SUM(L3:L22) -> 1.5918821e+14
A24: Net Taxes on Products | B24: =B25-B26 -> 1.0744096e+12 | C24: =C25-C26 -> 8.7917104e+11 | D24: =D25-D26 -> 5.3564856e+11 | E24: =E25-E26 -> 7.4137184e+11 | F24: =F25-F26 -> 8.443975e+11 | G24: =G25-G26 -> 3.5975892e+11 | H24: =H25-H26 -> 3.4943854e+11 | I24: =I25-I26 -> 9.4136732e+11 | ... L24: =L25-L26 -> 9.5998417e+12
A25: Taxes on Products | B25: 1.098343e+12 | C25: 8.9800304e+11 | D25: 5.4234798e+11 | E25: 7.5574757e+11 | F25: 8.6476177e+11 | G25: 3.6353283e+11 | H25: 3.7036967e+11 | I25: 9.6459522e+11 | J25: 8.0723561e+11 | K25: 3.1602442e+12 | L25: 9.8251809e+12
A26: Less Subsidies on Products | B26: 2.3933458e+10 | C26: 1.8832003e+10 | D26: 6.6994208e+09 | E26: 1.4375727e+10 | F26: 2.0364265e+10 | G26: 3.7739052e+09 | H26: 2.0931131e+10 | I26: 2.3227895e+10 | J26: 2.2629042e+10 | K26: 7.0572349e+10 | L26: 2.253392e+11
A27: GDP at Market Prices ZWL | B27: =B23+B24 -> 2.3937753e+13 | C27: =C23+C24 -> 1.5123468e+13 | D27: =D23+D24 -> 8.5474114e+12 | E27: =E23+E24 -> 1.0377355e+13 | F27: =F23+F24 -> 1.6881835e+13 | G27: =G23+G24 -> 8.2082487e+12 | H27: =H23+H24 -> 8.1517741e+12 | I27: =I23+I24 -> 1.8088236e+13 | ... L27: =L23+L24 -> 1.6878805e+14
A28: Population (absolute figures) | B28: 666561 | C28: 2088711 | D28: 1413625 | E28: 1770796 | F28: 1931750 | G28: 836346 | H28: 761716 | I28: 1843279 | J28: 1664789 | K28: 2449050 | L28: 15426623
A29: GDP per capita | B29: 35912322 | C29: 7240574.6 | D29: 6046448.9 | E29: 5860276.8 | F29: 8739140.4 | G29: 9814417.3 | H29: 10701855 | I29: 9813075.7 | J29: 7481736.3 | K29: 19197835 | L29: 10941348
A30: Exchange Rate ZW :1 USD | B30: 3795.01 | C30: 3795.01 | D30: 3795.01 | E30: 3795.01 | F30: 3795.01 | G30: 3795.01 | H30: 3795.01 | I30: 3795.01 | J30: 3795.01 | K30: 3795.01 | L30: 3795.01
A31: Per Capita GDP in USD | B31: 9463.0376 | C31: 1907.9198 | D31: 1593.263 | E31: 1544.2059 | F31: 2302.7977 | G31: 2586.1374 | H31: 2819.9807 | I31: 2585.7839 | J31: 1971.4668 | K31: 5058.7046 | L31: 2883.088
A65: Population (absolute figures) Old | B65: 679271.04 | C65: 2078457.1 | D65: 1412588.8 | E65: 1765796.5 | F65: 1931455.7 | G65: 844197.9 | H65: 775551.9 | I65: 1848143.1 | J65: 1671298.6 | K65: 2475775.6 | L65: 15482536
B66: 35912322 | C66: 7240574.6 | D66: 6046448.9 | E66: 5860276.8 | F66: 8739140.4 | G66: 9814417.3 | H66: 10701855 | I66: 9813075.7 | J66: 7481736.3 | K66: 19197835 | L66: 10941348
B67: 9463.0376 | C67: 1907.9198 | D67: 1593.263 | E67: 1544.2059 | F67: 2302.7977 | G67: 2586.1374 | H67: 2819.9807 | I67: 2585.7839 | J67: 1971.4668 | K67: 5058.7046 | L67: 2883.088
A68: GDP at Market Prices

Sheet % New GDP CP Contri 2023
A1: Table 1.2: Gross Domestic Product by Industry at Current Prices in Zimbabwean Dollars 2023
A2: Industry | B2: Bulawayo | C2: Manicaland | D2: Mash. Central | E2: Mash. East | F2: Mash. West | G2: Mat. North | H2: Mat. South | I2: Midlands | J2: Masvingo | K2: Harare | L2: Total
A3: Agriculture, Hunting and Fishing and forestry | B3: ='New GDP 2023 CP'!B3/'New GDP 2023 CP'!$L$3*100 -> 2.29 | C3: ='New GDP 2023 CP'!C3/'New GDP 2023 CP'!$L$3*100 -> 16.05 | D3: ='New GDP 2023 CP'!D3/'New GDP 2023 CP'!$L$3*100 -> 17.56 | E3: ='New GDP 2023 CP'!E3/'New GDP 2023 CP'!$L$3*100 -> 15.78 | F3: ='New GDP 2023 CP'!F3/'New GDP 2023 CP'!$L$3*100 -> 16.77 | G3: ='New GDP 2023 CP'!G3/'New GDP 2023 CP'!$L$3*100 -> 3.82 | H3: ='New GDP 2023 CP'!H3/'New GDP 2023 CP'!$L$3*100 -> 2.2 | I3: ='New GDP 2023 CP'!I3/'New GDP 2023 CP'!$L$3*100 -> 11.44 | ... L3: ='New GDP 2023 CP'!L3/'New GDP 2023 CP'!$L$3*100 -> 100
A4: Mining and Quarrying | B4: ='New GDP 2023 CP'!B4/'New GDP 2023 CP'!$L$4*100 -> 0.97330616 | C4: ='New GDP 2023 CP'!C4/'New GDP 2023 CP'!$L$4*100 -> 9.0686905 | D4: ='New GDP 2023 CP'!D4/'New GDP 2023 CP'!$L$4*100 -> 9.5348792 | E4: ='New GDP 2023 CP'!E4/'New GDP 2023 CP'!$L$4*100 -> 5.5455515 | F4: ='New GDP 2023 CP'!F4/'New GDP 2023 CP'!$L$4*100 -> 19.948468 | G4: ='New GDP 2023 CP'!G4/'New GDP 2023 CP'!$L$4*100 -> 8.0103523 | H4: ='New GDP 2023 CP'!H4/'New GDP 2023 CP'!$L$4*100 -> 8.6201664 | I4: ='New GDP 2023 CP'!I4/'New GDP 2023 CP'!$L$4*100 -> 30.651389 | ... L4: ='New GDP 2023 CP'!L4/'New GDP 2023 CP'!$L$4*100 -> 100
A5: Manufacturing | B5: ='New GDP 2023 CP'!B5/'New GDP 2023 CP'!$L$5*100 -> 15.850875 | C5: ='New GDP 2023 CP'!C5/'New GDP 2023 CP'!$L$5*100 -> 8.1764314 | D5: ='New GDP 2023 CP'!D5/'New GDP 2023 CP'!$L$5*100 -> 3.9809241 | E5: ='New GDP 2023 CP'!E5/'New GDP 2023 CP'!$L$5*100 -> 6.6224282 | F5: ='New GDP 2023 CP'!F5/'New GDP 2023 CP'!$L$5*100 -> 7.2113689 | G5: ='New GDP 2023 CP'!G5/'New GDP 2023 CP'!$L$5*100 -> 4.6044679 | H5: ='New GDP 2023 CP'!H5/'New GDP 2023 CP'!$L$5*100 -> 3.856331 | I5: ='New GDP 2023 CP'!I5/'New GDP 2023 CP'!$L$5*100 -> 9.3730165 | ... L5: ='New GDP 2023 CP'!L5/'New GDP 2023 CP'!$L$5*100 -> 100
A6: Electricity, Gas, Steam and Air Conditioning Supply | B6: ='New GDP 2023 CP'!B6/'New GDP 2023 CP'!$L$6*100 -> 7.2305869 | C6: ='New GDP 2023 CP'!C6/'New GDP 2023 CP'!$L$6*100 -> 6.2294598 | D6: ='New GDP 2023 CP'!D6/'New GDP 2023 CP'!$L$6*100 -> 4.0299493 | E6: ='New GDP 2023 CP'!E6/'New GDP 2023 CP'!$L$6*100 -> 3.9250888 | F6: ='New GDP 2023 CP'!F6/'New GDP 2023 CP'!$L$6*100 -> 35.650977 | G6: ='New GDP 2023 CP'!G6/'New GDP 2023 CP'!$L$6*100 -> 22.348608 | H6: ='New GDP 2023 CP'!H6/'New GDP 2023 CP'!$L$6*100 -> 3.7640997 | I6: ='New GDP 2023 CP'!I6/'New GDP 2023 CP'!$L$6*100 -> 4.1737633 | ... L6: ='New GDP 2023 CP'!L6/'New GDP 2023 CP'!$L$6*100 -> 100
A7: Water Supply; Sewerage, Waste Management & Remediation Activities | B7: ='New GDP 2023 CP'!B7/'New GDP 2023 CP'!$L$7*100 -> 21.993963 | C7: ='New GDP 2023 CP'!C7/'New GDP 2023 CP'!$L$7*100 -> 6.8327372 | D7: ='New GDP 2023 CP'!D7/'New GDP 2023 CP'!$L$7*100 -> 1.5049518 | E7: ='New GDP 2023 CP'!E7/'New GDP 2023 CP'!$L$7*100 -> 3.7010029 | F7: ='New GDP 2023 CP'!F7/'New GDP 2023 CP'!$L$7*100 -> 6.2466737 | G7: ='New GDP 2023 CP'!G7/'New GDP 2023 CP'!$L$7*100 -> 2.1050739 | H7: ='New GDP 2023 CP'!H7/'New GDP 2023 CP'!$L$7*100 -> 2.3287352 | I7: ='New GDP 2023 CP'!I7/'New GDP 2023 CP'!$L$7*100 -> 12.068907 | ... L7: ='New GDP 2023 CP'!L7/'New GDP 2023 CP'!$L$7*100 -> 100
A8: Construction | B8: ='New GDP 2023 CP'!B8/'New GDP 2023 CP'!$L$8*100 -> 16.774217 | C8: ='New GDP 2023 CP'!C8/'New GDP 2023 CP'!$L$8*100 -> 6.4028314 | D8: ='New GDP 2023 CP'!D8/'New GDP 2023 CP'!$L$8*100 -> 5.124893 | E8: ='New GDP 2023 CP'!E8/'New GDP 2023 CP'!$L$8*100 -> 5.5672074 | F8: ='New GDP 2023 CP'!F8/'New GDP 2023 CP'!$L$8*100 -> 7.1911445 | G8: ='New GDP 2023 CP'!G8/'New GDP 2023 CP'!$L$8*100 -> 5.3108609 | H8: ='New GDP 2023 CP'!H8/'New GDP 2023 CP'!$L$8*100 -> 4.6708178 | I8: ='New GDP 2023 CP'!I8/'New GDP 2023 CP'!$L$8*100 -> 10.936669 | ... L8: ='New GDP 2023 CP'!L8/'New GDP 2023 CP'!$L$8*100 -> 100
A9: Wholesale and Retail Trade; Repair of Motor Vehicles and Motorcycles | B9: ='New GDP 2023 CP'!B9/'New GDP 2023 CP'!$L$9*100 -> 21.3 | C9: ='New GDP 2023 CP'!C9/'New GDP 2023 CP'!$L$9*100 -> 10.53133 | D9: ='New GDP 2023 CP'!D9/'New GDP 2023 CP'!$L$9*100 -> 3.7921049 | E9: ='New GDP 2023 CP'!E9/'New GDP 2023 CP'!$L$9*100 -> 4.517865 | F9: ='New GDP 2023 CP'!F9/'New GDP 2023 CP'!$L$9*100 -> 6.3319581 | G9: ='New GDP 2023 CP'!G9/'New GDP 2023 CP'!$L$9*100 -> 3.2928396 | H9: ='New GDP 2023 CP'!H9/'New GDP 2023 CP'!$L$9*100 -> 5.4288422 | I9: ='New GDP 2023 CP'!I9/'New GDP 2023 CP'!$L$9*100 -> 8.6240251 | ... L9: ='New GDP 2023 CP'!L9/'New GDP 2023 CP'!$L$9*100 -> 100
A10: Transportation and Storage | B10: ='New GDP 2023 CP'!B10/'New GDP 2023 CP'!$L$10*100 -> 11.243391 | C10: ='New GDP 2023 CP'!C10/'New GDP 2023 CP'!$L$10*100 -> 8.7002848 | D10: ='New GDP 2023 CP'!D10/'New GDP 2023 CP'!$L$10*100 -> 4.5812666 | E10: ='New GDP 2023 CP'!E10/'New GDP 2023 CP'!$L$10*100 -> 6.8971685 | F10: ='New GDP 2023 CP'!F10/'New GDP 2023 CP'!$L$10*100 -> 8.9219847 | G10: ='New GDP 2023 CP'!G10/'New GDP 2023 CP'!$L$10*100 -> 5.6218814 | H10: ='New GDP 2023 CP'!H10/'New GDP 2023 CP'!$L$10*100 -> 5.9902121 | I10: ='New GDP 2023 CP'!I10/'New GDP 2023 CP'!$L$10*100 -> 8.3205674 | ... L10: ='New GDP 2023 CP'!L10/'New GDP 2023 CP'!$L$10*100 -> 100
