Workbook

Sheet GDP CP 2019
A1: Table 1.1 Gross Domestic Product at Current Prices by Industry by Province 2019 ZWL
A2: Industry | B2: Bulawayo | C2: Manicaland | D2: Mash. Central | E2: Mash. East | F2: Mash. West | G2: Mat. North | H2: Mat. South | I2: Midlands | J2: Masvingo | K2: Harare | L2: Total
A3: Agriculture, Forestry and Fishing | B3: 9.7409277e+08 | C3: 4.0635555e+09 | D3: 6.2535292e+09 | E3: 5.0045876e+09 | F3: 4.1779402e+09 | G3: 1.0544005e+09 | H3: 9.3687492e+08 | I3: 4.8662836e+09 | J3: 4.1644021e+09 | K3: 9.7409277e+08 | L3: 3.2469759e+10
A4: Mining and Quarrying | B4: 4.4945753e+08 | C4: 4.1877792e+09 | D4: 4.4030578e+09 | E4: 1.2939295e+09 | F4: 1.0458707e+10 | G4: 3.6990552e+09 | H4: 3.9806577e+09 | I4: 7.5905731e+09 | J4: 2.9955345e+09 | K4: 7.2555287e+08 | L4: 3.9784305e+10
A5: Manufacturing | B5: 7.4546138e+09 | C5: 3.8453484e+09 | D5: 1.8722153e+09 | E5: 3.1145059e+09 | F5: 3.3914827e+09 | G5: 2.1654659e+09 | H5: 1.8136196e+09 | I5: 4.4080984e+09 | J5: 3.1954897e+09 | K5: 1.5768827e+10 | L5: 4.7029666e+10
A6: Electricity, Gas, Steam and Air Conditioning Supply | B6: 6.718097e+08 | C6: 5.7879279e+08 | D6: 3.7443144e+08 | E6: 3.6468862e+08 | F6: 3.3124106e+09 | G6: 2.0764582e+09 | H6: 3.4973077e+08 | I6: 3.8779351e+08 | J6: 4.729107e+08 | K6: 7.0219323e+08 | L6: 9.2912195e+09
A7: Water Supply; Sewerage, Waste Management & Remediation Activities | B7: 1.8255947e+08 | C7: 56714694 | D7: 12491755 | E7: 30719936 | F7: 51850111 | G7: 17473030 | H7: 19329516 | I7: 1.0017719e+08 | J7: 47289478 | K7: 3.1143837e+08 | L7: 8.3004354e+08
A8: Construction | B8: 1.5040252e+09 | C8: 5.740965e+08 | D8: 4.5951282e+08 | E8: 4.9917202e+08 | F8: 6.4477895e+08 | G8: 4.7618725e+08 | H8: 4.1879912e+08 | I8: 9.8061359e+08 | J8: 5.2243027e+08 | K8: 2.8866754e+09 | L8: 8.9662911e+09
A9: Wholesale and Retail Trade; Repair of Motor Vehicles and Motorcycles | B9: 1.3843497e+10 | C9: 6.8446211e+09 | D9: 2.4646006e+09 | E9: 2.9362934e+09 | F9: 4.1153259e+09 | G9: 2.1401134e+09 | H9: 3.5283643e+09 | I9: 5.6050077e+09 | J9: 4.7841424e+09 | K9: 1.8730977e+10 | L9: 6.4992943e+10
A10: Transportation and Storage | B10: 9.5247943e+08 | C10: 7.3704117e+08 | D10: 3.8810018e+08 | E10: 5.8429088e+08 | F10: 7.5582238e+08 | G10: 4.7625544e+08 | H10: 5.0745843e+08 | I10: 7.0487355e+08 | J10: 7.7530411e+08 | K10: 2.5898346e+09 | L10: 8.4714602e+09
A11: Accommodation and Food Service Activities | B11: 1.2737989e+09 | C11: 6.2604487e+08 | D11: 3.4599002e+08 | E11: 3.6102574e+08 | F11: 8.1888315e+08 | G11: 8.578587e+08 | H11: 3.9201464e+08 | I11: 7.6532841e+08 | J11: 5.8656975e+08 | K11: 2.2760567e+09 | L11: 8.3035709e+09
A12: Information and Communication | B12: 2.9855474e+09 | C12: 1.3487857e+09 | D12: 7.0047148e+08 | E12: 1.081151e+09 | F12: 1.3586877e+09 | G12: 7.3334983e+08 | H12: 9.4239233e+08 | I12: 1.2735283e+09 | J12: 1.3175071e+09 | K12: 4.3781191e+09 | L12: 1.611954e+10
A13: Financial and Insurance Activities | B13: 3.4901065e+09 | C13: 1.5519698e+09 | D13: 9.6803806e+08 | E13: 9.9136868e+08 | F13: 2.3934027e+09 | G13: 1.3725654e+09 | H13: 8.3706309e+08 | I13: 2.3502785e+09 | J13: 1.2505311e+09 | K13: 6.413619e+09 | L13: 2.1618943e+10
A14: Real Estate Activities | B14: 1.4203436e+09 | C14: 8.8723634e+08 | D14: 5.0237425e+08 | E14: 7.2811727e+08 | F14: 8.3590193e+08 | G14: 3.0011628e+08 | H14: 4.5534077e+08 | I14: 9.6464757e+08 | J14: 9.353295e+08 | K14: 2.6149008e+09 | L14: 9.6443083e+09
... A32: GDP at Market Prices USD | B32: 3.3783221e+09 | C32: 2.318843e+09 | D32: 1.615835e+09 | E32: 1.6890024e+09 | F32: 2.8445937e+09 | G32: 1.3175684e+09 | H32: 1.3042458e+09 | I32: 3.1517468e+09 | J32: 1.961193e+09 | K32: 6.1360603e+09 | L32: 2.5717411e+10

Sheet GDP KP 2019
A1: Table 1.2 Gross Domestic Product at Constant Prices by Industry by Province 2019 ZWL
A2: Industry | B2: Bulawayo | C2: Manicaland | D2: Mash. Central | E2: Mash. East | F2: Mash. West | G2: Mat. North | H2: Mat. South | I2: Midlands | J2: Masvingo | K2: Harare | L2: Total
A3: Agriculture, Forestry and Fishing | B3: 4.4252132e+11 | C3: 1.8460356e+12 | D3: 2.8409204e+12 | E3: 2.2735378e+12 | F3: 1.8979995e+12 | G3: 4.7900437e+11 | H3: 4.256136e+11 | I3: 2.2107076e+12 | J3: 1.8918493e+12 | K3: 4.4252132e+11 | L3: 1.4750711e+13
A4: Mining and Quarrying | B4: 2.0418439e+11 | C4: 2.0832057e+12 | D4: 1.819532e+12 | E4: 7.6855661e+11 | F4: 4.5705575e+12 | G4: 1.4997101e+12 | H4: 1.8083759e+12 | I4: 3.6290634e+12 | J4: 1.3608436e+12 | K4: 3.2961195e+11 | L4: 1.8073641e+13
A5: Manufacturing | B5: 3.386562e+12 | C5: 1.7469062e+12 | D5: 8.5053008e+11 | E5: 1.4148912e+12 | F5: 1.5407192e+12 | G5: 9.8375109e+11 | H5: 8.2391059e+11 | I5: 2.0025583e+12 | J5: 1.4516814e+12 | K5: 7.1636318e+12 | L5: 2.1365142e+13
A6: Electricity, Gas, Steam and Air Conditioning Supply | B6: 3.0519692e+11 | C6: 2.629402e+11 | D6: 1.7010073e+11 | E6: 1.6567466e+11 | F6: 1.5047974e+12 | G6: 9.4331573e+11 | H6: 1.5887945e+11 | I6: 1.76171e+11 | J6: 2.1483895e+11 | K6: 3.1899988e+11 | L6: 4.220915e+12
A7: Water Supply; Sewerage, Waste Management & Remediation Activities | B7: 8.2935075e+10 | C7: 2.576496e+10 | D7: 5.6748886e+09 | E7: 1.3955782e+10 | F7: 2.3555025e+10 | G7: 7.9378357e+09 | H7: 8.78122e+09 | I7: 4.5509568e+10 | J7: 2.1483172e+10 | K7: 1.4148357e+11 | L7: 3.7708109e+11
A8: Construction | B8: 6.8326469e+11 | C8: 2.6080672e+11 | D8: 2.0875242e+11 | E8: 2.2676923e+11 | F8: 2.929171e+11 | G8: 2.1632746e+11 | H8: 1.9025656e+11 | I8: 4.4548367e+11 | J8: 2.3733523e+11 | K8: 1.3113899e+12 | L8: 4.073303e+12
A9: Wholesale and Retail Trade; Repair of Motor Vehicles and Motorcycles | B9: 6.2889724e+12 | C9: 3.109448e+12 | D9: 1.1196452e+12 | E9: 1.3339309e+12 | F9: 1.8695544e+12 | G9: 9.7223369e+11 | H9: 1.6029032e+12 | I9: 2.5463031e+12 | J9: 2.1733916e+12 | K9: 8.5093094e+12 | L9: 2.9525692e+13
A10: Transportation and Storage | B10: 4.3270258e+11 | C10: 3.3483097e+11 | D10: 1.7631031e+11 | E10: 2.6543794e+11 | F10: 3.4336311e+11 | G10: 2.1635844e+11 | H10: 2.3053366e+11 | I10: 3.2021752e+11 | J10: 3.5221347e+11 | K10: 1.1765379e+12 | L10: 3.8485059e+12
A11: Accommodation and Food Service Activities | B11: 5.7867502e+11 | C11: 2.8440638e+11 | D11: 1.5718006e+11 | E11: 1.6401065e+11 | F11: 3.7201103e+11 | G11: 3.8971726e+11 | H11: 1.7808862e+11 | I11: 3.4768161e+11 | J11: 2.664732e+11 | K11: 1.0339915e+12 | L11: 3.7722353e+12
A12: Information and Communication | B12: 1.3563065e+12 | C12: 6.1274084e+11 | D12: 3.1821771e+11 | E12: 4.9115687e+11 | F12: 6.1723923e+11 | G12: 3.3315403e+11 | H12: 4.281201e+11 | I12: 5.7855212e+11 | J12: 5.9853125e+11 | K12: 1.9889389e+12 | L12: 7.3229576e+12
A13: Financial and Insurance Activities | B13: 1.5855231e+12 | C13: 7.0504548e+11 | D13: 4.3977072e+11 | E13: 4.5036961e+11 | F13: 1.0873007e+12 | G13: 6.2354375e+11 | H13: 3.8027001e+11 | I13: 1.0677098e+12 | J13: 5.6810471e+11 | K13: 2.9136477e+12 | L13: 9.8212855e+12
A14: Real Estate Activities | B14: 6.4524894e+11 | C14: 4.0306325e+11 | D14: 2.2822397e+11 | E14: 3.3077693e+11 | F14: 3.797425e+11 | G14: 1.3634005e+11 | H14: 2.0685709e+11 | I14: 4.3823045e+11 | J14: 4.2491153e+11 | K14: 1.1879252e+12 | L14: 4.3813199e+12
... A29: GDP per Capita | B29: 31728876 | C29: 7371606 | D29: 7408712.8 | E29: 5987973.6 | F29: 9685283.7 | G29: 10089203 | H29: 11150448 | I29: 9778623.7 | J29: 7681258.8 | K29: 15809069 | L29: 10581890

Sheet GDP CP 2019 Contr Industry
A1: Table 1.4 Gross Domestic Product by Industry by Province 2019
A2: Industry | B2: Bulawayo | C2: Manicaland | D2: Mash. Central | E2: Mash. East | F2: Mash. West | G2: Mat. North | H2: Mat. South | I2: Midlands | J2: Masvingo | K2: Harare | L2: Total
A3: Agriculture, Forestry and Fishing | B3: ='GDP CP 2019'!B3/'GDP CP 2019'!$L$3*100 -> 3 | C3: ='GDP CP 2019'!C3/'GDP CP 2019'!$L$3*100 -> 12.514893 | D3: ='GDP CP 2019'!D3/'GDP CP 2019'!$L$3*100 -> 19.259549 | E3: ='GDP CP 2019'!E3/'GDP CP 2019'!$L$3*100 -> 15.413073 | F3: ='GDP CP 2019'!F3/'GDP CP 2019'!$L$3*100 -> 12.867173 | G3: ='GDP CP 2019'!G3/'GDP CP 2019'!$L$3*100 -> 3.2473308 | H3: ='GDP CP 2019'!H3/'GDP CP 2019'!$L$3*100 -> 2.8853769 | I3: ='GDP CP 2019'!I3/'GDP CP 2019'!$L$3*100 -> 14.987126 | ... L3: ='GDP CP 2019'!L3/'GDP CP 2019'!$L$3*100 -> 100
A4: Mining and Quarrying | B4: ='GDP CP 2019'!B4/'GDP CP 2019'!$L$4*100 -> 1.1297358 | C4: ='GDP CP 2019'!C4/'GDP CP 2019'!$L$4*100 -> 10.526209 | D4: ='GDP CP 2019'!D4/'GDP CP 2019'!$L$4*100 -> 11.067324 | E4: ='GDP CP 2019'!E4/'GDP CP 2019'!$L$4*100 -> 3.2523618 | F4: ='GDP CP 2019'!F4/'GDP CP 2019'!$L$4*100 -> 26.288526 | G4: ='GDP CP 2019'!G4/'GDP CP 2019'!$L$4*100 -> 9.297775 | H4: ='GDP CP 2019'!H4/'GDP CP 2019'!$L$4*100 -> 10.005598 | I4: ='GDP CP 2019'!I4/'GDP CP 2019'!$L$4*100 -> 19.079316 | ... L4: ='GDP CP 2019'!L4/'GDP CP 2019'!$L$4*100 -> 100
A5: Manufacturing | B5: ='GDP CP 2019'!B5/'GDP CP 2019'!$L$5*100 -> 15.850875 | C5: ='GDP CP 2019'!C5/'GDP CP 2019'!$L$5*100 -> 8.1764314 | D5: ='GDP CP 2019'!D5/'GDP CP 2019'!$L$5*100 -> 3.9809241 | E5: ='GDP CP 2019'!E5/'GDP CP 2019'!$L$5*100 -> 6.6224282 | F5: ='GDP CP 2019'!F5/'GDP CP 2019'!$L$5*100 -> 7.2113689 | G5: ='GDP CP 2019'!G5/'GDP CP 2019'!$L$5*100 -> 4.6044679 | H5: ='GDP CP 2019'!H5/'GDP CP 2019'!$L$5*100 -> 3.856331 | I5: ='GDP CP 2019'!I5/'GDP CP 2019'!$L$5*100 -> 9.3730165 | ... L5: ='GDP CP 2019'!L5/'GDP CP 2019'!$L$5*100 -> 100
A6: Electricity, Gas, Steam and Air Conditioning Supply | B6: ='GDP CP 2019'!B6/'GDP CP 2019'!$L$6*100 -> 7.2305869 | C6: ='GDP CP 2019'!C6/'GDP CP 2019'!$L$6*100 -> 6.2294598 | D6: ='GDP CP 2019'!D6/'GDP CP 2019'!$L$6*100 -> 4.0299493 | E6: ='GDP CP 2019'!E6/'GDP CP 2019'!$L$6*100 -> 3.9250888 | F6: ='GDP CP 2019'!F6/'GDP CP 2019'!$L$6*100 -> 35.650977 | G6: ='GDP CP 2019'!G6/'GDP CP 2019'!$L$6*100 -> 22.348608 | H6: ='GDP CP 2019'!H6/'GDP CP 2019'!$L$6*100 -> 3.7640997 | I6: ='GDP CP 2019'!I6/'GDP CP 2019'!$L$6*100 -> 4.1737633 | ... L6: ='GDP CP 2019'!L6/'GDP CP 2019'!$L$6*100 -> 100
A7: Water Supply; Sewerage, Waste Management & Remediation Activities | B7: ='GDP CP 2019'!B7/'GDP CP 2019'!$L$7*100 -> 21.993963 | C7: ='GDP CP 2019'!C7/'GDP CP 2019'!$L$7*100 -> 6.8327372 | D7: ='GDP CP 2019'!D7/'GDP CP 2019'!$L$7*100 -> 1.5049518 | E7: ='GDP CP 2019'!E7/'GDP CP 2019'!$L$7*100 -> 3.7010029 | F7: ='GDP CP 2019'!F7/'GDP CP 2019'!$L$7*100 -> 6.2466737 | G7: ='GDP CP 2019'!G7/'GDP CP 2019'!$L$7*100 -> 2.1050739 | H7: ='GDP CP 2019'!H7/'GDP CP 2019'!$L$7*100 -> 2.3287352 | I7: ='GDP CP 2019'!I7/'GDP CP 2019'!$L$7*100 -> 12.068907 | ... L7: ='GDP CP 2019'!L7/'GDP CP 2019'!$L$7*100 -> 100
A8: Construction | B8: ='GDP CP 2019'!B8/'GDP CP 2019'!$L$8*100 -> 16.774217 | C8: ='GDP CP 2019'!C8/'GDP CP 2019'!$L$8*100 -> 6.4028314 | D8: ='GDP CP 2019'!D8/'GDP CP 2019'!$L$8*100 -> 5.124893 | E8: ='GDP CP 2019'!E8/'GDP CP 2019'!$L$8*100 -> 5.5672074 | F8: ='GDP CP 2019'!F8/'GDP CP 2019'!$L$8*100 -> 7.1911445 | G8: ='GDP CP 2019'!G8/'GDP CP 2019'!$L$8*100 -> 5.3108609 | H8: ='GDP CP 2019'!H8/'GDP CP 2019'!$L$8*100 -> 4.6708178 | I8: ='GDP CP 2019'!I8/'GDP CP 2019'!$L$8*100 -> 10.936669 | ... L8: ='GDP CP 2019'!L8/'GDP CP 2019'!$L$8*100 -> 100
A9: Wholesale and Retail Trade; Repair of Motor Vehicles and Motorcycles | B9: ='GDP CP 2019'!B9/'GDP CP 2019'!$L$9*100 -> 21.3 | C9: ='GDP CP 2019'!C9/'GDP CP 2019'!$L$9*100 -> 10.53133 | D9: ='GDP CP 2019'!D9/'GDP CP 2019'!$L$9*100 -> 3.7921049 | E9: ='GDP CP 2019'!E9/'GDP CP 2019'!$L$9*100 -> 4.517865 | F9: ='GDP CP 2019'!F9/'GDP CP 2019'!$L$9*100 -> 6.3319581 | G9: ='GDP CP 2019'!G9/'GDP CP 2019'!$L$9*100 -> 3.2928397 | H9: ='GDP CP 2019'!H9/'GDP CP 2019'!$L$9*100 -> 5.4288422 | I9: ='GDP CP 2019'!I9/'GDP CP 2019'!$L$9*100 -> 8.6240251 | ... L9: ='GDP CP 2019'!L9/'GDP CP 2019'!$L$9*100 -> 100
A10: Transportation and Storage | B10: ='GDP CP 2019'!B10/'GDP CP 2019'!$L$10*100 -> 11.243391 | C10: ='GDP CP 2019'!C10/'GDP CP 2019'!$L$10*100 -> 8.7002848 | D10: ='GDP CP 2019'!D10/'GDP CP 2019'!$L$10*100 -> 4.5812666 | E10: ='GDP CP 2019'!E10/'GDP CP 2019'!$L$10*100 -> 6.8971685 | F10: ='GDP CP 2019'!F10/'GDP CP 2019'!$L$10*100 -> 8.9219847 | G10: ='GDP CP 2019'!G10/'GDP CP 2019'!$L$10*100 -> 5.6218814 | H10: ='GDP CP 2019'!H10/'GDP CP 2019'!$L$10*100 -> 5.9902121 | I10: ='GDP CP 2019'!I10/'GDP CP 2019'!$L$10*100 -> 8.3205674 | ... L10: ='GDP CP 2019'!L10/'GDP CP 2019'!$L$10*100 -> 100
A11: Accommodation and Food Service Activities | B11: ='GDP CP 2019'!B11/'GDP CP 2019'!$L$11*100 -> 15.340374 | C11: ='GDP CP 2019'!C11/'GDP CP 2019'!$L$11*100 -> 7.5394656 | D11: ='GDP CP 2019'!D11/'GDP CP 2019'!$L$11*100 -> 4.1667618 | E11: ='GDP CP 2019'!E11/'GDP CP 2019'!$L$11*100 -> 4.3478372 | F11: ='GDP CP 2019'!F11/'GDP CP 2019'!$L$11*100 -> 9.8618193 | G11: ='GDP CP 2019'!G11/'GDP CP 2019'!$L$11*100 -> 10.331202 | H11: ='GDP CP 2019'!H11/'GDP CP 2019'!$L$11*100 -> 4.7210369 | I11: ='GDP CP 2019'!I11/'GDP CP 2019'!$L$11*100 -> 9.2168589 | ... L11: ='GDP CP 2019'!L11/'GDP CP 2019'!$L$11*100 -> 100
A12: Information and Communication | B12: ='GDP CP 2019'!B12/'GDP CP 2019'!$L$12*100 -> 18.521294 | C12: ='GDP CP 2019'!C12/'GDP CP 2019'!$L$12*100 -> 8.3673957 | D12: ='GDP CP 2019'!D12/'GDP CP 2019'!$L$12*100 -> 4.3454807 | E12: ='GDP CP 2019'!E12/'GDP CP 2019'!$L$12*100 -> 6.7070833 | F12: ='GDP CP 2019'!F12/'GDP CP 2019'!$L$12*100 -> 8.4288242 | G12: ='GDP CP 2019'!G12/'GDP CP 2019'!$L$12*100 -> 4.5494464 | H12: ='GDP CP 2019'!H12/'GDP CP 2019'!$L$12*100 -> 5.8462732 | I12: ='GDP CP 2019'!I12/'GDP CP 2019'!$L$12*100 -> 7.9005253 | ... L12: ='GDP CP 2019'!L12/'GDP CP 2019'!$L$12*100 -> 100
A13: Financial and Insurance Activities | B13: ='GDP CP 2019'!B13/'GDP CP 2019'!$L$13*100 -> 16.143743 | C13: ='GDP CP 2019'!C13/'GDP CP 2019'!$L$13*100 -> 7.1787495 | D13: ='GDP CP 2019'!D13/'GDP CP 2019'!$L$13*100 -> 4.4777308 | E13: ='GDP CP 2019'!E13/'GDP CP 2019'!$L$13*100 -> 4.5856483 | F13: ='GDP CP 2019'!F13/'GDP CP 2019'!$L$13*100 -> 11.070859 | G13: ='GDP CP 2019'!G13/'GDP CP 2019'!$L$13*100 -> 6.3489016 | H13: ='GDP CP 2019'!H13/'GDP CP 2019'!$L$13*100 -> 3.8718965 | I13: ='GDP CP 2019'!I13/'GDP CP 2019'!$L$13*100 -> 10.871385 | ... L13: ='GDP CP 2019'!L13/'GDP CP 2019'!$L$13*100 -> 100
A14: Real Estate Activities | B14: ='GDP CP 2019'!B14/'GDP CP 2019'!$L$14*100 -> 14.727273 | C14: ='GDP CP 2019'!C14/'GDP CP 2019'!$L$14*100 -> 9.199585 | D14: ='GDP CP 2019'!D14/'GDP CP 2019'!$L$14*100 -> 5.2090231 | E14: ='GDP CP 2019'!E14/'GDP CP 2019'!$L$14*100 -> 7.5497096 | F14: ='GDP CP 2019'!F14/'GDP CP 2019'!$L$14*100 -> 8.6673083 | G14: ='GDP CP 2019'!G14/'GDP CP 2019'!$L$14*100 -> 3.1118487 | H14: ='GDP CP 2019'!H14/'GDP CP 2019'!$L$14*100 -> 4.7213419 | I14: ='GDP CP 2019'!I14/'GDP CP 2019'!$L$14*100 -> 10.002247 | ... L14: ='GDP CP 2019'!L14/'GDP CP 2019'!$L$14*100 -> 100
A15: Professional, Scientific and Technical Activities | B15: ='GDP CP 2019'!B15/'GDP CP 2019'!$L$15*100 -> 24.324637 | C15: ='GDP CP 2019'!C15/'GDP CP 2019'!$L$15*100 -> 0.90773459 | D15: ='GDP CP 2019'!D15/'GDP CP 2019'!$L$15*100 -> 0.049534255 | E15: ='GDP CP 2019'!E15/'GDP CP 2019'!$L$15*100 -> 1.8709775 | F15: ='GDP CP 2019'!F15/'GDP CP 2019'!$L$15*100 -> 2.4588958 | G15: ='GDP CP 2019'!G15/'GDP CP 2019'!$L$15*100 -> 1.4147281 | H15: ='GDP CP 2019'!H15/'GDP CP 2019'!$L$15*100 -> 0.041888882 | I15: ='GDP CP 2019'!I15/'GDP CP 2019'!$L$15*100 -> 3.4737579 | ... L15: ='GDP CP 2019'!L15/'GDP CP 2019'!$L$15*100 -> 100
A16: Administrative and support service activities | B16: ='GDP CP 2019'!B16/'GDP CP 2019'!$L$16*100 -> 11.178858 | C16: ='GDP CP 2019'!C16/'GDP CP 2019'!$L$16*100 -> 9.1398118 | D16: ='GDP CP 2019'!D16/'GDP CP 2019'!$L$16*100 -> 5.5199796 | E16: ='GDP CP 2019'!E16/'GDP CP 2019'!$L$16*100 -> 7.6919456 | F16: ='GDP CP 2019'!F16/'GDP CP 2019'!$L$16*100 -> 8.8014845 | G16: ='GDP CP 2019'!G16/'GDP CP 2019'!$L$16*100 -> 3.7000116 | H16: ='GDP CP 2019'!H16/'GDP CP 2019'!$L$16*100 -> 3.7695965 | I16: ='GDP CP 2019'!I16/'GDP CP 2019'!$L$16*100 -> 9.8175823 | ... L16: ='GDP CP 2019'!L16/'GDP CP 2019'!$L$16*100 -> 100
A17: Public Administration and Defence; Compulsory Social Security | B17: ='GDP CP 2019'!B17/'GDP CP 2019'!$L$17*100 -> 13.36578 | C17: ='GDP CP 2019'!C17/'GDP CP 2019'!$L$17*100 -> 9.096496 | D17: ='GDP CP 2019'!D17/'GDP CP 2019'!$L$17*100 -> 4.6016575 | E17: ='GDP CP 2019'!E17/'GDP CP 2019'!$L$17*100 -> 4.481921 | F17: ='GDP CP 2019'!F17/'GDP CP 2019'!$L$17*100 -> 10.611337 | G17: ='GDP CP 2019'!G17/'GDP CP 2019'!$L$17*100 -> 4.2230715 | H17: ='GDP CP 2019'!H17/'GDP CP 2019'!$L$17*100 -> 4.2980931 | I17: ='GDP CP 2019'!I17/'GDP CP 2019'!$L$17*100 -> 10.940736 | ... L17: ='GDP CP 2019'!L17/'GDP CP 2019'!$L$17*100 -> 100
A18: Education | B18: ='GDP CP 2019'!B18/'GDP CP 2019'!$L$18*100 -> 10.621081 | C18: ='GDP CP 2019'!C18/'GDP CP 2019'!$L$18*100 -> 8.3571804 | D18: ='GDP CP 2019'!D18/'GDP CP 2019'!$L$18*100 -> 2.9730384 | E18: ='GDP CP 2019'!E18/'GDP CP 2019'!$L$18*100 -> 6.3795944 | F18: ='GDP CP 2019'!F18/'GDP CP 2019'!$L$18*100 -> 9.0371608 | G18: ='GDP CP 2019'!G18/'GDP CP 2019'!$L$18*100 -> 1.6747664 | H18: ='GDP CP 2019'!H18/'GDP CP 2019'!$L$18*100 -> 9.2887216 | I18: ='GDP CP 2019'!I18/'GDP CP 2019'!$L$18*100 -> 10.307969 | ... L18: ='GDP CP 2019'!L18/'GDP CP 2019'!$L$18*100 -> 100
A19: Human Health and Social Work Activities | B19: ='GDP CP 2019'!B19/'GDP CP 2019'!$L$19*100 -> 12.674759 | C19: ='GDP CP 2019'!C19/'GDP CP 2019'!$L$19*100 -> 8.9691903 | D19: ='GDP CP 2019'!D19/'GDP CP 2019'!$L$19*100 -> 3.5651481 | E19: ='GDP CP 2019'!E19/'GDP CP 2019'!$L$19*100 -> 7.528541 | F19: ='GDP CP 2019'!F19/'GDP CP 2019'!$L$19*100 -> 7.9664262 | G19: ='GDP CP 2019'!G19/'GDP CP 2019'!$L$19*100 -> 2.1710385 | H19: ='GDP CP 2019'!H19/'GDP CP 2019'!$L$19*100 -> 4.9967133 | I19: ='GDP CP 2019'!I19/'GDP CP 2019'!$L$19*100 -> 5.2215725 | ... L19: ='GDP CP 2019'!L19/'GDP CP 2019'!$L$19*100 -> 100
A20: Arts, Entertainment and Recreation | B20: ='GDP CP 2019'!B20/'GDP CP 2019'!$L$20*100 -> 16.232863 | C20: ='GDP CP 2019'!C20/'GDP CP 2019'!$L$20*100 -> 8.8684988 | D20: ='GDP CP 2019'!D20/'GDP CP 2019'!$L$20*100 -> 5.1910865 | E20: ='GDP CP 2019'!E20/'GDP CP 2019'!$L$20*100 -> 4.9909681 | F20: ='GDP CP 2019'!F20/'GDP CP 2019'!$L$20*100 -> 5.7397072 | G20: ='GDP CP 2019'!G20/'GDP CP 2019'!$L$20*100 -> 7.66458 | H20: ='GDP CP 2019'!H20/'GDP CP 2019'!$L$20*100 -> 6.2581483 | I20: ='GDP CP 2019'!I20/'GDP CP 2019'!$L$20*100 -> 8.3325496 | ... L20: ='GDP CP 2019'!L20/'GDP CP 2019'!$L$20*100 -> 100
A21: Other Services | B21: ='GDP CP 2019'!B21/'GDP CP 2019'!$L$21*100 -> 11.106978 | C21: ='GDP CP 2019'!C21/'GDP CP 2019'!$L$21*100 -> 8.5616285 | D21: ='GDP CP 2019'!D21/'GDP CP 2019'!$L$21*100 -> 4.2722382 | E21: ='GDP CP 2019'!E21/'GDP CP 2019'!$L$21*100 -> 8.0686158 | F21: ='GDP CP 2019'!F21/'GDP CP 2019'!$L$21*100 -> 10.642425 | G21: ='GDP CP 2019'!G21/'GDP CP 2019'!$L$21*100 -> 2.9101808 | H21: ='GDP CP 2019'!H21/'GDP CP 2019'!$L$21*100 -> 3.4264765 | I21: ='GDP CP 2019'!I21/'GDP CP 2019'!$L$21*100 -> 8.5354701 | ... L21: ='GDP CP 2019'!L21/'GDP CP 2019'!$L$21*100 -> 100
A22: Activities of Households as Employers, | B22: ='GDP CP 2019'!B22/'GDP CP 2019'!$L$22*100 -> 16.615565 | C22: ='GDP CP 2019'!C22/'GDP CP 2019'!$L$22*100 -> 4.9840789 | D22: ='GDP CP 2019'!D22/'GDP CP 2019'!$L$22*100 -> 1.7580454 | E22: ='GDP CP 2019'!E22/'GDP CP 2019'!$L$22*100 -> 3.6024448 | F22: ='GDP CP 2019'!F22/'GDP CP 2019'!$L$22*100 -> 5.0016238 | G22: ='GDP CP 2019'!G22/'GDP CP 2019'!$L$22*100 -> 2.6553531 | H22: ='GDP CP 2019'!H22/'GDP CP 2019'!$L$22*100 -> 4.6970299 | I22: ='GDP CP 2019'!I22/'GDP CP 2019'!$L$22*100 -> 6.291297 | ... L22: ='GDP CP 2019'!L22/'GDP CP 2019'!$L$22*100 -> 100
A23: GDP at Basic Prices | B23: ='GDP CP 2019'!B23/'GDP CP 2019'!$L$23*100 -> 13.156234 | C23: ='GDP CP 2019'!C23/'GDP CP 2019'!$L$23*100 -> 9.2457982 | D23: ='GDP CP 2019'!D23/'GDP CP 2019'!$L$23*100 -> 6.5217474 | E23: ='GDP CP 2019'!E23/'GDP CP 2019'!$L$23*100 -> 6.3193079 | F23: ='GDP CP 2019'!F23/'GDP CP 2019'!$L$23*100 -> 11.56794 | G23: ='GDP CP 2019'!G23/'GDP CP 2019'!$L$23*100 -> 5.3307748 | H23: ='GDP CP 2019'!H23/'GDP CP 2019'!$L$23*100 -> 5.2914461 | I23: ='GDP CP 2019'!I23/'GDP CP 2019'!$L$23*100 -> 10.826007 | ... L23: ='GDP CP 2019'!L23/'GDP CP 2019'!$L$23*100 -> 100
A24: Net Taxes on Products | B24: ='GDP CP 2019'!B24/'GDP CP 2019'!$L$24*100 -> 13.136323 | C24: ='GDP CP 2019'!C24/'GDP CP 2019'!$L$24*100 -> 9.0166271 | D24: ='GDP CP 2019'!D24/'GDP CP 2019'!$L$24*100 -> 6.2830394 | E24: ='GDP CP 2019'!E24/'GDP CP 2019'!$L$24*100 -> 6.5675447 | F24: ='GDP CP 2019'!F24/'GDP CP 2019'!$L$24*100 -> 11.060965 | G24: ='GDP CP 2019'!G24/'GDP CP 2019'!$L$24*100 -> 5.1232544 | H24: ='GDP CP 2019'!H24/'GDP CP 2019'!$L$24*100 -> 5.0714506 | I24: ='GDP CP 2019'!I24/'GDP CP 2019'!$L$24*100 -> 12.255304 | ... L24: ='GDP CP 2019'!L24/'GDP CP 2019'!$L$24*100 -> 100
A25: Taxes on Products | B25: ='GDP CP 2019'!B25/'GDP CP 2019'!$L$25*100 -> 13.136323 | C25: ='GDP CP 2019'!C25/'GDP CP 2019'!$L$25*100 -> 9.0166271 | D25: ='GDP CP 2019'!D25/'GDP CP 2019'!$L$25*100 -> 6.2830394 | E25: ='GDP CP 2019'!E25/'GDP CP 2019'!$L$25*100 -> 6.5675447 | F25: ='GDP CP 2019'!F25/'GDP CP 2019'!$L$25*100 -> 11.060965 | G25: ='GDP CP 2019'!G25/'GDP CP 2019'!$L$25*100 -> 5.1232544 | H25: ='GDP CP 2019'!H25/'GDP CP 2019'!$L$25*100 -> 5.0714506 | I25: ='GDP CP 2019'!I25/'GDP CP 2019'!$L$25*100 -> 12.255304 | ... L25: ='GDP CP 2019'!L25/'GDP CP 2019'!$L$25*100 -> 100
A26: Less Subsidies on Products | B26: ='GDP CP 2019'!B26/'GDP CP 2019'!$L$26*100 -> 13.136323 | C26: ='GDP CP 2019'!C26/'GDP CP 2019'!$L$26*100 -> 9.0166271 | D26: ='GDP CP 2019'!D26/'GDP CP 2019'!$L$26*100 -> 6.2830394 | E26: ='GDP CP 2019'!E26/'GDP CP 2019'!$L$26*100 -> 6.5675447 | F26: ='GDP CP 2019'!F26/'GDP CP 2019'!$L$26*100 -> 11.060965 | G26: ='GDP CP 2019'!G26/'GDP CP 2019'!$L$26*100 -> 5.1232544 | H26: ='GDP CP 2019'!H26/'GDP CP 2019'!$L$26*100 -> 5.0714506 | I26: ='GDP CP 2019'!I26/'GDP CP 2019'!$L$26*100 -> 12.255304 | ... L26: ='GDP CP 2019'!L26/'GDP CP 2019'!$L$26*100 -> 100
A27: GDP at Market Prices | B27: ='GDP CP 2019'!B27/'GDP CP 2019'!$L$27*100 -> 13.15552 | C27: ='GDP CP 2019'!C27/'GDP CP 2019'!$L$27*100 -> 9.2375825 | D27: ='GDP CP 2019'!D27/'GDP CP 2019'!$L$27*100 -> 6.5131898 | E27: ='GDP CP 2019'!E27/'GDP CP 2019'!$L$27*100 -> 6.328207 | F27: ='GDP CP 2019'!F27/'GDP CP 2019'!$L$27*100 -> 11.549765 | G27: ='GDP CP 2019'!G27/'GDP CP 2019'!$L$27*100 -> 5.3233353 | H27: ='GDP CP 2019'!H27/'GDP CP 2019'!$L$27*100 -> 5.2835594 | I27: ='GDP CP 2019'!I27/'GDP CP 2019'!$L$27*100 -> 10.877247 | ... L27: ='GDP CP 2019'!L27/'GDP CP 2019'!$L$27*100 -> 100

Sheet GDP KP 2019 Cont Province
A1: Table 1.3 Gross Domestic Product Contribution at Constant Prices by Industry by Province 2019
A2: Industry | B2: Bulawayo | C2: Manicaland | D2: Mash. Central | E2: Mash. East | F2: Mash. West | G2: Mat. North | H2: Mat. South | I2: Midlands | J2: Masvingo | K2: Harare | L2: Total
A3: Agriculture, Forestry and Fishing | B3: ='GDP KP 2019'!B3/'GDP KP 2019'!$B$27*100 -> 2.2279669 | C3: ='GDP KP 2019'!C3/'GDP KP 2019'!$C$27*100 -> 13.074022 | D3: ='GDP KP 2019'!D3/'GDP KP 2019'!$D$27*100 -> 29.455938 | E3: ='GDP KP 2019'!E3/'GDP KP 2019'!$E$27*100 -> 23.332108 | F3: ='GDP KP 2019'!F3/'GDP KP 2019'!$F$27*100 -> 11.009595 | G3: ='GDP KP 2019'!G3/'GDP KP 2019'!$G$27*100 -> 6.1025406 | H3: ='GDP KP 2019'!H3/'GDP KP 2019'!$H$27*100 -> 5.3405335 | I3: ='GDP KP 2019'!I3/'GDP KP 2019'!$I$27*100 -> 13.273648 | J3: ='GDP KP 2019'!J3/'GDP KP 2019'!$J$27*100 -> 15.990882 | K3: ='GDP KP 2019'!K3/'GDP KP 2019'!$K$27*100 -> 1.2268428 | L3: ='GDP KP 2019'!L3/'GDP KP 2019'!$L$27*100 -> 9.7696707 | N3: 100
A4: Mining and Quarrying | B4: ='GDP KP 2019'!B4/'GDP KP 2019'!$B$27*100 -> 1.0280094 | C4: ='GDP KP 2019'!C4/'GDP KP 2019'!$C$27*100 -> 14.753712 | D4: ='GDP KP 2019'!D4/'GDP KP 2019'!$D$27*100 -> 18.865724 | E4: ='GDP KP 2019'!E4/'GDP KP 2019'!$E$27*100 -> 7.8872874 | F4: ='GDP KP 2019'!F4/'GDP KP 2019'!$F$27*100 -> 26.512116 | G4: ='GDP KP 2019'!G4/'GDP KP 2019'!$G$27*100 -> 19.106384 | H4: ='GDP KP 2019'!H4/'GDP KP 2019'!$H$27*100 -> 22.691221 | I4: ='GDP KP 2019'!I4/'GDP KP 2019'!$I$27*100 -> 21.789815 | J4: ='GDP KP 2019'!J4/'GDP KP 2019'!$J$27*100 -> 11.502549 | K4: ='GDP KP 2019'!K4/'GDP KP 2019'!$K$27*100 -> 0.91381372 | L4: ='GDP KP 2019'!L4/'GDP KP 2019'!$L$27*100 -> 11.970509
A5: Manufacturing | B5: ='GDP KP 2019'!B5/'GDP KP 2019'!$B$27*100 -> 17.05036 | C5: ='GDP KP 2019'!C5/'GDP KP 2019'!$C$27*100 -> 12.371966 | D5: ='GDP KP 2019'!D5/'GDP KP 2019'!$D$27*100 -> 8.8186778 | E5: ='GDP KP 2019'!E5/'GDP KP 2019'!$E$27*100 -> 14.520275 | F5: ='GDP KP 2019'!F5/'GDP KP 2019'!$F$27*100 -> 8.9371432 | G5: ='GDP KP 2019'!G5/'GDP KP 2019'!$G$27*100 -> 12.53304 | H5: ='GDP KP 2019'!H5/'GDP KP 2019'!$H$27*100 -> 10.338302 | I5: ='GDP KP 2019'!I5/'GDP KP 2019'!$I$27*100 -> 12.023867 | J5: ='GDP KP 2019'!J5/'GDP KP 2019'!$J$27*100 -> 12.270357 | K5: ='GDP KP 2019'!K5/'GDP KP 2019'!$K$27*100 -> 19.8604 | L5: ='GDP KP 2019'!L5/'GDP KP 2019'!$L$27*100 -> 14.150532
A6: Electricity, Gas, Steam and Air Conditioning Supply | B6: ='GDP KP 2019'!B6/'GDP KP 2019'!$B$27*100 -> 1.5365782 | C6: ='GDP KP 2019'!C6/'GDP KP 2019'!$C$27*100 -> 1.8621992 | D6: ='GDP KP 2019'!D6/'GDP KP 2019'!$D$27*100 -> 1.7636808 | E6: ='GDP KP 2019'!E6/'GDP KP 2019'!$E$27*100 -> 1.7002308 | F6: ='GDP KP 2019'!F6/'GDP KP 2019'!$F$27*100 -> 8.7287744 | G6: ='GDP KP 2019'!G6/'GDP KP 2019'!$G$27*100 -> 12.017891 | H6: ='GDP KP 2019'!H6/'GDP KP 2019'!$H$27*100 -> 1.9935947 | I6: ='GDP KP 2019'!I6/'GDP KP 2019'!$I$27*100 -> 1.0577753 | J6: ='GDP KP 2019'!J6/'GDP KP 2019'!$J$27*100 -> 1.8159292 | K6: ='GDP KP 2019'!K6/'GDP KP 2019'!$K$27*100 -> 0.88439291 | L6: ='GDP KP 2019'!L6/'GDP KP 2019'!$L$27*100 -> 2.7955907
A7: Water Supply; Sewerage, Waste Management & Remediation Activities | B7: ='GDP KP 2019'!B7/'GDP KP 2019'!$B$27*100 -> 0.41755411 | C7: ='GDP KP 2019'!C7/'GDP KP 2019'!$C$27*100 -> 0.182473 | D7: ='GDP KP 2019'!D7/'GDP KP 2019'!$D$27*100 -> 0.058839793 | E7: ='GDP KP 2019'!E7/'GDP KP 2019'!$E$27*100 -> 0.14322076 | F7: ='GDP KP 2019'!F7/'GDP KP 2019'!$F$27*100 -> 0.13663401 | G7: ='GDP KP 2019'!G7/'GDP KP 2019'!$G$27*100 -> 0.10112844 | H7: ='GDP KP 2019'!H7/'GDP KP 2019'!$H$27*100 -> 0.11018539 | I7: ='GDP KP 2019'!I7/'GDP KP 2019'!$I$27*100 -> 0.27325096 | J7: ='GDP KP 2019'!J7/'GDP KP 2019'!$J$27*100 -> 0.1815868 | K7: ='GDP KP 2019'!K7/'GDP KP 2019'!$K$27*100 -> 0.39224799 | L7: ='GDP KP 2019'!L7/'GDP KP 2019'!$L$27*100 -> 0.24974784
A8: Construction | B8: ='GDP KP 2019'!B8/'GDP KP 2019'!$B$27*100 -> 3.4400401 | C8: ='GDP KP 2019'!C8/'GDP KP 2019'!$C$27*100 -> 1.8470894 | D8: ='GDP KP 2019'!D8/'GDP KP 2019'!$D$27*100 -> 2.1644388 | E8: ='GDP KP 2019'!E8/'GDP KP 2019'!$E$27*100 -> 2.3272119 | F8: ='GDP KP 2019'!F8/'GDP KP 2019'!$F$27*100 -> 1.699104 | G8: ='GDP KP 2019'!G8/'GDP KP 2019'!$G$27*100 -> 2.7560231 | H8: ='GDP KP 2019'!H8/'GDP KP 2019'!$H$27*100 -> 2.3873098 | I8: ='GDP KP 2019'!I8/'GDP KP 2019'!$I$27*100 -> 2.6747967 | J8: ='GDP KP 2019'!J8/'GDP KP 2019'!$J$27*100 -> 2.0060793 | K8: ='GDP KP 2019'!K8/'GDP KP 2019'!$K$27*100 -> 3.6356876 | L8: ='GDP KP 2019'!L8/'GDP KP 2019'!$L$27*100 -> 2.6978245
A9: Wholesale and Retail Trade; Repair of Motor Vehicles and Motorcycles | B9: ='GDP KP 2019'!B9/'GDP KP 2019'!$B$27*100 -> 31.663157 | C9: ='GDP KP 2019'!C9/'GDP KP 2019'!$C$27*100 -> 22.021781 | D9: ='GDP KP 2019'!D9/'GDP KP 2019'!$D$27*100 -> 11.608984 | E9: ='GDP KP 2019'!E9/'GDP KP 2019'!$E$27*100 -> 13.689423 | F9: ='GDP KP 2019'!F9/'GDP KP 2019'!$F$27*100 -> 10.844595 | G9: ='GDP KP 2019'!G9/'GDP KP 2019'!$G$27*100 -> 12.386308 | H9: ='GDP KP 2019'!H9/'GDP KP 2019'!$H$27*100 -> 20.112981 | I9: ='GDP KP 2019'!I9/'GDP KP 2019'!$I$27*100 -> 15.288648 | J9: ='GDP KP 2019'!J9/'GDP KP 2019'!$J$27*100 -> 18.370622 | K9: ='GDP KP 2019'!K9/'GDP KP 2019'!$K$27*100 -> 23.591146 | L9: ='GDP KP 2019'!L9/'GDP KP 2019'!$L$27*100 -> 19.555416
A10: Transportation and Storage | B10: ='GDP KP 2019'!B10/'GDP KP 2019'!$B$27*100 -> 2.1785323 | C10: ='GDP KP 2019'!C10/'GDP KP 2019'!$C$27*100 -> 2.3713451 | D10: ='GDP KP 2019'!D10/'GDP KP 2019'!$D$27*100 -> 1.8280645 | E10: ='GDP KP 2019'!E10/'GDP KP 2019'!$E$27*100 -> 2.7240482 | F10: ='GDP KP 2019'!F10/'GDP KP 2019'!$F$27*100 -> 1.9917226 | G10: ='GDP KP 2019'!G10/'GDP KP 2019'!$G$27*100 -> 2.7564177 | H10: ='GDP KP 2019'!H10/'GDP KP 2019'!$H$27*100 -> 2.8927007 | I10: ='GDP KP 2019'!I10/'GDP KP 2019'!$I$27*100 -> 1.9226671 | J10: ='GDP KP 2019'!J10/'GDP KP 2019'!$J$27*100 -> 2.9770892 | K10: ='GDP KP 2019'!K10/'GDP KP 2019'!$K$27*100 -> 3.2618249 | L10: ='GDP KP 2019'!L10/'GDP KP 2019'!$L$27*100 -> 2.5489372
A11: Accommodation and Food Service Activities | B11: ='GDP KP 2019'!B11/'GDP KP 2019'!$B$27*100 -> 2.9134614 | C11: ='GDP KP 2019'!C11/'GDP KP 2019'!$C$27*100 -> 2.0142273 | D11: ='GDP KP 2019'!D11/'GDP KP 2019'!$D$27*100 -> 1.6297134 | E11: ='GDP KP 2019'!E11/'GDP KP 2019'!$E$27*100 -> 1.683154 | F11: ='GDP KP 2019'!F11/'GDP KP 2019'!$F$27*100 -> 2.1578986 | G11: ='GDP KP 2019'!G11/'GDP KP 2019'!$G$27*100 -> 4.9650182 | H11: ='GDP KP 2019'!H11/'GDP KP 2019'!$H$27*100 -> 2.2346284 | I11: ='GDP KP 2019'!I11/'GDP KP 2019'!$I$27*100 -> 2.0875684 | J11: ='GDP KP 2019'!J11/'GDP KP 2019'!$J$27*100 -> 2.2523684 | K11: ='GDP KP 2019'!K11/'GDP KP 2019'!$K$27*100 -> 2.8666303 | L11: ='GDP KP 2019'!L11/'GDP KP 2019'!$L$27*100 -> 2.4984218
A12: Information and Communication | B12: ='GDP KP 2019'!B12/'GDP KP 2019'!$B$27*100 -> 6.828611 | C12: ='GDP KP 2019'!C12/'GDP KP 2019'!$C$27*100 -> 4.3395627 | D12: ='GDP KP 2019'!D12/'GDP KP 2019'!$D$27*100 -> 3.299424 | E12: ='GDP KP 2019'!E12/'GDP KP 2019'!$E$27*100 -> 5.0404815 | F12: ='GDP KP 2019'!F12/'GDP KP 2019'!$F$27*100 -> 3.5803769 | G12: ='GDP KP 2019'!G12/'GDP KP 2019'!$G$27*100 -> 4.2443997 | H12: ='GDP KP 2019'!H12/'GDP KP 2019'!$H$27*100 -> 5.3719847 | I12: ='GDP KP 2019'!I12/'GDP KP 2019'!$I$27*100 -> 3.4737734 | J12: ='GDP KP 2019'!J12/'GDP KP 2019'!$J$27*100 -> 5.0590936 | K12: ='GDP KP 2019'!K12/'GDP KP 2019'!$K$27*100 -> 5.5141196 | L12: ='GDP KP 2019'!L12/'GDP KP 2019'!$L$27*100 -> 4.8501313
A13: Financial and Insurance Activities | B13: ='GDP KP 2019'!B13/'GDP KP 2019'!$B$27*100 -> 7.9826499 | C13: ='GDP KP 2019'!C13/'GDP KP 2019'!$C$27*100 -> 4.9932841 | D13: ='GDP KP 2019'!D13/'GDP KP 2019'!$D$27*100 -> 4.5597403 | E13: ='GDP KP 2019'!E13/'GDP KP 2019'!$E$27*100 -> 4.6219035 | F13: ='GDP KP 2019'!F13/'GDP KP 2019'!$F$27*100 -> 6.3070298 | G13: ='GDP KP 2019'!G13/'GDP KP 2019'!$G$27*100 -> 7.9439798 | H13: ='GDP KP 2019'!H13/'GDP KP 2019'!$H$27*100 -> 4.7715691 | I13: ='GDP KP 2019'!I13/'GDP KP 2019'!$I$27*100 -> 6.4107997 | J13: ='GDP KP 2019'!J13/'GDP KP 2019'!$J$27*100 -> 4.8019128 | K13: ='GDP KP 2019'!K13/'GDP KP 2019'!$K$27*100 -> 8.0777753 | L13: ='GDP KP 2019'!L13/'GDP KP 2019'!$L$27*100 -> 6.5048204
A14: Real Estate Activities | B14: ='GDP KP 2019'!B14/'GDP KP 2019'!$B$27*100 -> 3.2486418 | C14: ='GDP KP 2019'!C14/'GDP KP 2019'!$C$27*100 -> 2.8545808 | D14: ='GDP KP 2019'!D14/'GDP KP 2019'!$D$27*100 -> 2.3663286 | E14: ='GDP KP 2019'!E14/'GDP KP 2019'!$E$27*100 -> 3.3945875 | F14: ='GDP KP 2019'!F14/'GDP KP 2019'!$F$27*100 -> 2.2027461 | G14: ='GDP KP 2019'!G14/'GDP KP 2019'!$G$27*100 -> 1.7369793 | H14: ='GDP KP 2019'!H14/'GDP KP 2019'!$H$27*100 -> 2.5956107 | I14: ='GDP KP 2019'!I14/'GDP KP 2019'!$I$27*100 -> 2.6312466 | J14: ='GDP KP 2019'!J14/'GDP KP 2019'!$J$27*100 -> 3.5915705 | K14: ='GDP KP 2019'!K14/'GDP KP 2019'!$K$27*100 -> 3.293395 | L14: ='GDP KP 2019'!L14/'GDP KP 2019'!$L$27*100 -> 2.9018298
A15: Professional, Scientific and Technical Activities | B15: ='GDP KP 2019'!B15/'GDP KP 2019'!$B$27*100 -> 2.3264396 | C15: ='GDP KP 2019'!C15/'GDP KP 2019'!$C$27*100 -> 0.12212341 | D15: ='GDP KP 2019'!D15/'GDP KP 2019'!$D$27*100 -> 0.0097564162 | E15: ='GDP KP 2019'!E15/'GDP KP 2019'!$E$27*100 -> 0.36474659 | F15: ='GDP KP 2019'!F15/'GDP KP 2019'!$F$27*100 -> 0.27094818 | G15: ='GDP KP 2019'!G15/'GDP KP 2019'!$G$27*100 -> 0.34238527 | H15: ='GDP KP 2019'!H15/'GDP KP 2019'!$H$27*100 -> 0.009984787 | I15: ='GDP KP 2019'!I15/'GDP KP 2019'!$I$27*100 -> 0.39621364 | J15: ='GDP KP 2019'!J15/'GDP KP 2019'!$J$27*100 -> 0.10988363 | K15: ='GDP KP 2019'!K15/'GDP KP 2019'!$K$27*100 -> 3.4113241 | L15: ='GDP KP 2019'!L15/'GDP KP 2019'!$L$27*100 -> 1.2581658
... A27: GDP at Market Prices | B27: ='GDP KP 2019'!B27/'GDP KP 2019'!$B$27*100 -> 100 | C27: ='GDP KP 2019'!C27/'GDP KP 2019'!$C$27*100 -> 100 | D27: ='GDP KP 2019'!D27/'GDP KP 2019'!$D$27*100 -> 100 | E27: ='GDP KP 2019'!E27/'GDP KP 2019'!$E$27*100 -> 100 | F27: ='GDP KP 2019'!F27/'GDP KP 2019'!$F$27*100 -> 100 | G27: ='GDP KP 2019'!G27/'GDP KP 2019'!$G$27*100 -> 100 | H27: ='GDP KP 2019'!H27/'GDP KP 2019'!$H$27*100 -> 100 | I27: ='GDP KP 2019'!I27/'GDP KP 2019'!$I$27*100 -> 100 | J27: ='GDP KP 2019'!J27/'GDP KP 2019'!$J$27*100 -> 100 | K27: ='GDP KP 2019'!K27/'GDP KP 2019'!$K$27*100 -> 100 | L27: ='GDP KP 2019'!L27/'GDP KP 2019'!$L$27*100 -> 100

Sheet GDP CP 2020
A1: Table 2.1 Gross Domestic Product at Current Prices by Industry by Province 2020 ZWL
A2: Industry | B2: Bulawayo | C2: Manicaland | D2: Mash. Central | E2: Mash. East | F2: Mash. West | G2: Mat. North | H2: Mat. South | I2: Midlands | J2: Masvingo | K2: Harare | L2: Total
A3: Agriculture, Forestry and Fishing | B3: 5.4993783e+09 | C3: 2.2930571e+10 | D3: 3.2439043e+10 | E3: 3.1536367e+10 | F3: 4.0398372e+10 | G3: 8.8728766e+09 | H3: 3.4013717e+09 | I3: 1.5856867e+10 | J3: 1.8711512e+10 | K3: 3.6662522e+09 | L3: 1.8331261e+11
A4: Mining and Quarrying | B4: 3.0664415e+09 | C4: 2.8492138e+10 | D4: 2.2610074e+10 | E4: 1.3097171e+10 | F4: 6.3058899e+10 | G4: 2.0691145e+10 | H4: 2.4949735e+10 | I4: 5.0069329e+10 | J4: 1.8027163e+10 | K4: 5.2956512e+09 | L4: 2.4935775e+11
A5: Manufacturing | B5: 5.1988719e+10 | C5: 2.6817585e+10 | D5: 1.3056891e+10 | E5: 2.1720666e+10 | F5: 2.3652311e+10 | G5: 1.510203e+10 | H5: 1.2648242e+10 | I5: 3.0742222e+10 | J5: 2.2285449e+10 | K5: 1.0997231e+11 | L5: 3.2798643e+11
A6: Electricity, Gas, Steam and Air Conditioning Supply | B6: 3.9694065e+09 | C6: 3.4198134e+09 | D6: 2.2123387e+09 | E6: 2.1547729e+09 | F6: 1.9571471e+10 | G6: 1.2268812e+10 | H6: 2.0663941e+09 | I6: 2.2912889e+09 | J6: 2.7942062e+09 | K6: 4.1489284e+09 | L6: 5.4897432e+10
A7: Water Supply; Sewerage, Waste Management & Remediation Activities | B7: 1.2906337e+09 | C7: 4.0095371e+08 | D7: 88312485 | E7: 2.1717956e+08 | F7: 3.6656276e+08 | G7: 1.2352841e+08 | H7: 1.3665314e+08 | I7: 7.0821884e+08 | J7: 3.3432062e+08 | K7: 2.201764e+09 | L7: 5.8681272e+09
A8: Construction | B8: 7.8136745e+09 | C8: 2.982532e+09 | D8: 2.3872497e+09 | E8: 2.5932862e+09 | F8: 3.3497397e+09 | G8: 2.4738763e+09 | H8: 2.1757349e+09 | I8: 5.0944596e+09 | J8: 2.7141169e+09 | K8: 1.4996785e+10 | L8: 4.6581455e+10
A9: Wholesale and Retail Trade; Repair of Motor Vehicles and Motorcycles | B9: 9.2964484e+10 | C9: 4.5964302e+10 | D9: 1.6550755e+10 | E9: 1.9718356e+10 | F9: 2.763602e+10 | G9: 1.4371697e+10 | H9: 2.3694343e+10 | I9: 3.7639814e+10 | J9: 3.2127383e+10 | K9: 1.2578582e+11 | L9: 4.3645298e+11
A10: Transportation and Storage | B10: 6.9329887e+09 | C10: 5.3648382e+09 | D10: 2.8249367e+09 | E10: 4.2529864e+09 | F10: 5.5015445e+09 | G10: 3.4666088e+09 | H10: 3.6937318e+09 | I10: 5.1306938e+09 | J10: 5.6433498e+09 | K10: 1.8851109e+10 | L10: 6.1662788e+10
A11: Accommodation and Food Service Activities | B11: 5.431608e+09 | C11: 2.6695191e+09 | D11: 1.4753367e+09 | E11: 1.5394505e+09 | F11: 3.4918011e+09 | G11: 3.6579968e+09 | H11: 1.6715903e+09 | I11: 3.2634382e+09 | J11: 2.5011931e+09 | K11: 9.7053376e+09 | L11: 3.5407271e+10
A12: Information and Communication | B12: 1.8368644e+10 | C12: 8.2984327e+09 | D12: 4.3096658e+09 | E12: 6.6518044e+09 | F12: 8.3593549e+09 | G12: 4.5119505e+09 | H12: 5.7980889e+09 | I12: 7.8354102e+09 | J12: 8.1059903e+09 | K12: 2.6936471e+10 | L12: 9.9175813e+10
A13: Financial and Insurance Activities | B13: 2.3366781e+10 | C13: 1.0390668e+10 | D13: 6.4811586e+09 | E13: 6.6373606e+09 | F13: 1.6024187e+10 | G13: 9.1895292e+09 | H13: 5.6042617e+09 | I13: 1.5735464e+10 | J13: 8.3724917e+09 | K13: 4.2940132e+10 | L13: 1.4474203e+11
A14: Real Estate Activities | B14: 8.1738419e+09 | C14: 5.105898e+09 | D14: 2.8910805e+09 | E14: 4.1901941e+09 | F14: 4.810477e+09 | G14: 1.7271195e+09 | H14: 2.6204106e+09 | I14: 5.5513868e+09 | J14: 5.3826662e+09 | K14: 1.504832e+10 | L14: 5.5501395e+10
... A22: Activities of Households as Employers, undifferentiated goods - and services - Producing Activities of Households for Own Use | B22: 1.1592427e+08 | C22: 34773160 | D22: 12265615 | E22: 25133709 | F22: 34895568 | G22: 18525994 | H22: 32770462 | I22: 43893421 | J22: 63142545 | K22: 3.1636003e+08 | L22: 6.9768478e+08
A23: GDP at Basic Prices | B23: =SUM(B3:B22) -> 2.6484448e+11 | C23: =SUM(C3:C22) -> 1.8461543e+11 | D23: =SUM(D3:D22) -> 1.1716023e+11 | E23: =SUM(E3:E22) -> 1.3081024e+11 | F23: =SUM(F3:F22) -> 2.397624e+11 | G23: =SUM(G3:G22) -> 1.0407739e+11 | H23: =SUM(H3:H22) -> 1.0231275e+11 | I23: =SUM(I3:I22) -> 2.0298507e+11 | ... L23: =SUM(L3:L22) -> 1.9732166e+12
A24: Net Taxes on Products | B24: =B25-B26 -> 1.0277592e+10 | C24: =C25-C26 -> 6.9196055e+09 | D24: =D25-D26 -> 4.5696272e+09 | E24: =E25-E26 -> 5.0836999e+09 | F24: =F25-F26 -> 9.0374192e+09 | G24: =G25-G26 -> 3.9874711e+09 | H24: =H25-H26 -> 3.8123191e+09 | I24: =I25-I26 -> 8.8883599e+09 | ... L24: =L25-L26 -> 7.6758238e+10
A25: Taxes on Products | B25: 1.0934441e+10 | C25: 7.3618434e+09 | D25: 4.861676e+09 | E25: 5.4086036e+09 | F25: 9.6150084e+09 | G25: 4.2423138e+09 | H25: 4.0559677e+09 | I25: 9.4564226e+09 | J25: 5.9661615e+09 | K25: 1.9761485e+10 | L25: 8.1663923e+10
A26: Less Subsidies on Products | B26: 6.5684971e+08 | C26: 4.4223794e+08 | D26: 2.920488e+08 | E26: 3.2490363e+08 | F26: 5.7758923e+08 | G26: 2.548427e+08 | H26: 2.4364859e+08 | I26: 5.6806272e+08 | J26: 3.5839705e+08 | K26: 1.1871046e+09 | L26: 4905684987
A27: GDP at Market Prices ZWL | B27: =B23+B24 -> 2.7512207e+11 | C27: =C23+C24 -> 1.9153504e+11 | D27: =D23+D24 -> 1.2172985e+11 | E27: =E23+E24 -> 1.3589394e+11 | F27: =F23+F24 -> 2.4879982e+11 | G27: =G23+G24 -> 1.0806487e+11 | H27: =H23+H24 -> 1.0612507e+11 | I27: =I23+I24 -> 2.1187343e+11 | ... L27: =L23+L24 -> 2.0499748e+12
A28: Population (absolute figures) | B28: 639313.92 | C28: 1956194.9 | D28: 1329495.4 | E28: 1661926.1 | F28: 1817840.6 | G28: 794539.2 | H28: 729931.2 | I28: 1739428.8 | J28: 1572986.9 | K28: 2330141.8 | L28: 14571799
A29: GDP per Capita | B29: 430339.56 | C29: 97912.044 | D29: 91560.947 | E29: 81768.944 | F29: 136865.58 | G29: 136009.48 | H29: 145390.51 | I29: 121806.33 | J29: 97514.358 | K29: 213481.4 | L29: 140680.97
A30: Exchange Rate ZW :1 USD | B30: 60.745 | C30: 60.745 | D30: 60.745 | E30: 60.745 | F30: 60.745 | G30: 60.745 | H30: 60.745 | I30: 60.745 | J30: 60.745 | K30: 60.745 | L30: 60.745
A31: Per Capita GDP in USD | B31: 7084.3618 | C31: 1611.8536 | D31: 1507.3001 | E31: 1346.1016 | F31: 2253.1169 | G31: 2239.0235 | H31: 2393.4564 | I31: 2005.2075 | J31: 1605.3067 | K31: 3514.3864 | L31: 2315.9268

Sheet GDP KP 2020
A1: Table 2.2 Gross Domestic Product at Constant Prices by Industry by Province 2020 ZWL
A2: Industry | B2: Bulawayo | C2: Manicaland | D2: Mash. Central | E2: Mash. East | F2: Mash. West | G2: Mat. North | H2: Mat. South | I2: Midlands | J2: Masvingo | K2: Harare | L2: Total
A3: Agriculture, Forestry and Fishing | B3: 3.841397e+11 | C3: 1.8452532e+12 | D3: 2.9435679e+12 | E3: 2.7142481e+12 | F3: 2.9840814e+12 | G3: 6.2616856e+11 | H3: 4.3876489e+11 | I3: 1.5536205e+12 | J3: 1.5684321e+12 | K3: 3.0731181e+11 | L3: 1.5365588e+13
A4: Mining and Quarrying | B4: 2.2283735e+11 | C4: 2.0705148e+12 | D4: 1.6430671e+12 | E4: 9.5176736e+11 | F4: 4.7636781e+12 | G4: 1.3224116e+12 | H4: 1.994297e+12 | I4: 3.8197301e+12 | J4: 9.4761336e+11 | K4: 3.8483339e+11 | L4: 1.812075e+13
A5: Manufacturing | B5: 2.7781205e+12 | C5: 1.3718166e+12 | D5: 6.4109653e+11 | E5: 1.1011601e+12 | F5: 1.0818172e+12 | G5: 9.761149e+11 | H5: 6.3681321e+11 | I5: 1.6673062e+12 | J5: 1.2182349e+12 | K5: 5.9442484e+12 | L5: 1.7416728e+13
A6: Electricity, Gas, Steam and Air Conditioning Supply | B6: 3.2547317e+11 | C6: 2.6611209e+11 | D6: 1.1981736e+11 | E6: 1.6312394e+11 | F6: 1.4888833e+12 | G6: 9.2330542e+11 | H6: 1.2116782e+11 | I6: 1.255044e+11 | J6: 1.6173111e+11 | K6: 2.5931606e+11 | L6: 3.9544346e+12
A7: Water Supply; Sewerage, Waste Management & Remediation Activities | B7: 8.298075e+10 | C7: 2.548812e+10 | D7: 5.3989143e+09 | E7: 1.4990678e+10 | F7: 1.6319013e+10 | G7: 8.8578815e+09 | H7: 8.1802513e+09 | I7: 5.0220877e+10 | J7: 2.5735946e+10 | K7: 1.4610514e+11 | L7: 3.8427757e+11
A8: Construction | B8: 7.2570491e+11 | C8: 2.9511927e+11 | D8: 2.1387325e+11 | E8: 2.209155e+11 | F8: 2.347649e+11 | G8: 2.4937871e+11 | H8: 2.082866e+11 | I8: 4.0046185e+11 | J8: 2.6441504e+11 | K8: 1.4622061e+12 | L8: 4.2751262e+12
A9: Wholesale and Retail Trade; Repair of Motor Vehicles and Motorcycles | B9: 5.9437349e+12 | C9: 2.6039124e+12 | D9: 1.0327518e+12 | E9: 1.2518633e+12 | F9: 1.9455007e+12 | G9: 1.1390849e+12 | H9: 1.1751725e+12 | I9: 2.208741e+12 | J9: 1.8736081e+12 | K9: 7.3601625e+12 | L9: 2.6534532e+13
A10: Transportation and Storage | B10: 3.1542008e+11 | C10: 2.2025448e+11 | D10: 1.0962024e+11 | E10: 1.7182391e+11 | F10: 1.8860608e+11 | G10: 1.375705e+11 | H10: 1.4746363e+11 | I10: 2.3691487e+11 | J10: 2.5924538e+11 | K10: 8.9901785e+11 | L10: 2.685937e+12
A11: Accommodation and Food Service Activities | B11: 2.345521e+11 | C11: 1.0652396e+11 | D11: 5.9839718e+10 | E11: 6.1032689e+10 | F11: 1.4069587e+11 | G11: 1.2700245e+11 | H11: 7.2409812e+10 | I11: 1.6946298e+11 | J11: 1.1130025e+11 | K11: 3.8861429e+11 | L11: 1.4714341e+12
A12: Information and Communication | B12: 1.4374032e+12 | C12: 7.0727569e+11 | D12: 3.8648221e+11 | E12: 4.9508551e+11 | F12: 7.1217531e+11 | G12: 2.5120418e+11 | H12: 4.2642611e+11 | I12: 6.7003746e+11 | J12: 7.2370321e+11 | K12: 2.1663451e+12 | L12: 7.976138e+12
A13: Financial and Insurance Activities | B13: 1.8846972e+12 | C13: 7.3422827e+11 | D13: 5.4722679e+11 | E13: 5.590907e+11 | F13: 8.8726982e+11 | G13: 6.4299895e+11 | H13: 4.806244e+11 | I13: 1.1731586e+12 | J13: 7.678325e+11 | K13: 3.3163724e+12 | L13: 1.09935e+13
A14: Real Estate Activities | B14: 6.2819682e+11 | C14: 4.0840995e+11 | D14: 2.5207854e+11 | E14: 3.1127576e+11 | F14: 3.6062267e+11 | G14: 1.5947904e+11 | H14: 1.8639085e+11 | I14: 4.6363121e+11 | J14: 4.0614346e+11 | K14: 1.2392127e+12 | L14: 4.415441e+12
... A22: Activities of Households as Employers, undifferentiated goods - and services - Producing Activities of Households for Own Use | B22: 4.1311678e+10 | C22: 1.1388758e+10 | D22: 3.5479377e+09 | E22: 5.9347506e+09 | F22: 6.8450591e+09 | G22: 1.4945014e+09 | H22: 1.2079623e+10 | I22: 2.1188357e+10 | J22: 2.1778995e+10 | K22: 1.0248541e+11 | L22: 2.2805507e+11
A23: GDP at Basic Prices | B23: =SUM(B3:B22) -> 1.7279424e+13 | C23: =SUM(C3:C22) -> 1.20616e+13 | D23: =SUM(D3:D22) -> 8.636565e+12 | E23: =SUM(E3:E22) -> 9.0210282e+12 | F23: =SUM(F3:F22) -> 1.6131677e+13 | G23: =SUM(G3:G22) -> 7.0035665e+12 | H23: =SUM(H3:H22) -> 6.846634e+12 | I23: =SUM(I3:I22) -> 1.4088032e+13 | ... L23: =SUM(L3:L22) -> 1.3105071e+14
A24: Net Taxes on Products | B24: =B25-B26 -> 1.0484843e+12 | C24: =C25-C26 -> 7.3625043e+11 | D24: =D25-D26 -> 5.1798212e+11 | E24: =E25-E26 -> 5.5990943e+11 | F24: =F25-F26 -> 1.007866e+12 | G24: =G25-G26 -> 4.2966433e+11 | H24: =H25-H26 -> 4.0155495e+11 | I24: =I25-I26 -> 9.6141802e+11 | ... L24: =L25-L26 -> 8.1316184e+12
A25: Taxes on Products | B25: 1.0730973e+12 | C25: 7.5353382e+11 | D25: 5.3014169e+11 | E25: 5.7305323e+11 | F25: 1.0315255e+12 | G25: 4.3975065e+11 | H25: 4.109814e+11 | I25: 9.8398719e+11 | J25: 6.1119338e+11 | K25: 1.9152429e+12 | L25: 8.3225071e+12
A26: Less Subsidies on Products | B26: 2.4613042e+10 | C26: 1.728339e+10 | D26: 1.2159567e+10 | E26: 1.3143806e+10 | F26: 2.3659531e+10 | G26: 1.0086318e+10 | H26: 9.4264537e+09 | I26: 2.2569172e+10 | J26: 1.4018605e+10 | K26: 4.3928871e+10 | L26: 1.9088876e+11
A27: GDP at Market Prices | B27: =B23+B24 -> 1.8327908e+13 | C27: =C23+C24 -> 1.2797851e+13 | D27: =D23+D24 -> 9.1545471e+12 | E27: =E23+E24 -> 9.5809376e+12 | F27: =F23+F24 -> 1.7139543e+13 | G27: =G23+G24 -> 7.4332308e+12 | H27: =H23+H24 -> 7.2481889e+12 | I27: =I23+I24 -> 1.504945e+13 | ... L27: =L23+L24 -> 1.3918233e+14
A28: Population (absolute figures) | B28: 639313.92 | C28: 1956194.9 | D28: 1329495.4 | E28: 1661926.1 | F28: 1817840.6 | G28: 794539.2 | H28: 729931.2 | I28: 1739428.8 | J28: 1572986.9 | K28: 2330141.8 | L28: 14571799
A29: GDP per Capita | B29: 28668089 | C29: 6542216.5 | D29: 6885730.8 | E29: 5764960.1 | F29: 9428518.1 | G29: 9355398.5 | H29: 9929961.8 | I29: 8651949.6 | J29: 6560569.6 | K29: 13789281 | L29: 9551485.7

Sheet GDP CP 2020  Cont Industry
A1: Table 2.4 Gross Domestic Product by Industry by Province 2020
A2: Industry | B2: Bulawayo | C2: Manicaland | D2: Mash. Central | E2: Mash. East | F2: Mash. West | G2: Mat. North | H2: Mat. South | I2: Midlands | J2: Masvingo | K2: Harare | L2: Total
A3: Agriculture, Forestry and Fishing | B3: ='GDP CP 2020'!B3/'GDP CP 2020'!$L$3*100 -> 3 | C3: ='GDP CP 2020'!C3/'GDP CP 2020'!$L$3*100 -> 12.508998 | D3: ='GDP CP 2020'!D3/'GDP CP 2020'!$L$3*100 -> 17.696024 | E3: ='GDP CP 2020'!E3/'GDP CP 2020'!$L$3*100 -> 17.203599 | F3: ='GDP CP 2020'!F3/'GDP CP 2020'!$L$3*100 -> 22.037966 | G3: ='GDP CP 2020'!G3/'GDP CP 2020'!$L$3*100 -> 4.840298 | H3: ='GDP CP 2020'!H3/'GDP CP 2020'!$L$3*100 -> 1.8555034 | I3: ='GDP CP 2020'!I3/'GDP CP 2020'!$L$3*100 -> 8.6501782 | ... L3: ='GDP CP 2020'!L3/'GDP CP 2020'!$L$3*100 -> 100 | Y3: #REF!
A4: Mining and Quarrying | B4: ='GDP CP 2020'!B4/'GDP CP 2020'!$L$4*100 -> 1.2297358 | C4: ='GDP CP 2020'!C4/'GDP CP 2020'!$L$4*100 -> 11.426209 | D4: ='GDP CP 2020'!D4/'GDP CP 2020'!$L$4*100 -> 9.0673237 | E4: ='GDP CP 2020'!E4/'GDP CP 2020'!$L$4*100 -> 5.2523618 | F4: ='GDP CP 2020'!F4/'GDP CP 2020'!$L$4*100 -> 25.288526 | G4: ='GDP CP 2020'!G4/'GDP CP 2020'!$L$4*100 -> 8.297775 | H4: ='GDP CP 2020'!H4/'GDP CP 2020'!$L$4*100 -> 10.005598 | I4: ='GDP CP 2020'!I4/'GDP CP 2020'!$L$4*100 -> 20.079316 | ... L4: ='GDP CP 2020'!L4/'GDP CP 2020'!$L$4*100 -> 100
A5: Manufacturing | B5: ='GDP CP 2020'!B5/'GDP CP 2020'!$L$5*100 -> 15.850875 | C5: ='GDP CP 2020'!C5/'GDP CP 2020'!$L$5*100 -> 8.1764314 | D5: ='GDP CP 2020'!D5/'GDP CP 2020'!$L$5*100 -> 3.9809241 | E5: ='GDP CP 2020'!E5/'GDP CP 2020'!$L$5*100 -> 6.6224282 | F5: ='GDP CP 2020'!F5/'GDP CP 2020'!$L$5*100 -> 7.2113689 | G5: ='GDP CP 2020'!G5/'GDP CP 2020'!$L$5*100 -> 4.6044679 | H5: ='GDP CP 2020'!H5/'GDP CP 2020'!$L$5*100 -> 3.856331 | I5: ='GDP CP 2020'!I5/'GDP CP 2020'!$L$5*100 -> 9.3730165 | ... L5: ='GDP CP 2020'!L5/'GDP CP 2020'!$L$5*100 -> 100
A6: Electricity, Gas, Steam and Air Conditioning Supply | B6: ='GDP CP 2020'!B6/'GDP CP 2020'!$L$6*100 -> 7.2305869 | C6: ='GDP CP 2020'!C6/'GDP CP 2020'!$L$6*100 -> 6.2294598 | D6: ='GDP CP 2020'!D6/'GDP CP 2020'!$L$6*100 -> 4.0299493 | E6: ='GDP CP 2020'!E6/'GDP CP 2020'!$L$6*100 -> 3.9250888 | F6: ='GDP CP 2020'!F6/'GDP CP 2020'!$L$6*100 -> 35.650977 | G6: ='GDP CP 2020'!G6/'GDP CP 2020'!$L$6*100 -> 22.348608 | H6: ='GDP CP 2020'!H6/'GDP CP 2020'!$L$6*100 -> 3.7640997 | I6: ='GDP CP 2020'!I6/'GDP CP 2020'!$L$6*100 -> 4.1737633 | ... L6: ='GDP CP 2020'!L6/'GDP CP 2020'!$L$6*100 -> 100
A7: Water Supply; Sewerage, Waste Management & Remediation Activities | B7: ='GDP CP 2020'!B7/'GDP CP 2020'!$L$7*100 -> 21.993963 | C7: ='GDP CP 2020'!C7/'GDP CP 2020'!$L$7*100 -> 6.8327372 | D7: ='GDP CP 2020'!D7/'GDP CP 2020'!$L$7*100 -> 1.5049518 | E7: ='GDP CP 2020'!E7/'GDP CP 2020'!$L$7*100 -> 3.7010029 | F7: ='GDP CP 2020'!F7/'GDP CP 2020'!$L$7*100 -> 6.2466737 | G7: ='GDP CP 2020'!G7/'GDP CP 2020'!$L$7*100 -> 2.1050739 | H7: ='GDP CP 2020'!H7/'GDP CP 2020'!$L$7*100 -> 2.3287352 | I7: ='GDP CP 2020'!I7/'GDP CP 2020'!$L$7*100 -> 12.068907 | ... L7: ='GDP CP 2020'!L7/'GDP CP 2020'!$L$7*100 -> 100
A8: Construction | B8: ='GDP CP 2020'!B8/'GDP CP 2020'!$L$8*100 -> 16.774217 | C8: ='GDP CP 2020'!C8/'GDP CP 2020'!$L$8*100 -> 6.4028314 | D8: ='GDP CP 2020'!D8/'GDP CP 2020'!$L$8*100 -> 5.124893 | E8: ='GDP CP 2020'!E8/'GDP CP 2020'!$L$8*100 -> 5.5672074 | F8: ='GDP CP 2020'!F8/'GDP CP 2020'!$L$8*100 -> 7.1911445 | G8: ='GDP CP 2020'!G8/'GDP CP 2020'!$L$8*100 -> 5.3108609 | H8: ='GDP CP 2020'!H8/'GDP CP 2020'!$L$8*100 -> 4.6708178 | I8: ='GDP CP 2020'!I8/'GDP CP 2020'!$L$8*100 -> 10.936669 | ... L8: ='GDP CP 2020'!L8/'GDP CP 2020'!$L$8*100 -> 100
A9: Wholesale and Retail Trade; Repair of Motor Vehicles and Motorcycles | B9: ='GDP CP 2020'!B9/'GDP CP 2020'!$L$9*100 -> 21.3 | C9: ='GDP CP 2020'!C9/'GDP CP 2020'!$L$9*100 -> 10.53133 | D9: ='GDP CP 2020'!D9/'GDP CP 2020'!$L$9*100 -> 3.7921049 | E9: ='GDP CP 2020'!E9/'GDP CP 2020'!$L$9*100 -> 4.517865 | F9: ='GDP CP 2020'!F9/'GDP CP 2020'!$L$9*100 -> 6.3319581 | G9: ='GDP CP 2020'!G9/'GDP CP 2020'!$L$9*100 -> 3.2928397 | H9: ='GDP CP 2020'!H9/'GDP CP 2020'!$L$9*100 -> 5.4288422 | I9: ='GDP CP 2020'!I9/'GDP CP 2020'!$L$9*100 -> 8.6240251 | ... L9: ='GDP CP 2020'!L9/'GDP CP 2020'!$L$9*100 -> 100
A10: Transportation and Storage | B10: ='GDP CP 2020'!B10/'GDP CP 2020'!$L$10*100 -> 11.243391 | C10: ='GDP CP 2020'!C10/'GDP CP 2020'!$L$10*100 -> 8.7002848 | D10: ='GDP CP 2020'!D10/'GDP CP 2020'!$L$10*100 -> 4.5812666 | E10: ='GDP CP 2020'!E10/'GDP CP 2020'!$L$10*100 -> 6.8971685 | F10: ='GDP CP 2020'!F10/'GDP CP 2020'!$L$10*100 -> 8.9219847 | G10: ='GDP CP 2020'!G10/'GDP CP 2020'!$L$10*100 -> 5.6218814 | H10: ='GDP CP 2020'!H10/'GDP CP 2020'!$L$10*100 -> 5.9902121 | I10: ='GDP CP 2020'!I10/'GDP CP 2020'!$L$10*100 -> 8.3205674 | ... L10: ='GDP CP 2020'!L10/'GDP CP 2020'!$L$10*100 -> 100
A11: Accommodation and Food Service Activities | B11: ='GDP CP 2020'!B11/'GDP CP 2020'!$L$11*100 -> 15.340374 | C11: ='GDP CP 2020'!C11/'GDP CP 2020'!$L$11*100 -> 7.5394656 | D11: ='GDP CP 2020'!D11/'GDP CP 2020'!$L$11*100 -> 4.1667618 | E11: ='GDP CP 2020'!E11/'GDP CP 2020'!$L$11*100 -> 4.3478372 | F11: ='GDP CP 2020'!F11/'GDP CP 2020'!$L$11*100 -> 9.8618193 | G11: ='GDP CP 2020'!G11/'GDP CP 2020'!$L$11*100 -> 10.331202 | H11: ='GDP CP 2020'!H11/'GDP CP 2020'!$L$11*100 -> 4.7210369 | I11: ='GDP CP 2020'!I11/'GDP CP 2020'!$L$11*100 -> 9.2168589 | ... L11: ='GDP CP 2020'!L11/'GDP CP 2020'!$L$11*100 -> 100
A12: Information and Communication | B12: ='GDP CP 2020'!B12/'GDP CP 2020'!$L$12*100 -> 18.521294 | C12: ='GDP CP 2020'!C12/'GDP CP 2020'!$L$12*100 -> 8.3673957 | D12: ='GDP CP 2020'!D12/'GDP CP 2020'!$L$12*100 -> 4.3454807 | E12: ='GDP CP 2020'!E12/'GDP CP 2020'!$L$12*100 -> 6.7070833 | F12: ='GDP CP 2020'!F12/'GDP CP 2020'!$L$12*100 -> 8.4288242 | G12: ='GDP CP 2020'!G12/'GDP CP 2020'!$L$12*100 -> 4.5494464 | H12: ='GDP CP 2020'!H12/'GDP CP 2020'!$L$12*100 -> 5.8462732 | I12: ='GDP CP 2020'!I12/'GDP CP 2020'!$L$12*100 -> 7.9005253 | ... L12: ='GDP CP 2020'!L12/'GDP CP 2020'!$L$12*100 -> 100
A13: Financial and Insurance Activities | B13: ='GDP CP 2020'!B13/'GDP CP 2020'!$L$13*100 -> 16.143743 | C13: ='GDP CP 2020'!C13/'GDP CP 2020'!$L$13*100 -> 7.1787495 | D13: ='GDP CP 2020'!D13/'GDP CP 2020'!$L$13*100 -> 4.4777308 | E13: ='GDP CP 2020'!E13/'GDP CP 2020'!$L$13*100 -> 4.5856483 | F13: ='GDP CP 2020'!F13/'GDP CP 2020'!$L$13*100 -> 11.070859 | G13: ='GDP CP 2020'!G13/'GDP CP 2020'!$L$13*100 -> 6.3489016 | H13: ='GDP CP 2020'!H13/'GDP CP 2020'!$L$13*100 -> 3.8718965 | I13: ='GDP CP 2020'!I13/'GDP CP 2020'!$L$13*100 -> 10.871385 | ... L13: ='GDP CP 2020'!L13/'GDP CP 2020'!$L$13*100 -> 100
A14: Real Estate Activities | B14: ='GDP CP 2020'!B14/'GDP CP 2020'!$L$14*100 -> 14.727273 | C14: ='GDP CP 2020'!C14/'GDP CP 2020'!$L$14*100 -> 9.199585 | D14: ='GDP CP 2020'!D14/'GDP CP 2020'!$L$14*100 -> 5.2090231 | E14: ='GDP CP 2020'!E14/'GDP CP 2020'!$L$14*100 -> 7.5497096 | F14: ='GDP CP 2020'!F14/'GDP CP 2020'!$L$14*100 -> 8.6673083 | G14: ='GDP CP 2020'!G14/'GDP CP 2020'!$L$14*100 -> 3.1118487 | H14: ='GDP CP 2020'!H14/'GDP CP 2020'!$L$14*100 -> 4.7213419 | I14: ='GDP CP 2020'!I14/'GDP CP 2020'!$L$14*100 -> 10.002247 | ... L14: ='GDP CP 2020'!L14/'GDP CP 2020'!$L$14*100 -> 100
A15: Professional, Scientific and Technical Activities | B15: ='GDP CP 2020'!B15/'GDP CP 2020'!$L$15*100 -> 24.324637 | C15: ='GDP CP 2020'!C15/'GDP CP 2020'!$L$15*100 -> 0.90773459 | D15: ='GDP CP 2020'!D15/'GDP CP 2020'!$L$15*100 -> 0.049534255 | E15: ='GDP CP 2020'!E15/'GDP CP 2020'!$L$15*100 -> 1.8709775 | F15: ='GDP CP 2020'!F15/'GDP CP 2020'!$L$15*100 -> 2.4588958 | G15: ='GDP CP 2020'!G15/'GDP CP 2020'!$L$15*100 -> 1.4147281 | H15: ='GDP CP 2020'!H15/'GDP CP 2020'!$L$15*100 -> 0.041888882 | I15: ='GDP CP 2020'!I15/'GDP CP 2020'!$L$15*100 -> 3.4737579 | ... L15: ='GDP CP 2020'!L15/'GDP CP 2020'!$L$15*100 -> 100
A16: Administrative and support service activities | B16: ='GDP CP 2020'!B16/'GDP CP 2020'!$L$16*100 -> 11.178858 | C16: ='GDP CP 2020'!C16/'GDP CP 2020'!$L$16*100 -> 9.1398118 | D16: ='GDP CP 2020'!D16/'GDP CP 2020'!$L$16*100 -> 5.5199796 | E16: ='GDP CP 2020'!E16/'GDP CP 2020'!$L$16*100 -> 7.6919456 | F16: ='GDP CP 2020'!F16/'GDP CP 2020'!$L$16*100 -> 8.8014845 | G16: ='GDP CP 2020'!G16/'GDP CP 2020'!$L$16*100 -> 3.7000116 | H16: ='GDP CP 2020'!H16/'GDP CP 2020'!$L$16*100 -> 3.7695965 | I16: ='GDP CP 2020'!I16/'GDP CP 2020'!$L$16*100 -> 9.8175823 | ... L16: ='GDP CP 2020'!L16/'GDP CP 2020'!$L$16*100 -> 100
A17: Public Administration and Defence; Compulsory Social Security | B17: ='GDP CP 2020'!B17/'GDP CP 2020'!$L$17*100 -> 13.36578 | C17: ='GDP CP 2020'!C17/'GDP CP 2020'!$L$17*100 -> 9.096496 | D17: ='GDP CP 2020'!D17/'GDP CP 2020'!$L$17*100 -> 4.6016575 | E17: ='GDP CP 2020'!E17/'GDP CP 2020'!$L$17*100 -> 4.481921 | F17: ='GDP CP 2020'!F17/'GDP CP 2020'!$L$17*100 -> 10.611337 | G17: ='GDP CP 2020'!G17/'GDP CP 2020'!$L$17*100 -> 4.2230715 | H17: ='GDP CP 2020'!H17/'GDP CP 2020'!$L$17*100 -> 4.2980931 | I17: ='GDP CP 2020'!I17/'GDP CP 2020'!$L$17*100 -> 10.940736 | ... L17: ='GDP CP 2020'!L17/'GDP CP 2020'!$L$17*100 -> 100
A18: Education | B18: ='GDP CP 2020'!B18/'GDP CP 2020'!$L$18*100 -> 10.621081 | C18: ='GDP CP 2020'!C18/'GDP CP 2020'!$L$18*100 -> 8.3571804 | D18: ='GDP CP 2020'!D18/'GDP CP 2020'!$L$18*100 -> 2.9730384 | E18: ='GDP CP 2020'!E18/'GDP CP 2020'!$L$18*100 -> 6.3795944 | F18: ='GDP CP 2020'!F18/'GDP CP 2020'!$L$18*100 -> 9.0371608 | G18: ='GDP CP 2020'!G18/'GDP CP 2020'!$L$18*100 -> 1.6747664 | H18: ='GDP CP 2020'!H18/'GDP CP 2020'!$L$18*100 -> 9.2887216 | I18: ='GDP CP 2020'!I18/'GDP CP 2020'!$L$18*100 -> 10.307969 | ... L18: ='GDP CP 2020'!L18/'GDP CP 2020'!$L$18*100 -> 100
A19: Human Health and Social Work Activities | B19: ='GDP CP 2020'!B19/'GDP CP 2020'!$L$19*100 -> 12.674759 | C19: ='GDP CP 2020'!C19/'GDP CP 2020'!$L$19*100 -> 8.9691903 | D19: ='GDP CP 2020'!D19/'GDP CP 2020'!$L$19*100 -> 3.5651481 | E19: ='GDP CP 2020'!E19/'GDP CP 2020'!$L$19*100 -> 7.528541 | F19: ='GDP CP 2020'!F19/'GDP CP 2020'!$L$19*100 -> 7.9664262 | G19: ='GDP CP 2020'!G19/'GDP CP 2020'!$L$19*100 -> 2.1710385 | H19: ='GDP CP 2020'!H19/'GDP CP 2020'!$L$19*100 -> 4.9967133 | I19: ='GDP CP 2020'!I19/'GDP CP 2020'!$L$19*100 -> 5.2215725 | ... L19: ='GDP CP 2020'!L19/'GDP CP 2020'!$L$19*100 -> 100
A20: Arts, Entertainment and Recreation | B20: ='GDP CP 2020'!B20/'GDP CP 2020'!$L$20*100 -> 16.232863 | C20: ='GDP CP 2020'!C20/'GDP CP 2020'!$L$20*100 -> 8.8684988 | D20: ='GDP CP 2020'!D20/'GDP CP 2020'!$L$20*100 -> 5.1910865 | E20: ='GDP CP 2020'!E20/'GDP CP 2020'!$L$20*100 -> 4.9909681 | F20: ='GDP CP 2020'!F20/'GDP CP 2020'!$L$20*100 -> 5.7397072 | G20: ='GDP CP 2020'!G20/'GDP CP 2020'!$L$20*100 -> 7.66458 | H20: ='GDP CP 2020'!H20/'GDP CP 2020'!$L$20*100 -> 6.2581483 | I20: ='GDP CP 2020'!I20/'GDP CP 2020'!$L$20*100 -> 8.3325496 | ... L20: ='GDP CP 2020'!L20/'GDP CP 2020'!$L$20*100 -> 100
A21: Other Services | B21: ='GDP CP 2020'!B21/'GDP CP 2020'!$L$21*100 -> 11.106978 | C21: ='GDP CP 2020'!C21/'GDP CP 2020'!$L$21*100 -> 8.5616285 | D21: ='GDP CP 2020'!D21/'GDP CP 2020'!$L$21*100 -> 4.2722382 | E21: ='GDP CP 2020'!E21/'GDP CP 2020'!$L$21*100 -> 8.0686158 | F21: ='GDP CP 2020'!F21/'GDP CP 2020'!$L$21*100 -> 10.642425 | G21: ='GDP CP 2020'!G21/'GDP CP 2020'!$L$21*100 -> 2.9101808 | H21: ='GDP CP 2020'!H21/'GDP CP 2020'!$L$21*100 -> 3.4264765 | I21: ='GDP CP 2020'!I21/'GDP CP 2020'!$L$21*100 -> 8.5354701 | ... L21: ='GDP CP 2020'!L21/'GDP CP 2020'!$L$21*100 -> 100
A22: Activities of Households as Employers, undifferentiated goods - and services - Producing Activities of Households for Own Use | B22: ='GDP CP 2020'!B22/'GDP CP 2020'!$L$22*100 -> 16.615565 | C22: ='GDP CP 2020'!C22/'GDP CP 2020'!$L$22*100 -> 4.9840789 | D22: ='GDP CP 2020'!D22/'GDP CP 2020'!$L$22*100 -> 1.7580454 | E22: ='GDP CP 2020'!E22/'GDP CP 2020'!$L$22*100 -> 3.6024448 | F22: ='GDP CP 2020'!F22/'GDP CP 2020'!$L$22*100 -> 5.0016238 | G22: ='GDP CP 2020'!G22/'GDP CP 2020'!$L$22*100 -> 2.6553531 | H22: ='GDP CP 2020'!H22/'GDP CP 2020'!$L$22*100 -> 4.6970299 | I22: ='GDP CP 2020'!I22/'GDP CP 2020'!$L$22*100 -> 6.291297 | ... L22: ='GDP CP 2020'!L22/'GDP CP 2020'!$L$22*100 -> 100
A23: GDP at Basic Prices | B23: ='GDP CP 2020'!B23/'GDP CP 2020'!$L$23*100 -> 13.421967 | C23: ='GDP CP 2020'!C23/'GDP CP 2020'!$L$23*100 -> 9.3560654 | D23: ='GDP CP 2020'!D23/'GDP CP 2020'!$L$23*100 -> 5.9375249 | E23: ='GDP CP 2020'!E23/'GDP CP 2020'!$L$23*100 -> 6.6292895 | F23: ='GDP CP 2020'!F23/'GDP CP 2020'!$L$23*100 -> 12.15084 | G23: ='GDP CP 2020'!G23/'GDP CP 2020'!$L$23*100 -> 5.2745043 | H23: ='GDP CP 2020'!H23/'GDP CP 2020'!$L$23*100 -> 5.1850745 | I23: ='GDP CP 2020'!I23/'GDP CP 2020'!$L$23*100 -> 10.287014 | ... L23: ='GDP CP 2020'!L23/'GDP CP 2020'!$L$23*100 -> 100
A24: Net Taxes on Products | B24: ='GDP CP 2020'!B24/'GDP CP 2020'!$L$24*100 -> 13.389562 | C24: ='GDP CP 2020'!C24/'GDP CP 2020'!$L$24*100 -> 9.014805 | D24: ='GDP CP 2020'!D24/'GDP CP 2020'!$L$24*100 -> 5.9532726 | E24: ='GDP CP 2020'!E24/'GDP CP 2020'!$L$24*100 -> 6.6230024 | F24: ='GDP CP 2020'!F24/'GDP CP 2020'!$L$24*100 -> 11.773875 | G24: ='GDP CP 2020'!G24/'GDP CP 2020'!$L$24*100 -> 5.1948444 | H24: ='GDP CP 2020'!H24/'GDP CP 2020'!$L$24*100 -> 4.9666579 | I24: ='GDP CP 2020'!I24/'GDP CP 2020'!$L$24*100 -> 11.579682 | ... L24: ='GDP CP 2020'!L24/'GDP CP 2020'!$L$24*100 -> 100
A25: Taxes on Products | B25: ='GDP CP 2020'!B25/'GDP CP 2020'!$L$25*100 -> 13.389562 | C25: ='GDP CP 2020'!C25/'GDP CP 2020'!$L$25*100 -> 9.014805 | D25: ='GDP CP 2020'!D25/'GDP CP 2020'!$L$25*100 -> 5.9532726 | E25: ='GDP CP 2020'!E25/'GDP CP 2020'!$L$25*100 -> 6.6230024 | F25: ='GDP CP 2020'!F25/'GDP CP 2020'!$L$25*100 -> 11.773875 | G25: ='GDP CP 2020'!G25/'GDP CP 2020'!$L$25*100 -> 5.1948444 | H25: ='GDP CP 2020'!H25/'GDP CP 2020'!$L$25*100 -> 4.9666579 | I25: ='GDP CP 2020'!I25/'GDP CP 2020'!$L$25*100 -> 11.579682 | ... L25: ='GDP CP 2020'!L25/'GDP CP 2020'!$L$25*100 -> 100
A26: Less Subsidies on Products | B26: ='GDP CP 2020'!B26/'GDP CP 2020'!$L$26*100 -> 13.389562 | C26: ='GDP CP 2020'!C26/'GDP CP 2020'!$L$26*100 -> 9.014805 | D26: ='GDP CP 2020'!D26/'GDP CP 2020'!$L$26*100 -> 5.9532726 | E26: ='GDP CP 2020'!E26/'GDP CP 2020'!$L$26*100 -> 6.6230024 | F26: ='GDP CP 2020'!F26/'GDP CP 2020'!$L$26*100 -> 11.773875 | G26: ='GDP CP 2020'!G26/'GDP CP 2020'!$L$26*100 -> 5.1948444 | H26: ='GDP CP 2020'!H26/'GDP CP 2020'!$L$26*100 -> 4.9666579 | I26: ='GDP CP 2020'!I26/'GDP CP 2020'!$L$26*100 -> 11.579682 | ... L26: ='GDP CP 2020'!L26/'GDP CP 2020'!$L$26*100 -> 100
