Workbook

Sheet Table 1.1 GDP CP 2023 
A1: Table 1.1: Gross Domestic Product by Industry at Current Prices in ZWG Dollars 2023
A3: Industry | B3: Bulawayo | C3: Manicaland | D3: Mash. Central | E3: Mash. East | F3: Mash. West | G3: Mat. North | H3: Mat. South | I3: Midlands | J3: Masvingo | K3: Harare | L3: Total
A4: Agriculture, Hunting and Fishing and Forestry | B4: 1.7783662e+08 | C4: 1.2464095e+09 | D4: 1.3636729e+09 | E4: 1.2254419e+09 | F4: 1.3023232e+09 | G4: 2.9665323e+08 | H4: 1.7084741e+08 | I4: 8.8840652e+08 | J4: 8.9539573e+08 | K4: 1.9880426e+08 | L4: =SUM(B4:K4) -> 7.7657913e+09
A5: Mining and Quarrying | B5: 71211700 | C5: 1.239289e+09 | D5: 4.1873621e+08 | E5: 4.5997802e+08 | F5: 2.108361e+09 | G5: 7.1202847e+08 | H5: 6.9594876e+08 | I5: 2.510612e+09 | J5: 4.0615875e+08 | K5: 1.9163556e+08 | L5: =SUM(B5:K5) -> 8.8139594e+09
A6: Manufacturing | B6: 1.5589596e+09 | C6: 9.6892052e+08 | D6: 4.4377146e+08 | E6: 7.23346e+08 | F6: 6.2149289e+08 | G6: 4.5409172e+08 | H6: 4.3807958e+08 | I6: 1.0291063e+09 | J6: 6.622663e+08 | K6: 3.4218166e+09 | L6: =SUM(B6:K6) -> 1.0321851e+10
A7: Electricity, Gas, Steam and Air Conditioning Supply | B7: 806088.69 | C7: 23346824 | D7: 589883.93 | E7: 1027058.6 | F7: 5.2318186e+08 | G7: 7.6953354e+08 | H7: 5260603.4 | I7: 9381973.2 | J7: 33545435 | K7: 3986017.8 | L7: =SUM(B7:K7) -> 1.3706593e+09
A8: Water Supply; Sewerage, Waste Management & Remediation Activities | B8: 71912884 | C8: 22340760 | D8: 8190352.5 | E8: 12101039 | F8: 20424529 | G8: 5686228.3 | H8: 7614183.3 | I8: 39461281 | J8: 18628027 | K8: 1.0960154e+08 | L8: =SUM(B8:K8) -> 3.1596082e+08
A9: Construction | B9: 3.4897473e+08 | C9: 1.1964848e+08 | D9: 1.1406488e+08 | E9: 1.1632491e+08 | F9: 1.5122238e+08 | G9: 79765653 | H9: 56540554 | I9: 1.279574e+08 | J9: 76442084 | K9: 4.5366715e+08 | L9: =SUM(B9:K9) -> 1.6446082e+09
A10: Wholesale and Retail Trade; Repair of Motor Vehicles and Motorcycles | B10: 1.6042808e+09 | C10: 7.2083525e+08 | D10: 4.2238916e+08 | E10: 3.0472276e+08 | F10: 5.0538501e+08 | G10: 2.6281788e+08 | H10: 4.213306e+08 | I10: 6.76354e+08 | J10: 6.034824e+08 | K10: 2.4598985e+09 | L10: =SUM(B10:K10) -> 7.9814963e+09
A11: Transportation and Storage | B11: 2.3480347e+08 | C11: 1.8169402e+08 | D11: 95673737 | E11: 1.4403831e+08 | F11: 1.8632393e+08 | G11: 1.1740561e+08 | H11: 1.2509771e+08 | I11: 1.7376412e+08 | J11: 1.9112653e+08 | K11: 6.3844123e+08 | L11: =SUM(B11:K11) -> 2.0883687e+09
A12: Accommodation and Food Service Activities | B12: 3.1833e+08 | C12: 1.3248799e+08 | D12: 85589614 | E12: 98087551 | F12: 1.1063581e+08 | G12: 77975913 | H12: 72258613 | I12: 1.0769262e+08 | J12: 1.0789341e+08 | K12: 3.7312875e+08 | L12: =SUM(B12:K12) -> 1.4840803e+09
A13: Information and Communication | B13: 2.3181351e+08 | C13: 1.0472677e+08 | D13: 66904321 | E13: 83946213 | F13: 1.0549561e+08 | G13: 44425061 | H13: 73172267 | I13: 98883396 | J13: 1.0229813e+08 | K13: 3.3994005e+08 | L13: =SUM(B13:K13) -> 1.2516053e+09
A14: Financial and Insurance Activities | B14: 1.335784e+09 | C14: 5.6652606e+08 | D14: 3.9589561e+08 | E14: 3.8917677e+08 | F14: 5.7519005e+08 | G14: 3.6678943e+08 | H14: 2.7488312e+08 | I14: 4.9932325e+08 | J14: 5.0240684e+08 | K14: 2.4369829e+09 | L14: =SUM(B14:K14) -> 7.342958e+09
A15: Real Estate Activities | B15: 2.5636641e+08 | C15: 1.6014265e+08 | D15: 90676567 | E15: 1.3142229e+08 | F15: 1.50877e+08 | G15: 54169765 | H15: 82187210 | I15: 1.7411508e+08 | J15: 1.6882328e+08 | K15: 4.719793e+08 | L15: =SUM(B15:K15) -> 1.7407595e+09
... A23: Activities of Households as Employers | B23: 35811267 | C23: 24118304 | D23: 20990966 | E23: 22062211 | F23: 21424322 | G23: 20976991 | H23: 20557903 | I23: 22287009 | J23: 20250280 | K23: 30365544 | L23: =SUM(B23:K23) -> 2.388448e+08
A24: GDP at Basic Prices | B24: =SUM(B4:B23) -> 8.0584514e+09 | C24: =SUM(C4:C23) -> 6.4840861e+09 | D24: =SUM(D4:D23) -> 4.4133473e+09 | E24: =SUM(E4:E23) -> 4.5961893e+09 | F24: =SUM(F4:F23) -> 7.2520615e+09 | G24: =SUM(G4:G23) -> 3.8975417e+09 | H24: =SUM(H4:H23) -> 2.9559725e+09 | I24: =SUM(I4:I23) -> 7.3735567e+09 | ... L24: =SUM(L4:L23) -> 6.3717285e+10
A25: Net Taxes on Products | B25: =B26-B27 -> 6.9816592e+08 | C25: =C26-C27 -> 3.4969586e+08 | D25: =D26-D27 -> 1.5104646e+08 | E25: =E26-E27 -> 2.0589359e+08 | F25: =F26-F27 -> 2.5499381e+08 | G25: =G26-G27 -> 1.8957698e+08 | H25: =H26-H27 -> 1.7344197e+08 | I25: =I26-I27 -> 3.3088344e+08 | ... L25: =L26-L27 -> 3.8414733e+09
A26: Taxes on Products | B26: 7.1253722e+08 | C26: 3.5872523e+08 | D26: 1.5922619e+08 | E26: 2.1320358e+08 | F26: 2.63253e+08 | G26: 1.9439768e+08 | H26: 1.7764292e+08 | I26: 3.3849888e+08 | J26: 2.6892693e+08 | K26: 1.2452334e+09 | L26: 3.931645e+09
A27: Less Subsidies on Products | B27: 14371303 | C27: 9029368 | D27: 8179737 | E27: 7309994.3 | F27: 8259189.4 | G27: 4820703.5 | H27: 4200940.8 | I27: 7615443.2 | J27: 6430938.6 | K27: 19954130 | L27: 90171747
A28: GDP at Market Prices | B28: =B24+B25 -> 8.7566174e+09 | C28: =C24+C25 -> 6.833782e+09 | D28: =D24+D25 -> 4.5643938e+09 | E28: =E24+E25 -> 4.8020828e+09 | F28: =F24+F25 -> 7.5070553e+09 | G28: =G24+G25 -> 4.0871187e+09 | H28: =H24+H25 -> 3.1294145e+09 | I28: =I24+I25 -> 7.7044401e+09 | ... L28: =L24+L25 -> 6.7558759e+10
A29: Population (absolute figures) | B29: 666561 | C29: 2088711 | D29: 1413625 | E29: 1770796 | F29: 1931750 | G29: 836346 | H29: 761716 | I29: 1843279 | J29: 1664789 | K29: 2449050 | L29: 15426623
A30: GDP per capita ZWG | B30: =B28/B29 -> 13137.008 | C30: =C28/C29 -> 3271.77 | D30: =D28/D29 -> 3228.8576 | E30: =E28/E29 -> 2711.8216 | F30: =F28/F29 -> 3886.1423 | G30: =G28/G29 -> 4886.8754 | H30: =H28/H29 -> 4108.3744 | I30: =I28/I29 -> 4179.7471 | ... L30: =L28/L29 -> 4379.3615
A31: Exchange Rate ZWG to USD | B31: 1.52 | C31: 1.52 | D31: 1.52 | E31: 1.52 | F31: 1.52 | G31: 1.52 | H31: 1.52 | I31: 1.52 | J31: 1.52 | K31: 1.52 | L31: 1.52

Sheet Table 1.2 GDP KP 2023
A1: Table 1.2: Gross Domestic Product by Industry at Constant 2023 Prices in ZWG Dollars for 2023
A3: Industry | B3: Bulawayo | C3: Manicaland | D3: Mash. Central | E3: Mash. East | F3: Mash. West | G3: Mat. North | H3: Mat. South | I3: Midlands | J3: Masvingo | K3: Harare | L3: Total
A4: Agriculture, Hunting and Fishing and Forestry | B4: 1.7783662e+08 | C4: 1.2464095e+09 | D4: 1.3636729e+09 | E4: 1.2254419e+09 | F4: 1.3023232e+09 | G4: 2.9665323e+08 | H4: 1.7084741e+08 | I4: 8.8840652e+08 | J4: 8.9539573e+08 | K4: 1.9880426e+08 | L4: 7.7657913e+09
A5: Mining and Quarrying | B5: 71211700 | C5: 1.239289e+09 | D5: 4.1873621e+08 | E5: 4.5997802e+08 | F5: 2.108361e+09 | G5: 7.1202847e+08 | H5: 6.9594876e+08 | I5: 2.510612e+09 | J5: 4.0615875e+08 | K5: 1.9163556e+08 | L5: 8.8139594e+09
A6: Manufacturing | B6: 1.5589596e+09 | C6: 9.6892052e+08 | D6: 4.4377146e+08 | E6: 7.23346e+08 | F6: 6.2149289e+08 | G6: 4.5409172e+08 | H6: 4.3807958e+08 | I6: 1.0291063e+09 | J6: 6.622663e+08 | K6: 3.4218166e+09 | L6: 1.0321851e+10
A7: Electricity, Gas, Steam and Air Conditioning Supply | B7: 806088.69 | C7: 23346824 | D7: 589883.93 | E7: 1027058.6 | F7: 5.2318186e+08 | G7: 7.6953354e+08 | H7: 5260603.4 | I7: 9381973.2 | J7: 33545435 | K7: 3986017.8 | L7: 1.3706593e+09
A8: Water Supply; Sewerage, Waste Management & Remediation Activities | B8: 71912884 | C8: 22340760 | D8: 8190352.5 | E8: 12101039 | F8: 20424529 | G8: 5686228.3 | H8: 7614183.3 | I8: 39461281 | J8: 18628027 | K8: 1.0960154e+08 | L8: 3.1596082e+08
A9: Construction | B9: 3.4897473e+08 | C9: 1.1964848e+08 | D9: 1.1406488e+08 | E9: 1.1632491e+08 | F9: 1.5122238e+08 | G9: 79765653 | H9: 56540554 | I9: 1.279574e+08 | J9: 76442084 | K9: 4.5366715e+08 | L9: 1.6446082e+09
A10: Wholesale and Retail Trade; Repair of Motor Vehicles and Motorcycles | B10: 1.6042808e+09 | C10: 7.2083525e+08 | D10: 4.2238916e+08 | E10: 3.0472276e+08 | F10: 5.0538501e+08 | G10: 2.6281788e+08 | H10: 4.213306e+08 | I10: 6.76354e+08 | J10: 6.034824e+08 | K10: 2.4598985e+09 | L10: 7.9814963e+09
A11: Transportation and Storage | B11: 2.3480347e+08 | C11: 1.8169402e+08 | D11: 95673737 | E11: 1.4403831e+08 | F11: 1.8632393e+08 | G11: 1.1740561e+08 | H11: 1.2509771e+08 | I11: 1.7376412e+08 | J11: 1.9112653e+08 | K11: 6.3844123e+08 | L11: 2.0883687e+09
A12: Accommodation and Food Service Activities | B12: 3.1833e+08 | C12: 1.3248799e+08 | D12: 85589614 | E12: 98087551 | F12: 1.1063581e+08 | G12: 77975913 | H12: 72258613 | I12: 1.0769262e+08 | J12: 1.0789341e+08 | K12: 3.7312875e+08 | L12: 1.4840803e+09
A13: Information and Communication | B13: 2.3181351e+08 | C13: 1.0472677e+08 | D13: 66904321 | E13: 83946213 | F13: 1.0549561e+08 | G13: 44425061 | H13: 73172267 | I13: 98883396 | J13: 1.0229813e+08 | K13: 3.3994005e+08 | L13: 1.2516053e+09
A14: Financial and Insurance Activities | B14: 1.335784e+09 | C14: 5.6652606e+08 | D14: 3.9589561e+08 | E14: 3.8917677e+08 | F14: 5.7519005e+08 | G14: 3.6678943e+08 | H14: 2.7488312e+08 | I14: 4.9932325e+08 | J14: 5.0240684e+08 | K14: 2.4369829e+09 | L14: 7.342958e+09
A15: Real Estate Activities | B15: 2.5636641e+08 | C15: 1.6014265e+08 | D15: 90676567 | E15: 1.3142229e+08 | F15: 1.50877e+08 | G15: 54169765 | H15: 82187210 | I15: 1.7411508e+08 | J15: 1.6882328e+08 | K15: 4.719793e+08 | L15: 1.7407595e+09
... A23: Activities of Households as Employers | B23: 35811267 | C23: 24118304 | D23: 20990966 | E23: 22062211 | F23: 21424322 | G23: 20976991 | H23: 20557903 | I23: 22287009 | J23: 20250280 | K23: 30365544 | L23: 2.388448e+08
A24: GDP at Basic Prices | B24: =SUM(B4:B23) -> 8.0584514e+09 | C24: =SUM(C4:C23) -> 6.4840861e+09 | D24: =SUM(D4:D23) -> 4.4133473e+09 | E24: =SUM(E4:E23) -> 4.5961893e+09 | F24: =SUM(F4:F23) -> 7.2520615e+09 | G24: =SUM(G4:G23) -> 3.8975417e+09 | H24: =SUM(H4:H23) -> 2.9559725e+09 | I24: =SUM(I4:I23) -> 7.3735567e+09 | ... L24: =SUM(L4:L23) -> 6.3717285e+10
A25: Net Taxes on Products | B25: =B26-B27 -> 6.9816592e+08 | C25: =C26-C27 -> 3.4969586e+08 | D25: =D26-D27 -> 1.5104646e+08 | E25: =E26-E27 -> 2.0589359e+08 | F25: =F26-F27 -> 2.5499381e+08 | G25: =G26-G27 -> 1.8957698e+08 | H25: =H26-H27 -> 1.7344197e+08 | I25: =I26-I27 -> 3.3088344e+08 | ... L25: =L26-L27 -> 3.8414733e+09
A26: Taxes on Products | B26: 7.1253722e+08 | C26: 3.5872523e+08 | D26: 1.5922619e+08 | E26: 2.1320358e+08 | F26: 2.63253e+08 | G26: 1.9439768e+08 | H26: 1.7764292e+08 | I26: 3.3849888e+08 | J26: 2.6892693e+08 | K26: 1.2452334e+09 | L26: 3.931645e+09
A27: Less Subsidies on Products | B27: 14371303 | C27: 9029368 | D27: 8179737 | E27: 7309994.3 | F27: 8259189.4 | G27: 4820703.5 | H27: 4200940.8 | I27: 7615443.2 | J27: 6430938.6 | K27: 19954130 | L27: 90171747
A28: GDP at Market Prices | B28: =B24+B25 -> 8.7566174e+09 | C28: =C24+C25 -> 6.833782e+09 | D28: =D24+D25 -> 4.5643938e+09 | E28: =E24+E25 -> 4.8020828e+09 | F28: =F24+F25 -> 7.5070553e+09 | G28: =G24+G25 -> 4.0871187e+09 | H28: =H24+H25 -> 3.1294145e+09 | I28: =I24+I25 -> 7.7044401e+09 | ... L28: =L24+L25 -> 6.7558759e+10

Sheet Table 1.3 GDP CONTRI % 2023 CP
A1: Table 1.3: Percent Contribution of Gross Domestic Product by Industry at Current Prices for 2023
A3: Industry | B3: Bulawayo | C3: Manicaland | D3: Mash. Central | E3: Mash. East | F3: Mash. West | G3: Mat. North | H3: Mat. South | I3: Midlands | J3: Masvingo | K3: Harare | L3: Total
A4: Agriculture, Hunting and Fishing and Forestry | B4: 2.29 | C4: 16.05 | D4: 17.56 | E4: 15.78 | F4: 16.77 | G4: 3.82 | H4: 2.2 | I4: 11.44 | J4: 11.53 | K4: 2.56 | L4: 100
A5: Mining and Quarrying | B5: 0.80794223 | C5: 14.060525 | D5: 4.7508297 | E5: 5.2187444 | F5: 23.920702 | G5: 8.0784178 | H5: 7.8959832 | I5: 28.484496 | J5: 4.6081305 | K5: 2.1742279 | L5: 100
A6: Manufacturing | B6: 15.103488 | C6: 9.3870812 | D6: 4.2993399 | E6: 7.0079098 | F6: 6.021138 | G6: 4.3993245 | H6: 4.244196 | I6: 9.9701723 | J6: 6.4161583 | K6: 33.151192 | L6: 100
A7: Electricity, Gas, Steam and Air Conditioning Supply | B7: 0.058810289 | C7: 1.703328 | D7: 0.043036511 | E7: 0.074931721 | F7: 38.170088 | G7: 56.143313 | H7: 0.38380095 | I7: 0.68448617 | J7: 2.4473942 | K7: 0.29081026 | L7: 100
A8: Water Supply; Sewerage, Waste Management & Remediation Activities | B8: 22.760064 | C8: 7.0707374 | D8: 2.5922051 | E8: 3.8299175 | F8: 6.4642599 | G8: 1.7996625 | H8: 2.4098505 | I8: 12.489296 | J8: 5.8956763 | K8: 34.688332 | L8: 100
A9: Construction | B9: 21.219323 | C9: 7.2751964 | D9: 6.9356873 | E9: 7.0731076 | F9: 9.1950399 | G9: 4.850131 | H9: 3.4379345 | I9: 7.7804184 | J9: 4.6480422 | K9: 27.58512 | L9: 100
A10: Wholesale and Retail Trade; Repair of Motor Vehicles and Motorcycles | B10: 20.1 | C10: 9.0313297 | D10: 5.2921049 | E10: 3.817865 | F10: 6.3319581 | G10: 3.2928397 | H10: 5.2788422 | I10: 8.4740251 | J10: 7.5610183 | K10: 30.820017 | L10: 100
A11: Transportation and Storage | B11: 11.243391 | C11: 8.7002848 | D11: 4.5812666 | E11: 6.8971685 | F11: 8.9219847 | G11: 5.6218814 | H11: 5.9902121 | I11: 8.3205674 | J11: 9.1519536 | K11: 30.571289 | L11: 100
A12: Accommodation and Food Service Activities | B12: 21.449649 | C12: 8.9272794 | D12: 5.7671822 | E12: 6.6093157 | F12: 7.4548398 | G12: 5.2541574 | H12: 4.8689154 | I12: 7.2565228 | J12: 7.2700522 | K12: 25.142086 | L12: 100
A13: Information and Communication | B13: 18.521294 | C13: 8.3673957 | D13: 5.3454807 | E13: 6.7070833 | F13: 8.4288242 | G13: 3.5494464 | H13: 5.8462732 | I13: 7.9005253 | J13: 8.173354 | K13: 27.160323 | L13: 100
A14: Financial and Insurance Activities | B14: 18.191361 | C14: 7.7152296 | D14: 5.3915005 | E14: 5.3 | F14: 7.83322 | G14: 4.9951182 | H14: 3.743493 | I14: 6.8000287 | J14: 6.8420226 | K14: 33.188027 | L14: 100
A15: Real Estate Activities | B15: 14.727273 | C15: 9.199585 | D15: 5.2090231 | E15: 7.5497096 | F15: 8.6673083 | G15: 3.1118465 | H15: 4.7213419 | I15: 10.002247 | J15: 9.6982539 | K15: 27.113411 | L15: 100
... A28: GDP at Market Prices | B28: 13.085431 | C28: 10.350896 | D28: 6.4563381 | E28: 7.1322361 | F28: 11.12067 | G28: 6.2353275 | H28: 4.6422146 | I28: 11.414534 | J28: 7.2044371 | K28: 22.357915 | L28: 100

Sheet Table 1.4 GDP Contr % Down
A1: Table 1.4:Percent Contribution Gross Domestic Product by Industry at Constant 2023 Prices in 2023
A2: Industry | B2: Bulawayo | C2: Manicaland | D2: Mash. Central | E2: Mash. East | F2: Mash. West | G2: Mat. North | H2: Mat. South | I2: Midlands | J2: Masvingo | K2: Harare | L2: Total
A3: Agriculture, Hunting and Fishing and Forestry | B3: ='Table 1.2 GDP KP 2023'!B4/'Table 1.2 GDP KP 2023'!$B$28*100 -> 2.0308826 | C3: ='Table 1.2 GDP KP 2023'!C4/'Table 1.2 GDP KP 2023'!$C$28*100 -> 18.238942 | D3: ='Table 1.2 GDP KP 2023'!D4/'Table 1.2 GDP KP 2023'!$D$28*100 -> 29.876321 | E3: ='Table 1.2 GDP KP 2023'!E4/'Table 1.2 GDP KP 2023'!$E$28*100 -> 25.518965 | F3: ='Table 1.2 GDP KP 2023'!F4/'Table 1.2 GDP KP 2023'!$F$28*100 -> 17.34799 | G3: ='Table 1.2 GDP KP 2023'!G4/'Table 1.2 GDP KP 2023'!$G$28*100 -> 7.2582484 | H3: ='Table 1.2 GDP KP 2023'!H4/'Table 1.2 GDP KP 2023'!$H$28*100 -> 5.4594049 | I3: ='Table 1.2 GDP KP 2023'!I4/'Table 1.2 GDP KP 2023'!$I$28*100 -> 11.531098 | J3: ='Table 1.2 GDP KP 2023'!J4/'Table 1.2 GDP KP 2023'!$J$28*100 -> 17.899563 | K3: ='Table 1.2 GDP KP 2023'!K4/'Table 1.2 GDP KP 2023'!$K$28*100 -> 1.3103779 | L3: ='Table 1.2 GDP KP 2023'!L4/'Table 1.2 GDP KP 2023'!$L$28*100 -> 11.49487
A4: Mining and Quarrying | B4: ='Table 1.2 GDP KP 2023'!B5/'Table 1.2 GDP KP 2023'!$B$28*100 -> 0.81323298 | C4: ='Table 1.2 GDP KP 2023'!C5/'Table 1.2 GDP KP 2023'!$C$28*100 -> 18.134746 | D4: ='Table 1.2 GDP KP 2023'!D5/'Table 1.2 GDP KP 2023'!$D$28*100 -> 9.1739719 | E4: ='Table 1.2 GDP KP 2023'!E5/'Table 1.2 GDP KP 2023'!$E$28*100 -> 9.5787189 | F4: ='Table 1.2 GDP KP 2023'!F5/'Table 1.2 GDP KP 2023'!$F$28*100 -> 28.08506 | G4: ='Table 1.2 GDP KP 2023'!G5/'Table 1.2 GDP KP 2023'!$G$28*100 -> 17.421282 | H4: ='Table 1.2 GDP KP 2023'!H5/'Table 1.2 GDP KP 2023'!$H$28*100 -> 22.238945 | I4: ='Table 1.2 GDP KP 2023'!I5/'Table 1.2 GDP KP 2023'!$I$28*100 -> 32.586559 | J4: ='Table 1.2 GDP KP 2023'!J5/'Table 1.2 GDP KP 2023'!$J$28*100 -> 8.1193867 | K4: ='Table 1.2 GDP KP 2023'!K5/'Table 1.2 GDP KP 2023'!$K$28*100 -> 1.2631269 | L4: ='Table 1.2 GDP KP 2023'!L5/'Table 1.2 GDP KP 2023'!$L$28*100 -> 13.046361
A5: Manufacturing | B5: ='Table 1.2 GDP KP 2023'!B6/'Table 1.2 GDP KP 2023'!$B$28*100 -> 17.803217 | C5: ='Table 1.2 GDP KP 2023'!C6/'Table 1.2 GDP KP 2023'!$C$28*100 -> 14.178394 | D5: ='Table 1.2 GDP KP 2023'!D6/'Table 1.2 GDP KP 2023'!$D$28*100 -> 9.7224621 | E5: ='Table 1.2 GDP KP 2023'!E6/'Table 1.2 GDP KP 2023'!$E$28*100 -> 15.063172 | F5: ='Table 1.2 GDP KP 2023'!F6/'Table 1.2 GDP KP 2023'!$F$28*100 -> 8.278784 | G5: ='Table 1.2 GDP KP 2023'!G6/'Table 1.2 GDP KP 2023'!$G$28*100 -> 11.110314 | H5: ='Table 1.2 GDP KP 2023'!H6/'Table 1.2 GDP KP 2023'!$H$28*100 -> 13.998771 | I5: ='Table 1.2 GDP KP 2023'!I6/'Table 1.2 GDP KP 2023'!$I$28*100 -> 13.357315 | J5: ='Table 1.2 GDP KP 2023'!J6/'Table 1.2 GDP KP 2023'!$J$28*100 -> 13.239149 | K5: ='Table 1.2 GDP KP 2023'!K6/'Table 1.2 GDP KP 2023'!$K$28*100 -> 22.554209 | L5: ='Table 1.2 GDP KP 2023'!L6/'Table 1.2 GDP KP 2023'!$L$28*100 -> 15.278331
A6: Electricity, Gas, Steam and Air Conditioning Supply | B6: ='Table 1.2 GDP KP 2023'!B7/'Table 1.2 GDP KP 2023'!$B$28*100 -> 0.0092054803 | C6: ='Table 1.2 GDP KP 2023'!C7/'Table 1.2 GDP KP 2023'!$C$28*100 -> 0.34163841 | D6: ='Table 1.2 GDP KP 2023'!D7/'Table 1.2 GDP KP 2023'!$D$28*100 -> 0.012923599 | E6: ='Table 1.2 GDP KP 2023'!E7/'Table 1.2 GDP KP 2023'!$E$28*100 -> 0.021387773 | F6: ='Table 1.2 GDP KP 2023'!F7/'Table 1.2 GDP KP 2023'!$F$28*100 -> 6.9692022 | G6: ='Table 1.2 GDP KP 2023'!G7/'Table 1.2 GDP KP 2023'!$G$28*100 -> 18.828265 | H6: ='Table 1.2 GDP KP 2023'!H7/'Table 1.2 GDP KP 2023'!$H$28*100 -> 0.16810184 | I6: ='Table 1.2 GDP KP 2023'!I7/'Table 1.2 GDP KP 2023'!$I$28*100 -> 0.12177359 | J6: ='Table 1.2 GDP KP 2023'!J7/'Table 1.2 GDP KP 2023'!$J$28*100 -> 0.67059582 | K6: ='Table 1.2 GDP KP 2023'!K7/'Table 1.2 GDP KP 2023'!$K$28*100 -> 0.026273027 | L6: ='Table 1.2 GDP KP 2023'!L7/'Table 1.2 GDP KP 2023'!$L$28*100 -> 2.0288402
A7: Water Supply; Sewerage, Waste Management & Remediation Activities | B7: ='Table 1.2 GDP KP 2023'!B8/'Table 1.2 GDP KP 2023'!$B$28*100 -> 0.82124045 | C7: ='Table 1.2 GDP KP 2023'!C8/'Table 1.2 GDP KP 2023'!$C$28*100 -> 0.32691649 | D7: ='Table 1.2 GDP KP 2023'!D8/'Table 1.2 GDP KP 2023'!$D$28*100 -> 0.17944009 | E7: ='Table 1.2 GDP KP 2023'!E8/'Table 1.2 GDP KP 2023'!$E$28*100 -> 0.25199562 | F7: ='Table 1.2 GDP KP 2023'!F8/'Table 1.2 GDP KP 2023'!$F$28*100 -> 0.27207111 | G7: ='Table 1.2 GDP KP 2023'!G8/'Table 1.2 GDP KP 2023'!$G$28*100 -> 0.1391256 | H7: ='Table 1.2 GDP KP 2023'!H8/'Table 1.2 GDP KP 2023'!$H$28*100 -> 0.24331015 | I7: ='Table 1.2 GDP KP 2023'!I8/'Table 1.2 GDP KP 2023'!$I$28*100 -> 0.51218882 | J7: ='Table 1.2 GDP KP 2023'!J8/'Table 1.2 GDP KP 2023'!$J$28*100 -> 0.3723868 | K7: ='Table 1.2 GDP KP 2023'!K8/'Table 1.2 GDP KP 2023'!$K$28*100 -> 0.72241627 | L7: ='Table 1.2 GDP KP 2023'!L8/'Table 1.2 GDP KP 2023'!$L$28*100 -> 0.46768299
A8: Construction | B8: ='Table 1.2 GDP KP 2023'!B9/'Table 1.2 GDP KP 2023'!$B$28*100 -> 3.9852687 | C8: ='Table 1.2 GDP KP 2023'!C9/'Table 1.2 GDP KP 2023'!$C$28*100 -> 1.7508384 | D8: ='Table 1.2 GDP KP 2023'!D9/'Table 1.2 GDP KP 2023'!$D$28*100 -> 2.499015 | E8: ='Table 1.2 GDP KP 2023'!E9/'Table 1.2 GDP KP 2023'!$E$28*100 -> 2.4223845 | F8: ='Table 1.2 GDP KP 2023'!F9/'Table 1.2 GDP KP 2023'!$F$28*100 -> 2.0144035 | G8: ='Table 1.2 GDP KP 2023'!G9/'Table 1.2 GDP KP 2023'!$G$28*100 -> 1.9516353 | H8: ='Table 1.2 GDP KP 2023'!H9/'Table 1.2 GDP KP 2023'!$H$28*100 -> 1.8067454 | I8: ='Table 1.2 GDP KP 2023'!I9/'Table 1.2 GDP KP 2023'!$I$28*100 -> 1.6608267 | J8: ='Table 1.2 GDP KP 2023'!J9/'Table 1.2 GDP KP 2023'!$J$28*100 -> 1.5281287 | K8: ='Table 1.2 GDP KP 2023'!K9/'Table 1.2 GDP KP 2023'!$K$28*100 -> 2.9902549 | L8: ='Table 1.2 GDP KP 2023'!L9/'Table 1.2 GDP KP 2023'!$L$28*100 -> 2.4343376
A9: Wholesale and Retail Trade; Repair of Motor Vehicles and Motorcycles | B9: ='Table 1.2 GDP KP 2023'!B10/'Table 1.2 GDP KP 2023'!$B$28*100 -> 18.320782 | C9: ='Table 1.2 GDP KP 2023'!C10/'Table 1.2 GDP KP 2023'!$C$28*100 -> 10.548116 | D9: ='Table 1.2 GDP KP 2023'!D10/'Table 1.2 GDP KP 2023'!$D$28*100 -> 9.2540034 | E9: ='Table 1.2 GDP KP 2023'!E10/'Table 1.2 GDP KP 2023'!$E$28*100 -> 6.3456373 | F9: ='Table 1.2 GDP KP 2023'!F10/'Table 1.2 GDP KP 2023'!$F$28*100 -> 6.7321338 | G9: ='Table 1.2 GDP KP 2023'!G10/'Table 1.2 GDP KP 2023'!$G$28*100 -> 6.430395 | H9: ='Table 1.2 GDP KP 2023'!H10/'Table 1.2 GDP KP 2023'!$H$28*100 -> 13.46356 | I9: ='Table 1.2 GDP KP 2023'!I10/'Table 1.2 GDP KP 2023'!$I$28*100 -> 8.778756 | J9: ='Table 1.2 GDP KP 2023'!J10/'Table 1.2 GDP KP 2023'!$J$28*100 -> 12.064019 | K9: ='Table 1.2 GDP KP 2023'!K10/'Table 1.2 GDP KP 2023'!$K$28*100 -> 16.213922 | L9: ='Table 1.2 GDP KP 2023'!L10/'Table 1.2 GDP KP 2023'!$L$28*100 -> 11.814155
A10: Transportation and Storage | B10: ='Table 1.2 GDP KP 2023'!B11/'Table 1.2 GDP KP 2023'!$B$28*100 -> 2.6814403 | C10: ='Table 1.2 GDP KP 2023'!C11/'Table 1.2 GDP KP 2023'!$C$28*100 -> 2.6587624 | D10: ='Table 1.2 GDP KP 2023'!D11/'Table 1.2 GDP KP 2023'!$D$28*100 -> 2.0960886 | E10: ='Table 1.2 GDP KP 2023'!E11/'Table 1.2 GDP KP 2023'!$E$28*100 -> 2.9994965 | F10: ='Table 1.2 GDP KP 2023'!F11/'Table 1.2 GDP KP 2023'!$F$28*100 -> 2.4819843 | G10: ='Table 1.2 GDP KP 2023'!G11/'Table 1.2 GDP KP 2023'!$G$28*100 -> 2.8725765 | H10: ='Table 1.2 GDP KP 2023'!H11/'Table 1.2 GDP KP 2023'!$H$28*100 -> 3.9974798 | I10: ='Table 1.2 GDP KP 2023'!I11/'Table 1.2 GDP KP 2023'!$I$28*100 -> 2.2553764 | J10: ='Table 1.2 GDP KP 2023'!J11/'Table 1.2 GDP KP 2023'!$J$28*100 -> 3.820748 | K10: ='Table 1.2 GDP KP 2023'!K11/'Table 1.2 GDP KP 2023'!$K$28*100 -> 4.2081557 | L10: ='Table 1.2 GDP KP 2023'!L11/'Table 1.2 GDP KP 2023'!$L$28*100 -> 3.0911886
A11: Accommodation and Food Service Activities | B11: ='Table 1.2 GDP KP 2023'!B12/'Table 1.2 GDP KP 2023'!$B$28*100 -> 3.6353079 | C11: ='Table 1.2 GDP KP 2023'!C12/'Table 1.2 GDP KP 2023'!$C$28*100 -> 1.9387214 | D11: ='Table 1.2 GDP KP 2023'!D12/'Table 1.2 GDP KP 2023'!$D$28*100 -> 1.8751584 | E11: ='Table 1.2 GDP KP 2023'!E12/'Table 1.2 GDP KP 2023'!$E$28*100 -> 2.0426043 | F11: ='Table 1.2 GDP KP 2023'!F12/'Table 1.2 GDP KP 2023'!$F$28*100 -> 1.4737577 | G11: ='Table 1.2 GDP KP 2023'!G12/'Table 1.2 GDP KP 2023'!$G$28*100 -> 1.9078456 | H11: ='Table 1.2 GDP KP 2023'!H12/'Table 1.2 GDP KP 2023'!$H$28*100 -> 2.3090138 | I11: ='Table 1.2 GDP KP 2023'!I12/'Table 1.2 GDP KP 2023'!$I$28*100 -> 1.3977995 | J11: ='Table 1.2 GDP KP 2023'!J12/'Table 1.2 GDP KP 2023'!$J$28*100 -> 2.1568619 | K11: ='Table 1.2 GDP KP 2023'!K12/'Table 1.2 GDP KP 2023'!$K$28*100 -> 2.4594023 | L11: ='Table 1.2 GDP KP 2023'!L12/'Table 1.2 GDP KP 2023'!$L$28*100 -> 2.1967252
A12: Information and Communication | B12: ='Table 1.2 GDP KP 2023'!B13/'Table 1.2 GDP KP 2023'!$B$28*100 -> 2.6472951 | C12: ='Table 1.2 GDP KP 2023'!C13/'Table 1.2 GDP KP 2023'!$C$28*100 -> 1.5324863 | D12: ='Table 1.2 GDP KP 2023'!D13/'Table 1.2 GDP KP 2023'!$D$28*100 -> 1.4657877 | E12: ='Table 1.2 GDP KP 2023'!E13/'Table 1.2 GDP KP 2023'!$E$28*100 -> 1.7481209 | F12: ='Table 1.2 GDP KP 2023'!F13/'Table 1.2 GDP KP 2023'!$F$28*100 -> 1.4052862 | G12: ='Table 1.2 GDP KP 2023'!G13/'Table 1.2 GDP KP 2023'!$G$28*100 -> 1.086953 | H12: ='Table 1.2 GDP KP 2023'!H13/'Table 1.2 GDP KP 2023'!$H$28*100 -> 2.3382095 | I12: ='Table 1.2 GDP KP 2023'!I13/'Table 1.2 GDP KP 2023'!$I$28*100 -> 1.2834599 | J12: ='Table 1.2 GDP KP 2023'!J13/'Table 1.2 GDP KP 2023'!$J$28*100 -> 2.0450085 | K12: ='Table 1.2 GDP KP 2023'!K13/'Table 1.2 GDP KP 2023'!$K$28*100 -> 2.2406458 | L12: ='Table 1.2 GDP KP 2023'!L13/'Table 1.2 GDP KP 2023'!$L$28*100 -> 1.8526174
A13: Financial and Insurance Activities | B13: ='Table 1.2 GDP KP 2023'!B14/'Table 1.2 GDP KP 2023'!$B$28*100 -> 15.254566 | C13: ='Table 1.2 GDP KP 2023'!C14/'Table 1.2 GDP KP 2023'!$C$28*100 -> 8.2900811 | D13: ='Table 1.2 GDP KP 2023'!D14/'Table 1.2 GDP KP 2023'!$D$28*100 -> 8.6735639 | E13: ='Table 1.2 GDP KP 2023'!E14/'Table 1.2 GDP KP 2023'!$E$28*100 -> 8.1043328 | F13: ='Table 1.2 GDP KP 2023'!F14/'Table 1.2 GDP KP 2023'!$F$28*100 -> 7.661993 | G13: ='Table 1.2 GDP KP 2023'!G14/'Table 1.2 GDP KP 2023'!$G$28*100 -> 8.9742788 | H13: ='Table 1.2 GDP KP 2023'!H14/'Table 1.2 GDP KP 2023'!$H$28*100 -> 8.7838514 | I13: ='Table 1.2 GDP KP 2023'!I14/'Table 1.2 GDP KP 2023'!$I$28*100 -> 6.4809804 | J13: ='Table 1.2 GDP KP 2023'!J14/'Table 1.2 GDP KP 2023'!$J$28*100 -> 10.043451 | K13: ='Table 1.2 GDP KP 2023'!K14/'Table 1.2 GDP KP 2023'!$K$28*100 -> 16.062878 | L13: ='Table 1.2 GDP KP 2023'!L14/'Table 1.2 GDP KP 2023'!$L$28*100 -> 10.868995
A14: Real Estate Activities | B14: ='Table 1.2 GDP KP 2023'!B15/'Table 1.2 GDP KP 2023'!$B$28*100 -> 2.9276877 | C14: ='Table 1.2 GDP KP 2023'!C15/'Table 1.2 GDP KP 2023'!$C$28*100 -> 2.3433972 | D14: ='Table 1.2 GDP KP 2023'!D15/'Table 1.2 GDP KP 2023'!$D$28*100 -> 1.986607 | E14: ='Table 1.2 GDP KP 2023'!E15/'Table 1.2 GDP KP 2023'!$E$28*100 -> 2.7367768 | F14: ='Table 1.2 GDP KP 2023'!F15/'Table 1.2 GDP KP 2023'!$F$28*100 -> 2.0098027 | G14: ='Table 1.2 GDP KP 2023'!G15/'Table 1.2 GDP KP 2023'!$G$28*100 -> 1.3253778 | H14: ='Table 1.2 GDP KP 2023'!H15/'Table 1.2 GDP KP 2023'!$H$28*100 -> 2.6262807 | I14: ='Table 1.2 GDP KP 2023'!I15/'Table 1.2 GDP KP 2023'!$I$28*100 -> 2.2599316 | J14: ='Table 1.2 GDP KP 2023'!J15/'Table 1.2 GDP KP 2023'!$J$28*100 -> 3.374891 | K14: ='Table 1.2 GDP KP 2023'!K15/'Table 1.2 GDP KP 2023'!$K$28*100 -> 3.1109557 | L14: ='Table 1.2 GDP KP 2023'!L15/'Table 1.2 GDP KP 2023'!$L$28*100 -> 2.57666
... A27: GDP at Market Prices | B27: ='Table 1.2 GDP KP 2023'!B28/'Table 1.2 GDP KP 2023'!$B$28*100 -> 100 | C27: ='Table 1.2 GDP KP 2023'!C28/'Table 1.2 GDP KP 2023'!$C$28*100 -> 100 | D27: ='Table 1.2 GDP KP 2023'!D28/'Table 1.2 GDP KP 2023'!$D$28*100 -> 100 | E27: ='Table 1.2 GDP KP 2023'!E28/'Table 1.2 GDP KP 2023'!$E$28*100 -> 100 | F27: ='Table 1.2 GDP KP 2023'!F28/'Table 1.2 GDP KP 2023'!$F$28*100 -> 100 | G27: ='Table 1.2 GDP KP 2023'!G28/'Table 1.2 GDP KP 2023'!$G$28*100 -> 100 | H27: ='Table 1.2 GDP KP 2023'!H28/'Table 1.2 GDP KP 2023'!$H$28*100 -> 100 | I27: ='Table 1.2 GDP KP 2023'!I28/'Table 1.2 GDP KP 2023'!$I$28*100 -> 100 | J27: ='Table 1.2 GDP KP 2023'!J28/'Table 1.2 GDP KP 2023'!$J$28*100 -> 100 | K27: ='Table 1.2 GDP KP 2023'!K28/'Table 1.2 GDP KP 2023'!$K$28*100 -> 100 | L27: ='Table 1.2 GDP KP 2023'!L28/'Table 1.2 GDP KP 2023'!$L$28*100 -> 100

Sheet Table 1.5 GDP CP 2024
A1: Table 1.5: Gross Domestic Product by Industry at Current Prices in Zimbabwean Gold Dollars 2024
A3: Industry | B3: Bulawayo | C3: Manicaland | D3: Mash. Central | E3: Mash. East | F3: Mash. West | G3: Mat. North | H3: Mat. South | I3: Midlands | J3: Masvingo | K3: Harare | L3: Total
A4: Agriculture, Hunting and Fishing and Forestry | B4: 1.4872878e+09 | C4: 1.2148922e+10 | D4: 1.2349188e+10 | E4: 1.1307329e+10 | F4: 1.2324391e+10 | G4: 2.6738024e+09 | H4: 1.6765182e+09 | I4: 7.7982649e+09 | J4: 7.8213103e+09 | K4: 1.9135755e+09 | L4: 7.1500589e+10
A5: Mining and Quarrying | B5: 8.6685695e+08 | C5: 1.6548879e+10 | D5: 5.3437858e+09 | E5: 7.2347596e+09 | F5: 2.7983551e+10 | G5: 9.4893708e+09 | H5: 9.031377e+09 | I5: 3.3780576e+10 | J5: 5.2293955e+09 | K5: 2.4395145e+09 | L5: 1.1794807e+11
A6: Manufacturing | B6: 1.8921283e+10 | C6: 1.1478912e+10 | D6: 5.5696906e+09 | E6: 8.8677745e+09 | F6: 7.5937415e+09 | G6: 5.6695514e+09 | H6: 5.3736443e+09 | I6: 1.428144e+10 | J6: 8.0730807e+09 | K6: 4.2257532e+10 | L6: 1.2808665e+11
A7: Electricity, Gas, Steam and Air Conditioning Supply | B7: 6333169.4 | C7: 1.5741905e+08 | D7: 7833547.9 | E7: 16089905 | F7: 3.5907444e+09 | G7: 1.335811e+10 | H7: 63504878 | I7: 1.1309885e+08 | J7: 5.8003797e+08 | K7: 59025654 | L7: 17952197832
A8: Water Supply; Sewerage, Waste Management & Remediation Activities | B8: 8.2311179e+08 | C8: 2.5157079e+08 | D8: 1.099604e+08 | E8: 1.4143611e+08 | F8: 2.7630278e+08 | G8: 65824044 | H8: 1.0240593e+08 | I8: 5.1009745e+08 | J8: 2.743706e+08 | K8: 1.2499036e+09 | L8: 3804983496 | M8: =#REF!-L8 -> #REF!
A9: Construction | B9: 4.2469852e+09 | C9: 1.4334836e+09 | D9: 1.4930019e+09 | E9: 1.4163343e+09 | F9: 1.8460767e+09 | G9: 9.3615255e+08 | H9: 6.8597385e+08 | I9: 1.5575642e+09 | J9: 9.9163573e+08 | K9: 5.5684936e+09 | L9: 2.0175702e+10
A10: Wholesale and Retail Trade; Repair of Motor Vehicles and Motorcycles | B10: 1.8929362e+10 | C10: 8.9086947e+09 | D10: 5.1667839e+09 | E10: 3.7834887e+09 | F10: 6.3486734e+09 | G10: 3.1190208e+09 | H10: 5.1157257e+09 | I10: 8.1406206e+09 | J10: 7.4784381e+09 | K10: 3.0079742e+10 | L10: 9.707055e+10
A11: Transportation and Storage | B11: 3.0300673e+09 | C11: 2.3425165e+09 | D11: 1.5607807e+09 | E11: 1.8433358e+09 | F11: 2.4038713e+09 | G11: 1.4324737e+09 | H11: 1.6119097e+09 | I11: 2.2416039e+09 | J11: 2.4611896e+09 | K11: 7.9819937e+09 | L11: 2.6909742e+10
A12: Accommodation and Food Service Activities | B12: 4.5669851e+09 | C12: 2.1289942e+09 | D12: 1.4646909e+09 | E12: 1.3040003e+09 | F12: 1.2922589e+09 | G12: 1.2698629e+09 | H12: 9.8288003e+08 | I12: 1.6555315e+09 | J12: 1.530549e+09 | K12: 4.9846874e+09 | L12: 2.118044e+10
A13: Information and Communication | B13: 2.8164511e+09 | C13: 1.2698362e+09 | D13: 8.0980574e+08 | E13: 1.0173897e+09 | F13: 1.2836752e+09 | G13: 5.3378744e+08 | H13: 8.8371477e+08 | I13: 1.1983604e+09 | J13: 1.2429187e+09 | K13: 4.1516801e+09 | L13: 1.5207619e+10
A14: Financial and Insurance Activities | B14: 1.647988e+10 | C14: 6.9665967e+09 | D14: 4.8683884e+09 | E14: 4.7630669e+09 | F14: 7.0976425e+09 | G14: 4.3899443e+09 | H14: 3.3892099e+09 | I14: 6.137715e+09 | J14: 6.123403e+09 | K14: 3.0000177e+10 | L14: 9.0216023e+10 | M14: =#REF!-L14 -> #REF!
A15: Real Estate Activities | B15: 3.7371797e+09 | C15: 1.9367818e+09 | D15: 1.0954529e+09 | E15: 1.5810335e+09 | F15: 1.826457e+09 | G15: 6.5411178e+08 | H15: 9.9439736e+08 | I15: 1.4754908e+09 | J15: 2.0438623e+09 | K15: 5.7216347e+09 | L15: 2.1066402e+10 | M15: =#REF!-L15 -> #REF!
A16: Professional, Scientific and Technical Activities | B16: 9.1615623e+08 | C16: 3.3632995e+08 | D16: 2.5948934e+08 | E16: 1.6363715e+08 | F16: 2.7034552e+08 | G16: 1.3080381e+08 | H16: 69108895 | I16: 4.6337382e+08 | J16: 2.6743289e+08 | K16: 2.4254309e+09 | L16: 5.3021085e+09
A17: Administrative and support service activities | B17: 2.992332e+09 | C17: 1.4824673e+09 | D17: 1.350439e+09 | E17: 1.8054494e+09 | F17: 1.1160656e+09 | G17: 1.0705644e+09 | H17: 3.9189664e+08 | I17: 1.9410668e+09 | J17: 1.1507988e+09 | K17: 6.5004579e+09 | L17: 1.9801538e+10
A18: Public Administration, Defence; Compulsory Social Security | B18: 6.9691886e+09 | C18: 2.8576853e+09 | D18: 3.5069754e+09 | E18: 3.0891188e+09 | F18: 2.4639013e+09 | G18: 2.6702438e+09 | H18: 2.2478207e+09 | I18: 3.0182177e+09 | J18: 3.6935078e+09 | K18: 9.3442481e+09 | L18: 39860907523
A19: Education | B19: 5.7414733e+09 | C19: 3.3549573e+09 | D19: 3.3895445e+09 | E19: 2.8015623e+09 | F19: 2.7669751e+09 | G19: 1.5910107e+09 | H19: 1.8677082e+09 | I19: 3.3895445e+09 | J19: 3.2857829e+09 | K19: 6.3986299e+09 | L19: 3.4587188e+10
A20: Human Health and Social Work Activities | B20: 2.6290334e+09 | C20: 1.7863945e+09 | D20: 1.51675e+09 | E20: 1.3482223e+09 | F20: 1.6515723e+09 | G20: 8.5949169e+08 | H20: 7.2466947e+08 | I20: 1.4156334e+09 | J20: 1.365075e+09 | K20: 3.5559362e+09 | L20: 1.6852778e+10
A21: Arts, Entertainment and Recreation | B21: 70585048 | C21: 83174017 | D21: 68761818 | E21: 59124745 | F21: 89772374 | G21: 86646836 | H21: 64768076 | I21: 1.017536e+08 | J21: 37680087 | K21: 3.8826117e+08 | L21: 1.0505278e+09
A22: Other Services | B22: 3.5387056e+09 | C22: 1.9888404e+09 | D22: 2.0883246e+09 | E22: 1.7115709e+09 | F22: 2.3057291e+09 | G22: 1.3710132e+09 | H22: 1.0521185e+09 | I22: 2.1152775e+09 | J22: 1.9472988e+09 | K22: 6.3727436e+09 | L22: 2.4491622e+10
A23: Activities of Households as Employers | B23: 4.3343082e+08 | C23: 2.8255198e+08 | D23: 2.5286747e+08 | E23: 2.5495795e+08 | F23: 2.6651671e+08 | G23: 2.3179655e+08 | H23: 2.3573395e+08 | I23: 2.7036961e+08 | J23: 2.4407906e+08 | K23: 3.8060801e+08 | L23: 2.8529121e+09
A24: GDP at Basic Prices | B24: =SUM(B4:B23) -> 9.9202687e+10 | C24: =SUM(C4:C23) -> 7.7745007e+10 | D24: =SUM(D4:D23) -> 5.2272515e+10 | E24: =SUM(E4:E23) -> 5.4509682e+10 | F24: =SUM(F4:F23) -> 8.4798263e+10 | G24: =SUM(G4:G23) -> 5.1603584e+10 | H24: =SUM(H4:H23) -> 3.6565086e+10 | I24: =SUM(I4:I23) -> 9.16056e+10 | ... L24: =SUM(L4:L23) -> 7.7591855e+11
A25: Net Taxes on Products | B25: =B26-B27 -> 8.1336381e+09 | C25: =C26-C27 -> 4.2905307e+09 | D25: =D26-D27 -> 2.007931e+09 | E25: =E26-E27 -> 2.5280203e+09 | F25: =F26-F27 -> 2.9352553e+09 | G25: =G26-G27 -> 2.0284167e+09 | H25: =H26-H27 -> 1.8771066e+09 | I25: =I26-I27 -> 4.6227279e+09 | ... L25: =L26-L27 -> 4.7019744e+10
A26: Taxes on Products | B26: 8.3187234e+09 | C26: 4.398683e+09 | D26: 2.1060485e+09 | E26: 2.618333e+09 | F26: 3.024453e+09 | G26: 2.0908551e+09 | H26: 1.9373151e+09 | I26: 4.7319952e+09 | J26: 3.3988172e+09 | K26: 1.5509492e+10 | L26: 4.8134716e+10
A27: Less Subsidies on Products | B27: 1.8508533e+08 | C27: 1.0815227e+08 | D27: 98117522 | E27: 90312719 | F27: 89197747 | G27: 62438423 | H27: 60208480 | I27: 1.0926724e+08 | J27: 1.0592233e+08 | K27: 2.0626979e+08 | L27: 1.1149718e+09
A28: GDP at Market Prices | B28: =B24+B25 -> 1.0733633e+11 | C28: =C24+C25 -> 8.2035538e+10 | D28: =D24+D25 -> 5.4280446e+10 | E28: =E24+E25 -> 5.7037702e+10 | F28: =F24+F25 -> 8.7733519e+10 | G28: =G24+G25 -> 5.3632e+10 | H28: =H24+H25 -> 3.8442193e+10 | I28: =I24+I25 -> 9.6228328e+10 | ... L28: =L24+L25 -> 8.2293829e+11
A29: Population (absolute figures) | B29: 667053 | C29: 2140114 | D29: 1442213 | E29: 1810701 | F29: 1969737 | G29: 845363 | H29: 763192 | I29: 1874767 | J29: 1691885 | K29: 2469285 | L29: =SUM(B29:K29) -> 15674310
A30: GDP per capita ZWG | B30: =B28/B29 -> 160911.24 | C30: =C28/C29 -> 38332.321 | D30: =D28/D29 -> 37636.914 | E30: =E28/E29 -> 31500.343 | F30: =F28/F29 -> 44540.727 | G30: =G28/G29 -> 63442.569 | H30: =H28/H29 -> 50370.277 | I30: =I28/I29 -> 51328.153 | ... L30: =L28/L29 -> 52502.361
A31: Exchange Rate ZWG to USD | B31: 18 | C31: 18 | D31: 18 | E31: 18 | F31: 18 | G31: 18 | H31: 18 | I31: 18 | J31: 18 | K31: 18 | L31: 18

Sheet Table 1.6 GDP CONTRI % 2024 CP
A1: Table 1.6: Percent Contribution Gross Domestic Product by Industry at Current Prices in ZWG Dollars 2024
A3: Industry | B3: Bulawayo | C3: Manicaland | D3: Mash. Central | E3: Mash. East | F3: Mash. West | G3: Mat. North | H3: Mat. South | I3: Midlands | J3: Masvingo | K3: Harare | L3: Total
A4: Agriculture, Hunting and Fishing and Forestry | B4: 2.0801056 | C4: 16.991359 | D4: 17.27145 | E4: 15.814316 | F4: 17.236768 | G4: 3.7395529 | H4: 2.3447614 | I4: 10.906574 | J4: 10.938805 | K4: 2.6763074 | L4: 100
A5: Mining and Quarrying | B5: 0.734948 | C5: 14.030649 | D5: 4.530626 | E5: 6.1338518 | F5: 23.725316 | G5: 8.0453806 | H5: 7.6570794 | I5: 28.640211 | J5: 4.4336424 | K5: 2.0682954 | L5: 100
A6: Manufacturing | B6: 14.772252 | C6: 8.961833 | D6: 4.3483772 | E6: 6.9232622 | F6: 5.9285972 | G6: 4.4263407 | H6: 4.1953196 | I6: 11.149827 | J6: 6.3028276 | K6: 32.991363 | L6: 100
A7: Electricity, Gas, Steam and Air Conditioning Supply | B7: 0.035277961 | C7: 0.87687897 | D7: 0.043635592 | E7: 0.089626382 | F7: 20.001698 | G7: 74.409331 | H7: 0.35374431 | I7: 0.63 | J7: 3.2310137 | K7: 0.32879347 | L7: 100
A8: Water Supply; Sewerage, Waste Management & Remediation Activities | B8: 21.632467 | C8: 6.6116131 | D8: 2.8899047 | E8: 3.7171281 | F8: 7.2616027 | G8: 1.7299429 | H8: 2.6913632 | I8: 13.406036 | J8: 7.2108222 | K8: 32.849121 | L8: 100
A9: Construction | B9: 21.05 | C9: 7.105 | D9: 7.4 | E9: 7.02 | F9: 9.15 | G9: 4.64 | H9: 3.4 | I9: 7.72 | J9: 4.915 | K9: 27.6 | L9: 100
A10: Wholesale and Retail Trade; Repair of Motor Vehicles and Motorcycles | B10: 19.500623 | C10: 9.1775463 | D10: 5.32271 | E10: 3.897669 | F10: 6.5402673 | G10: 3.2131484 | H10: 5.270111 | I10: 8.3862928 | J10: 7.7041267 | K10: 30.987506 | L10: 100
A11: Transportation and Storage | B11: 11.260113 | C11: 8.7050871 | D11: 5.800058 | E11: 6.8500685 | F11: 8.9330893 | G11: 5.3232532 | H11: 5.9900599 | I11: 8.3300833 | J11: 9.1460915 | K11: 29.662097 | L11: 100
A12: Accommodation and Food Service Activities | B12: 21.562277 | C12: 10.051699 | D12: 6.9152996 | E12: 6.1566252 | F12: 6.1011898 | G12: 5.9954511 | H12: 4.640508 | I12: 7.8163226 | J12: 7.2262378 | K12: 23.53439 | L12: 100
A13: Information and Communication | B13: 18.52 | C13: 8.35 | D13: 5.325 | E13: 6.69 | F13: 8.441 | G13: 3.51 | H13: 5.811 | I13: 7.88 | J13: 8.173 | K13: 27.3 | L13: 100
A14: Financial and Insurance Activities | B14: 18.267132 | C14: 7.7221279 | D14: 5.3963678 | E14: 5.2796241 | F14: 7.8673857 | G14: 4.8660362 | H14: 3.7567716 | I14: 6.8033535 | J14: 6.7874894 | K14: 33.253712 | L14: 100
A15: Real Estate Activities | B15: 17.74 | C15: 9.1937 | D15: 5.2 | E15: 7.505 | F15: 8.67 | G15: 3.105 | H15: 4.7203 | I15: 7.004 | J15: 9.702 | K15: 27.16 | L15: 100
... A28: GDP at Market Prices | B28: 12.932099 | C28: 9.9916615 | D28: 6.5325928 | E28: 6.9801019 | F28: 10.759809 | G28: 6.5207444 | H28: 4.6627394 | I28: 11.73799 | J28: 7.2035101 | K28: 22.678752 | L28: 100

Sheet Table 1.7 GDP KP 2024
A1: Table 1.7: Gross Domestic Product by Industry for 2024 at Constant Prices in ZWG Dollars 2023=100
A3: Industry | B3: Bulawayo | C3: Manicaland | D3: Mash. Central | E3: Mash. East | F3: Mash. West | G3: Mat. North | H3: Mat. South | I3: Midlands | J3: Masvingo | K3: Harare | L3: Total
A4: Agriculture, Hunting and Fishing and Forestry | B4: 1.3235031e+08 | C4: 1.0811046e+09 | D4: 1.0989258e+09 | E4: 1.0062131e+09 | F4: 1.0967191e+09 | G4: 2.3793551e+08 | H4: 1.4918949e+08 | I4: 6.9394962e+08 | J4: 6.9600038e+08 | K4: 1.7028468e+08 | L4: 6.3626726e+09
A5: Mining and Quarrying | B5: 73184689 | C5: 1.3971447e+09 | D5: 4.5115091e+08 | E5: 6.1079701e+08 | F5: 2.3625207e+09 | G5: 8.0114332e+08 | H5: 7.6247704e+08 | I5: 2.8519364e+09 | J5: 4.4149347e+08 | K5: 2.0595683e+08 | L5: 9.9578051e+09
A6: Manufacturing | B6: 1.5503844e+09 | C6: 9.4056652e+08 | D6: 4.5637293e+08 | E6: 7.2661348e+08 | F6: 6.2222093e+08 | G6: 4.6455539e+08 | H6: 4.4030916e+08 | I6: 1.1702019e+09 | J6: 6.6149733e+08 | K6: 3.4625251e+09 | L6: 1.0495247e+10
A7: Electricity, Gas, Steam and Air Conditioning Supply | B7: 534679.95 | C7: 13290156 | D7: 661349.91 | E7: 1358395.7 | F7: 3.0314981e+08 | G7: 1.127763e+09 | H7: 5361420.7 | I7: 9548408.1 | J7: 48969900 | K7: 4983260.7 | L7: 1.5156203e+09
A8: Water Supply; Sewerage, Waste Management & Remediation Activities | B8: 69491489 | C8: 21238948 | D8: 9283443.4 | E8: 11940791 | F8: 23326955 | G8: 5557217 | H8: 8645654.8 | I8: 43065148 | J8: 23163830 | K8: 1.0552353e+08 | L8: 3.2123701e+08
A9: Construction | B9: 3.5855315e+08 | C9: 1.2102233e+08 | D9: 1.2604719e+08 | E9: 1.1957449e+08 | F9: 1.5585565e+08 | G9: 79034994 | H9: 57913573 | I9: 1.3149788e+08 | J9: 83719180 | K9: 4.7012195e+08 | L9: 1.7033404e+09
A10: Wholesale and Retail Trade; Repair of Motor Vehicles and Motorcycles | B10: 1.5981177e+09 | C10: 7.5211954e+08 | D10: 4.3620747e+08 | E10: 3.194223e+08 | F10: 5.3598888e+08 | G10: 2.6332438e+08 | H10: 4.3189686e+08 | I10: 6.8727463e+08 | J10: 6.3136965e+08 | K10: 2.5394924e+09 | L10: 8.1952138e+09
A11: Transportation and Storage | B11: 2.5581445e+08 | C11: 1.9776774e+08 | D11: 1.3176943e+08 | E11: 1.5562424e+08 | F11: 2.0294764e+08 | G11: 1.2093707e+08 | H11: 1.3608602e+08 | I11: 1.8924817e+08 | J11: 2.0778676e+08 | K11: 6.738825e+08 | L11: 2.271864e+09
A12: Accommodation and Food Service Activities | B12: 2.9972743e+08 | C12: 1.3972412e+08 | D12: 96126444 | E12: 85580455 | F12: 84809873 | G12: 83340047 | H12: 64505597 | I12: 1.0865116e+08 | J12: 1.0044865e+08 | K12: 3.2714088e+08 | L12: 1.3900547e+09
A13: Information and Communication | B13: 2.3777983e+08 | C13: 1.0720635e+08 | D13: 68368121 | E13: 85893471 | F13: 1.0837471e+08 | G13: 45065184 | H13: 74607916 | I13: 1.0117198e+08 | J13: 1.0493383e+08 | K13: 3.5050699e+08 | L13: 1.2839084e+09
A14: Financial and Insurance Activities | B14: 1.3601405e+09 | C14: 5.749769e+08 | D14: 4.0180464e+08 | E14: 3.931121e+08 | F14: 5.8579255e+08 | G14: 3.6231702e+08 | H14: 2.7972301e+08 | I14: 5.0656648e+08 | J14: 5.0538526e+08 | K14: 2.4760165e+09 | L14: 7.445835e+09
A15: Real Estate Activities | B15: 3.1551265e+08 | C15: 1.6351345e+08 | D15: 92483978 | E15: 1.3347928e+08 | F15: 1.5419925e+08 | G15: 55223606 | H15: 83952331 | I15: 1.245688e+08 | J15: 1.7255376e+08 | K15: 4.8305093e+08 | L15: 1.778538e+09
... A28: GDP at Market Prices | B28: 8.8892314e+09 | C28: 6.867784e+09 | D28: 4.4900612e+09 | E28: 4.7977202e+09 | F28: 7.3956428e+09 | G28: 4.4819817e+09 | H28: 3.2049217e+09 | I28: 8.0681371e+09 | J28: 4.9513392e+09 | K28: 1.558908e+10 | L28: 6.8735899e+10

Sheet Table 1.8 % GDP 2024 Cont KP
A1: Table 1.8: Percent Contribution Gross Domestic Product by Industry at Constant Prices for 2024
A2: Industry | B2: Bulawayo | C2: Manicaland | D2: Mash. Central | E2: Mash. East | F2: Mash. West | G2: Mat. North | H2: Mat. South | I2: Midlands | J2: Masvingo | K2: Harare | L2: Total
A3: Agriculture, Hunting and Fishing and Forestry | B3: ='Table 1.7 GDP KP 2024'!B4/'Table 1.7 GDP KP 2024'!$B$28*100 -> 1.4888836 | C3: ='Table 1.7 GDP KP 2024'!C4/'Table 1.7 GDP KP 2024'!$C$28*100 -> 15.74168 | D3: ='Table 1.7 GDP KP 2024'!D4/'Table 1.7 GDP KP 2024'!$D$28*100 -> 24.474629 | E3: ='Table 1.7 GDP KP 2024'!E4/'Table 1.7 GDP KP 2024'!$E$28*100 -> 20.972735 | F3: ='Table 1.7 GDP KP 2024'!F4/'Table 1.7 GDP KP 2024'!$F$28*100 -> 14.82926 | G3: ='Table 1.7 GDP KP 2024'!G4/'Table 1.7 GDP KP 2024'!$G$28*100 -> 5.3087122 | H3: ='Table 1.7 GDP KP 2024'!H4/'Table 1.7 GDP KP 2024'!$H$28*100 -> 4.655012 | I3: ='Table 1.7 GDP KP 2024'!I4/'Table 1.7 GDP KP 2024'!$I$28*100 -> 8.6011134 | J3: ='Table 1.7 GDP KP 2024'!J4/'Table 1.7 GDP KP 2024'!$J$28*100 -> 14.056811 | K3: ='Table 1.7 GDP KP 2024'!K4/'Table 1.7 GDP KP 2024'!$K$28*100 -> 1.0923331 | L3: ='Table 1.7 GDP KP 2024'!L4/'Table 1.7 GDP KP 2024'!$L$28*100 -> 9.2566951
A4: Mining and Quarrying | B4: ='Table 1.7 GDP KP 2024'!B5/'Table 1.7 GDP KP 2024'!$B$28*100 -> 0.82329603 | C4: ='Table 1.7 GDP KP 2024'!C5/'Table 1.7 GDP KP 2024'!$C$28*100 -> 20.343457 | D4: ='Table 1.7 GDP KP 2024'!D5/'Table 1.7 GDP KP 2024'!$D$28*100 -> 10.047767 | E4: ='Table 1.7 GDP KP 2024'!E5/'Table 1.7 GDP KP 2024'!$E$28*100 -> 12.730984 | F4: ='Table 1.7 GDP KP 2024'!F5/'Table 1.7 GDP KP 2024'!$F$28*100 -> 31.944765 | G4: ='Table 1.7 GDP KP 2024'!G5/'Table 1.7 GDP KP 2024'!$G$28*100 -> 17.874757 | H4: ='Table 1.7 GDP KP 2024'!H5/'Table 1.7 GDP KP 2024'!$H$28*100 -> 23.790816 | I4: ='Table 1.7 GDP KP 2024'!I5/'Table 1.7 GDP KP 2024'!$I$28*100 -> 35.34814 | J4: ='Table 1.7 GDP KP 2024'!J5/'Table 1.7 GDP KP 2024'!$J$28*100 -> 8.9166477 | K4: ='Table 1.7 GDP KP 2024'!K5/'Table 1.7 GDP KP 2024'!$K$28*100 -> 1.3211609 | L4: ='Table 1.7 GDP KP 2024'!L5/'Table 1.7 GDP KP 2024'!$L$28*100 -> 14.487051
A5: Manufacturing | B5: ='Table 1.7 GDP KP 2024'!B6/'Table 1.7 GDP KP 2024'!$B$28*100 -> 17.441152 | C5: ='Table 1.7 GDP KP 2024'!C6/'Table 1.7 GDP KP 2024'!$C$28*100 -> 13.695342 | D5: ='Table 1.7 GDP KP 2024'!D6/'Table 1.7 GDP KP 2024'!$D$28*100 -> 10.164069 | E5: ='Table 1.7 GDP KP 2024'!E6/'Table 1.7 GDP KP 2024'!$E$28*100 -> 15.144974 | F5: ='Table 1.7 GDP KP 2024'!F6/'Table 1.7 GDP KP 2024'!$F$28*100 -> 8.4133448 | G5: ='Table 1.7 GDP KP 2024'!G6/'Table 1.7 GDP KP 2024'!$G$28*100 -> 10.364955 | H5: ='Table 1.7 GDP KP 2024'!H6/'Table 1.7 GDP KP 2024'!$H$28*100 -> 13.738531 | I5: ='Table 1.7 GDP KP 2024'!I6/'Table 1.7 GDP KP 2024'!$I$28*100 -> 14.503991 | J5: ='Table 1.7 GDP KP 2024'!J6/'Table 1.7 GDP KP 2024'!$J$28*100 -> 13.359968 | K5: ='Table 1.7 GDP KP 2024'!K6/'Table 1.7 GDP KP 2024'!$K$28*100 -> 22.211221 | L5: ='Table 1.7 GDP KP 2024'!L6/'Table 1.7 GDP KP 2024'!$L$28*100 -> 15.268946
A6: Electricity, Gas, Steam and Air Conditioning Supply | B6: ='Table 1.7 GDP KP 2024'!B7/'Table 1.7 GDP KP 2024'!$B$28*100 -> 0.0060149177 | C6: ='Table 1.7 GDP KP 2024'!C7/'Table 1.7 GDP KP 2024'!$C$28*100 -> 0.19351447 | D6: ='Table 1.7 GDP KP 2024'!D7/'Table 1.7 GDP KP 2024'!$D$28*100 -> 0.014729196 | E6: ='Table 1.7 GDP KP 2024'!E7/'Table 1.7 GDP KP 2024'!$E$28*100 -> 0.028313358 | F6: ='Table 1.7 GDP KP 2024'!F7/'Table 1.7 GDP KP 2024'!$F$28*100 -> 4.0990326 | G6: ='Table 1.7 GDP KP 2024'!G7/'Table 1.7 GDP KP 2024'!$G$28*100 -> 25.16215 | H6: ='Table 1.7 GDP KP 2024'!H7/'Table 1.7 GDP KP 2024'!$H$28*100 -> 0.1672871 | I6: ='Table 1.7 GDP KP 2024'!I7/'Table 1.7 GDP KP 2024'!$I$28*100 -> 0.11834712 | J6: ='Table 1.7 GDP KP 2024'!J7/'Table 1.7 GDP KP 2024'!$J$28*100 -> 0.98902335 | K6: ='Table 1.7 GDP KP 2024'!K7/'Table 1.7 GDP KP 2024'!$K$28*100 -> 0.031966355 | L6: ='Table 1.7 GDP KP 2024'!L7/'Table 1.7 GDP KP 2024'!$L$28*100 -> 2.2049909
A7: Water Supply; Sewerage, Waste Management & Remediation Activities | B7: ='Table 1.7 GDP KP 2024'!B8/'Table 1.7 GDP KP 2024'!$B$28*100 -> 0.78174914 | C7: ='Table 1.7 GDP KP 2024'!C8/'Table 1.7 GDP KP 2024'!$C$28*100 -> 0.30925475 | D7: ='Table 1.7 GDP KP 2024'!D8/'Table 1.7 GDP KP 2024'!$D$28*100 -> 0.20675539 | E7: ='Table 1.7 GDP KP 2024'!E8/'Table 1.7 GDP KP 2024'!$E$28*100 -> 0.24888469 | F7: ='Table 1.7 GDP KP 2024'!F8/'Table 1.7 GDP KP 2024'!$F$28*100 -> 0.31541485 | G7: ='Table 1.7 GDP KP 2024'!G8/'Table 1.7 GDP KP 2024'!$G$28*100 -> 0.12399018 | H7: ='Table 1.7 GDP KP 2024'!H8/'Table 1.7 GDP KP 2024'!$H$28*100 -> 0.26976181 | I7: ='Table 1.7 GDP KP 2024'!I8/'Table 1.7 GDP KP 2024'!$I$28*100 -> 0.53376818 | J7: ='Table 1.7 GDP KP 2024'!J8/'Table 1.7 GDP KP 2024'!$J$28*100 -> 0.46782959 | K7: ='Table 1.7 GDP KP 2024'!K8/'Table 1.7 GDP KP 2024'!$K$28*100 -> 0.67690673 | L7: ='Table 1.7 GDP KP 2024'!L8/'Table 1.7 GDP KP 2024'!$L$28*100 -> 0.46734969
A8: Construction | B8: ='Table 1.7 GDP KP 2024'!B9/'Table 1.7 GDP KP 2024'!$B$28*100 -> 4.0335675 | C8: ='Table 1.7 GDP KP 2024'!C9/'Table 1.7 GDP KP 2024'!$C$28*100 -> 1.7621744 | D8: ='Table 1.7 GDP KP 2024'!D9/'Table 1.7 GDP KP 2024'!$D$28*100 -> 2.8072488 | E8: ='Table 1.7 GDP KP 2024'!E9/'Table 1.7 GDP KP 2024'!$E$28*100 -> 2.4923191 | F8: ='Table 1.7 GDP KP 2024'!F9/'Table 1.7 GDP KP 2024'!$F$28*100 -> 2.1073982 | G8: ='Table 1.7 GDP KP 2024'!G9/'Table 1.7 GDP KP 2024'!$G$28*100 -> 1.7633939 | H8: ='Table 1.7 GDP KP 2024'!H9/'Table 1.7 GDP KP 2024'!$H$28*100 -> 1.8070199 | I8: ='Table 1.7 GDP KP 2024'!I9/'Table 1.7 GDP KP 2024'!$I$28*100 -> 1.6298419 | J8: ='Table 1.7 GDP KP 2024'!J9/'Table 1.7 GDP KP 2024'!$J$28*100 -> 1.6908391 | K8: ='Table 1.7 GDP KP 2024'!K9/'Table 1.7 GDP KP 2024'!$K$28*100 -> 3.0157132 | L8: ='Table 1.7 GDP KP 2024'!L9/'Table 1.7 GDP KP 2024'!$L$28*100 -> 2.4780943
A9: Wholesale and Retail Trade; Repair of Motor Vehicles and Motorcycles | B9: ='Table 1.7 GDP KP 2024'!B10/'Table 1.7 GDP KP 2024'!$B$28*100 -> 17.978132 | C9: ='Table 1.7 GDP KP 2024'!C10/'Table 1.7 GDP KP 2024'!$C$28*100 -> 10.951415 | D9: ='Table 1.7 GDP KP 2024'!D10/'Table 1.7 GDP KP 2024'!$D$28*100 -> 9.7149559 | E9: ='Table 1.7 GDP KP 2024'!E10/'Table 1.7 GDP KP 2024'!$E$28*100 -> 6.6577936 | F9: ='Table 1.7 GDP KP 2024'!F10/'Table 1.7 GDP KP 2024'!$F$28*100 -> 7.2473603 | G9: ='Table 1.7 GDP KP 2024'!G10/'Table 1.7 GDP KP 2024'!$G$28*100 -> 5.8751775 | H9: ='Table 1.7 GDP KP 2024'!H10/'Table 1.7 GDP KP 2024'!$H$28*100 -> 13.47605 | I9: ='Table 1.7 GDP KP 2024'!I10/'Table 1.7 GDP KP 2024'!$I$28*100 -> 8.5183806 | J9: ='Table 1.7 GDP KP 2024'!J10/'Table 1.7 GDP KP 2024'!$J$28*100 -> 12.751493 | K9: ='Table 1.7 GDP KP 2024'!K10/'Table 1.7 GDP KP 2024'!$K$28*100 -> 16.2902 | L9: ='Table 1.7 GDP KP 2024'!L10/'Table 1.7 GDP KP 2024'!$L$28*100 -> 11.922756
A10: Transportation and Storage | B10: ='Table 1.7 GDP KP 2024'!B11/'Table 1.7 GDP KP 2024'!$B$28*100 -> 2.8778016 | C10: ='Table 1.7 GDP KP 2024'!C11/'Table 1.7 GDP KP 2024'!$C$28*100 -> 2.8796442 | D10: ='Table 1.7 GDP KP 2024'!D11/'Table 1.7 GDP KP 2024'!$D$28*100 -> 2.9346912 | E10: ='Table 1.7 GDP KP 2024'!E11/'Table 1.7 GDP KP 2024'!$E$28*100 -> 3.2437123 | F10: ='Table 1.7 GDP KP 2024'!F11/'Table 1.7 GDP KP 2024'!$F$28*100 -> 2.7441515 | G10: ='Table 1.7 GDP KP 2024'!G11/'Table 1.7 GDP KP 2024'!$G$28*100 -> 2.6982947 | H10: ='Table 1.7 GDP KP 2024'!H11/'Table 1.7 GDP KP 2024'!$H$28*100 -> 4.2461572 | I10: ='Table 1.7 GDP KP 2024'!I11/'Table 1.7 GDP KP 2024'!$I$28*100 -> 2.3456241 | J10: ='Table 1.7 GDP KP 2024'!J11/'Table 1.7 GDP KP 2024'!$J$28*100 -> 4.196577 | K10: ='Table 1.7 GDP KP 2024'!K11/'Table 1.7 GDP KP 2024'!$K$28*100 -> 4.3227855 | L10: ='Table 1.7 GDP KP 2024'!L11/'Table 1.7 GDP KP 2024'!$L$28*100 -> 3.3052074
A11: Accommodation and Food Service Activities | B11: ='Table 1.7 GDP KP 2024'!B12/'Table 1.7 GDP KP 2024'!$B$28*100 -> 3.3718037 | C11: ='Table 1.7 GDP KP 2024'!C12/'Table 1.7 GDP KP 2024'!$C$28*100 -> 2.0344862 | D11: ='Table 1.7 GDP KP 2024'!D12/'Table 1.7 GDP KP 2024'!$D$28*100 -> 2.1408716 | E11: ='Table 1.7 GDP KP 2024'!E12/'Table 1.7 GDP KP 2024'!$E$28*100 -> 1.7837734 | F11: ='Table 1.7 GDP KP 2024'!F12/'Table 1.7 GDP KP 2024'!$F$28*100 -> 1.1467546 | G11: ='Table 1.7 GDP KP 2024'!G12/'Table 1.7 GDP KP 2024'!$G$28*100 -> 1.8594464 | H11: ='Table 1.7 GDP KP 2024'!H12/'Table 1.7 GDP KP 2024'!$H$28*100 -> 2.0127043 | I11: ='Table 1.7 GDP KP 2024'!I12/'Table 1.7 GDP KP 2024'!$I$28*100 -> 1.3466697 | J11: ='Table 1.7 GDP KP 2024'!J12/'Table 1.7 GDP KP 2024'!$J$28*100 -> 2.0287169 | K11: ='Table 1.7 GDP KP 2024'!K12/'Table 1.7 GDP KP 2024'!$K$28*100 -> 2.0985259 | L11: ='Table 1.7 GDP KP 2024'!L12/'Table 1.7 GDP KP 2024'!$L$28*100 -> 2.0223125
A12: Information and Communication | B12: ='Table 1.7 GDP KP 2024'!B13/'Table 1.7 GDP KP 2024'!$B$28*100 -> 2.6749201 | C12: ='Table 1.7 GDP KP 2024'!C13/'Table 1.7 GDP KP 2024'!$C$28*100 -> 1.5610035 | D12: ='Table 1.7 GDP KP 2024'!D13/'Table 1.7 GDP KP 2024'!$D$28*100 -> 1.5226546 | E12: ='Table 1.7 GDP KP 2024'!E13/'Table 1.7 GDP KP 2024'!$E$28*100 -> 1.7902976 | F12: ='Table 1.7 GDP KP 2024'!F13/'Table 1.7 GDP KP 2024'!$F$28*100 -> 1.4653859 | G12: ='Table 1.7 GDP KP 2024'!G13/'Table 1.7 GDP KP 2024'!$G$28*100 -> 1.0054745 | H12: ='Table 1.7 GDP KP 2024'!H13/'Table 1.7 GDP KP 2024'!$H$28*100 -> 2.327917 | I12: ='Table 1.7 GDP KP 2024'!I13/'Table 1.7 GDP KP 2024'!$I$28*100 -> 1.2539695 | J12: ='Table 1.7 GDP KP 2024'!J13/'Table 1.7 GDP KP 2024'!$J$28*100 -> 2.119302 | K12: ='Table 1.7 GDP KP 2024'!K13/'Table 1.7 GDP KP 2024'!$K$28*100 -> 2.2484135 | L12: ='Table 1.7 GDP KP 2024'!L13/'Table 1.7 GDP KP 2024'!$L$28*100 -> 1.8678862
A13: Financial and Insurance Activities | B13: ='Table 1.7 GDP KP 2024'!B14/'Table 1.7 GDP KP 2024'!$B$28*100 -> 15.300991 | C13: ='Table 1.7 GDP KP 2024'!C14/'Table 1.7 GDP KP 2024'!$C$28*100 -> 8.3720878 | D13: ='Table 1.7 GDP KP 2024'!D14/'Table 1.7 GDP KP 2024'!$D$28*100 -> 8.9487565 | E13: ='Table 1.7 GDP KP 2024'!E14/'Table 1.7 GDP KP 2024'!$E$28*100 -> 8.1937272 | F13: ='Table 1.7 GDP KP 2024'!F14/'Table 1.7 GDP KP 2024'!$F$28*100 -> 7.9207794 | G13: ='Table 1.7 GDP KP 2024'!G14/'Table 1.7 GDP KP 2024'!$G$28*100 -> 8.0838577 | H13: ='Table 1.7 GDP KP 2024'!H14/'Table 1.7 GDP KP 2024'!$H$28*100 -> 8.7279203 | I13: ='Table 1.7 GDP KP 2024'!I14/'Table 1.7 GDP KP 2024'!$I$28*100 -> 6.2786052 | J13: ='Table 1.7 GDP KP 2024'!J14/'Table 1.7 GDP KP 2024'!$J$28*100 -> 10.207042 | K13: ='Table 1.7 GDP KP 2024'!K14/'Table 1.7 GDP KP 2024'!$K$28*100 -> 15.883019 | L13: ='Table 1.7 GDP KP 2024'!L14/'Table 1.7 GDP KP 2024'!$L$28*100 -> 10.832527
A14: Real Estate Activities | B14: ='Table 1.7 GDP KP 2024'!B15/'Table 1.7 GDP KP 2024'!$B$28*100 -> 3.5493806 | C14: ='Table 1.7 GDP KP 2024'!C15/'Table 1.7 GDP KP 2024'!$C$28*100 -> 2.3808765 | D14: ='Table 1.7 GDP KP 2024'!D15/'Table 1.7 GDP KP 2024'!$D$28*100 -> 2.0597487 | E14: ='Table 1.7 GDP KP 2024'!E15/'Table 1.7 GDP KP 2024'!$E$28*100 -> 2.7821398 | F14: ='Table 1.7 GDP KP 2024'!F15/'Table 1.7 GDP KP 2024'!$F$28*100 -> 2.0850013 | G14: ='Table 1.7 GDP KP 2024'!G15/'Table 1.7 GDP KP 2024'!$G$28*100 -> 1.2321248 | H14: ='Table 1.7 GDP KP 2024'!H15/'Table 1.7 GDP KP 2024'!$H$28*100 -> 2.6194815 | I14: ='Table 1.7 GDP KP 2024'!I15/'Table 1.7 GDP KP 2024'!$I$28*100 -> 1.5439599 | J14: ='Table 1.7 GDP KP 2024'!J15/'Table 1.7 GDP KP 2024'!$J$28*100 -> 3.4849917 | K14: ='Table 1.7 GDP KP 2024'!K15/'Table 1.7 GDP KP 2024'!$K$28*100 -> 3.0986494 | L14: ='Table 1.7 GDP KP 2024'!L15/'Table 1.7 GDP KP 2024'!$L$28*100 -> 2.5874951
... A27: GDP at Market Prices | B27: ='Table 1.7 GDP KP 2024'!B28/'Table 1.7 GDP KP 2024'!$B$28*100 -> 100 | C27: ='Table 1.7 GDP KP 2024'!C28/'Table 1.7 GDP KP 2024'!$C$28*100 -> 100 | D27: ='Table 1.7 GDP KP 2024'!D28/'Table 1.7 GDP KP 2024'!$D$28*100 -> 100 | E27: ='Table 1.7 GDP KP 2024'!E28/'Table 1.7 GDP KP 2024'!$E$28*100 -> 100 | F27: ='Table 1.7 GDP KP 2024'!F28/'Table 1.7 GDP KP 2024'!$F$28*100 -> 100 | G27: ='Table 1.7 GDP KP 2024'!G28/'Table 1.7 GDP KP 2024'!$G$28*100 -> 100 | H27: ='Table 1.7 GDP KP 2024'!H28/'Table 1.7 GDP KP 2024'!$H$28*100 -> 100 | I27: ='Table 1.7 GDP KP 2024'!I28/'Table 1.7 GDP KP 2024'!$I$28*100 -> 100 | J27: ='Table 1.7 GDP KP 2024'!J28/'Table 1.7 GDP KP 2024'!$J$28*100 -> 100 | K27: ='Table 1.7 GDP KP 2024'!K28/'Table 1.7 GDP KP 2024'!$K$28*100 -> 100 | L27: ='Table 1.7 GDP KP 2024'!L28/'Table 1.7 GDP KP 2024'!$L$28*100 -> 100

Sheet Table 1.9 GDP CONTRI % 2024 KP
A1: Table 1.9: Percent Contribution Gross Domestic Product by Industry at Constant Prices in ZWG Dollars 2024
A3: Industry | B3: Bulawayo | C3: Manicaland | D3: Mash. Central | E3: Mash. East | F3: Mash. West | G3: Mat. North | H3: Mat. South | I3: Midlands | J3: Masvingo | K3: Harare | L3: Total
A4: Agriculture, Hunting and Fishing and Forestry | B4: 2.0801056 | C4: 16.991359 | D4: 17.27145 | E4: 15.814316 | F4: 17.236768 | G4: 3.7395529 | H4: 2.3447614 | I4: 10.906574 | J4: 10.938805 | K4: 2.6763074 | L4: 100
A5: Mining and Quarrying | B5: 0.734948 | C5: 14.030649 | D5: 4.530626 | E5: 6.1338518 | F5: 23.725316 | G5: 8.0453806 | H5: 7.6570794 | I5: 28.640211 | J5: 4.4336424 | K5: 2.0682954 | L5: 100
A6: Manufacturing | B6: 14.772252 | C6: 8.961833 | D6: 4.3483772 | E6: 6.9232622 | F6: 5.9285972 | G6: 4.4263407 | H6: 4.1953196 | I6: 11.149827 | J6: 6.3028276 | K6: 32.991363 | L6: 100
A7: Electricity, Gas, Steam and Air Conditioning Supply | B7: 0.035277961 | C7: 0.87687897 | D7: 0.043635592 | E7: 0.089626382 | F7: 20.001698 | G7: 74.409331 | H7: 0.35374431 | I7: 0.63 | J7: 3.2310137 | K7: 0.32879347 | L7: 100
A8: Water Supply; Sewerage, Waste Management & Remediation Activities | B8: 21.632467 | C8: 6.6116131 | D8: 2.8899047 | E8: 3.7171281 | F8: 7.2616027 | G8: 1.7299429 | H8: 2.6913632 | I8: 13.406036 | J8: 7.2108222 | K8: 32.849121 | L8: 100
A9: Construction | B9: 21.05 | C9: 7.105 | D9: 7.4 | E9: 7.02 | F9: 9.15 | G9: 4.64 | H9: 3.4 | I9: 7.72 | J9: 4.915 | K9: 27.6 | L9: 100
A10: Wholesale and Retail Trade; Repair of Motor Vehicles and Motorcycles | B10: 19.500623 | C10: 9.1775463 | D10: 5.32271 | E10: 3.897669 | F10: 6.5402673 | G10: 3.2131484 | H10: 5.270111 | I10: 8.3862928 | J10: 7.7041267 | K10: 30.987506 | L10: 100
A11: Transportation and Storage | B11: 11.260113 | C11: 8.7050871 | D11: 5.800058 | E11: 6.8500685 | F11: 8.9330893 | G11: 5.3232532 | H11: 5.9900599 | I11: 8.3300833 | J11: 9.1460915 | K11: 29.662097 | L11: 100
A12: Accommodation and Food Service Activities | B12: 21.562277 | C12: 10.051699 | D12: 6.9152996 | E12: 6.1566252 | F12: 6.1011898 | G12: 5.9954511 | H12: 4.640508 | I12: 7.8163226 | J12: 7.2262378 | K12: 23.53439 | L12: 100
A13: Information and Communication | B13: 18.52 | C13: 8.35 | D13: 5.325 | E13: 6.69 | F13: 8.441 | G13: 3.51 | H13: 5.811 | I13: 7.88 | J13: 8.173 | K13: 27.3 | L13: 100
A14: Financial and Insurance Activities | B14: 18.267132 | C14: 7.7221279 | D14: 5.3963678 | E14: 5.2796241 | F14: 7.8673857 | G14: 4.8660362 | H14: 3.7567716 | I14: 6.8033535 | J14: 6.7874894 | K14: 33.253712 | L14: 100
A15: Real Estate Activities | B15: 17.74 | C15: 9.1937 | D15: 5.2 | E15: 7.505 | F15: 8.67 | G15: 3.105 | H15: 4.7203 | I15: 7.004 | J15: 9.702 | K15: 27.16 | L15: 100
... A28: GDP at Market Prices | B28: 12.932099 | C28: 9.9916615 | D28: 6.5325928 | E28: 6.9801019 | F28: 10.759809 | G28: 6.5207444 | H28: 4.6627394 | I28: 11.73799 | J28: 7.2035101 | K28: 22.678752 | L28: 100

Sheet Table 1.10 GDP Growth Rate 2024
A1: Table 1.10: Gross Domestic Product Constant 2023=100 Growth Rates, 2024
A3: Industry | B3: Bulawayo | C3: Manicaland | D3: Mash. Central | E3: Mash. East | F3: Mash. West | G3: Mat. North | H3: Mat. South | I3: Midlands | J3: Masvingo | K3: Harare | L3: Total
A4: Agriculture, Hunting and Fishing and Forestry | B4: ='Table 1.7 GDP KP 2024'!B4/'Table 1.2 GDP KP 2023'!B4*100-100 -> -25.577582 | C4: ='Table 1.7 GDP KP 2024'!C4/'Table 1.2 GDP KP 2023'!C4*100-100 -> -13.26249 | D4: ='Table 1.7 GDP KP 2024'!D4/'Table 1.2 GDP KP 2023'!D4*100-100 -> -19.41427 | E4: ='Table 1.7 GDP KP 2024'!E4/'Table 1.2 GDP KP 2023'!E4*100-100 -> -17.889769 | F4: ='Table 1.7 GDP KP 2024'!F4/'Table 1.2 GDP KP 2023'!F4*100-100 -> -15.787486 | G4: ='Table 1.7 GDP KP 2024'!G4/'Table 1.2 GDP KP 2023'!G4*100-100 -> -19.793385 | H4: ='Table 1.7 GDP KP 2024'!H4/'Table 1.2 GDP KP 2023'!H4*100-100 -> -12.676761 | I4: ='Table 1.7 GDP KP 2024'!I4/'Table 1.2 GDP KP 2023'!I4*100-100 -> -21.888279 | ... L4: ='Table 1.7 GDP KP 2024'!L4/'Table 1.2 GDP KP 2023'!L4*100-100 -> -18.067942
A5: Mining and Quarrying | B5: ='Table 1.7 GDP KP 2024'!B5/'Table 1.2 GDP KP 2023'!B5*100-100 -> 2.7705969 | C5: ='Table 1.7 GDP KP 2024'!C5/'Table 1.2 GDP KP 2023'!C5*100-100 -> 12.737601 | D5: ='Table 1.7 GDP KP 2024'!D5/'Table 1.2 GDP KP 2023'!D5*100-100 -> 7.7410797 | E5: ='Table 1.7 GDP KP 2024'!E5/'Table 1.2 GDP KP 2023'!E5*100-100 -> 32.788305 | F5: ='Table 1.7 GDP KP 2024'!F5/'Table 1.2 GDP KP 2023'!F5*100-100 -> 12.054848 | G5: ='Table 1.7 GDP KP 2024'!G5/'Table 1.2 GDP KP 2023'!G5*100-100 -> 12.515631 | H5: ='Table 1.7 GDP KP 2024'!H5/'Table 1.2 GDP KP 2023'!H5*100-100 -> 9.5593651 | I5: ='Table 1.7 GDP KP 2024'!I5/'Table 1.2 GDP KP 2023'!I5*100-100 -> 13.59527 | ... L5: ='Table 1.7 GDP KP 2024'!L5/'Table 1.2 GDP KP 2023'!L5*100-100 -> 12.97766
A6: Manufacturing | B6: ='Table 1.7 GDP KP 2024'!B6/'Table 1.2 GDP KP 2023'!B6*100-100 -> -0.55005775 | C6: ='Table 1.7 GDP KP 2024'!C6/'Table 1.2 GDP KP 2023'!C6*100-100 -> -2.9263497 | D6: ='Table 1.7 GDP KP 2024'!D6/'Table 1.2 GDP KP 2023'!D6*100-100 -> 2.8396316 | E6: ='Table 1.7 GDP KP 2024'!E6/'Table 1.2 GDP KP 2023'!E6*100-100 -> 0.45171679 | F6: ='Table 1.7 GDP KP 2024'!F6/'Table 1.2 GDP KP 2023'!F6*100-100 -> 0.11714307 | G6: ='Table 1.7 GDP KP 2024'!G6/'Table 1.2 GDP KP 2023'!G6*100-100 -> 2.3043072 | H6: ='Table 1.7 GDP KP 2024'!H6/'Table 1.2 GDP KP 2023'!H6*100-100 -> 0.50894429 | I6: ='Table 1.7 GDP KP 2024'!I6/'Table 1.2 GDP KP 2023'!I6*100-100 -> 13.710494 | ... L6: ='Table 1.7 GDP KP 2024'!L6/'Table 1.2 GDP KP 2023'!L6*100-100 -> 1.6798941
A7: Electricity, Gas, Steam and Air Conditioning Supply | B7: ='Table 1.7 GDP KP 2024'!B7/'Table 1.2 GDP KP 2023'!B7*100-100 -> -33.669835 | C7: ='Table 1.7 GDP KP 2024'!C7/'Table 1.2 GDP KP 2023'!C7*100-100 -> -43.075101 | D7: ='Table 1.7 GDP KP 2024'!D7/'Table 1.2 GDP KP 2023'!D7*100-100 -> 12.11526 | E7: ='Table 1.7 GDP KP 2024'!E7/'Table 1.2 GDP KP 2023'!E7*100-100 -> 32.260776 | F7: ='Table 1.7 GDP KP 2024'!F7/'Table 1.2 GDP KP 2023'!F7*100-100 -> -42.056514 | G7: ='Table 1.7 GDP KP 2024'!G7/'Table 1.2 GDP KP 2023'!G7*100-100 -> 46.551502 | H7: ='Table 1.7 GDP KP 2024'!H7/'Table 1.2 GDP KP 2023'!H7*100-100 -> 1.9164591 | I7: ='Table 1.7 GDP KP 2024'!I7/'Table 1.2 GDP KP 2023'!I7*100-100 -> 1.7739855 | ... L7: ='Table 1.7 GDP KP 2024'!L7/'Table 1.2 GDP KP 2023'!L7*100-100 -> 10.576009
